BEGIN:VCALENDAR
VERSION:2.0
PRODID:-//Ville de Bruay-La-Buissière - ECPv6.9.1//NONSGML v1.0//EN
CALSCALE:GREGORIAN
METHOD:PUBLISH
X-WR-CALNAME:Ville de Bruay-La-Buissière
X-ORIGINAL-URL:https://bruaylabuissiere.fr
X-WR-CALDESC:Évènements pour Ville de Bruay-La-Buissière
REFRESH-INTERVAL;VALUE=DURATION:PT1H
X-Robots-Tag:noindex
X-PUBLISHED-TTL:PT1H
BEGIN:VTIMEZONE
TZID:UTC
BEGIN:STANDARD
TZOFFSETFROM:+0000
TZOFFSETTO:+0000
TZNAME:UTC
DTSTART:20220101T000000
END:STANDARD
END:VTIMEZONE
BEGIN:VEVENT
DTSTART;TZID=UTC:20220202T140000
DTEND;TZID=UTC:20220601T130000
DTSTAMP:20260423T194503
CREATED:20220127T091207Z
LAST-MODIFIED:20220127T091558Z
UID:23596-1643810400-1654088400@bruaylabuissiere.fr
SUMMARY:Contes à la Médiathèque
DESCRIPTION:
URL:https://bruaylabuissiere.fr/event/contes-a-la-mediatheque/
LOCATION:Médiathèque Marcel Wacheux\, 82 rue du Périgord\, Bruay-La-Buissière\, 62700
CATEGORIES:Arts & Culture,Enfance,Jeunesse
ATTACH;FMTTYPE=image/jpeg:https://bruaylabuissiere.fr/wp-content/uploads/2022/01/2021-médiathèque-CONTES.jpg
END:VEVENT
BEGIN:VEVENT
DTSTART;VALUE=DATE:20220211
DTEND;VALUE=DATE:20220304
DTSTAMP:20260423T194503
CREATED:20210923T110425Z
LAST-MODIFIED:20210923T150110Z
UID:22481-1644620400-1646348399@bruaylabuissiere.fr
SUMMARY:Exposition « Animalement vôtre »
DESCRIPTION:Dans le cadre du Festival « Les Rototos » \n\n\n\n\nPoissons\, insectes\, fruits … Qui mange quoi ? A qui sont ces empreintes ? Plutôt poils ou écailles ? Puisque nous apprenons bien plus en nous amusant\, nous invitons les enfants de 3 à 6 ans à venir découvrir cette exposition du Pavillon des Sciences de Montbéliard\, qui propose d’explorer la diversité animale de manière ludique et ainsi trouver les réponses à ces questions. \nLe but ? Recueillir des indices tout au long d’un parcours composé de 4 îlots permettant de découvrir un animal mystère ! \nEntrée libre\nRéservation obligatoire pour les groupes\nRenseignements : 03 21 61 81 94
URL:https://bruaylabuissiere.fr/event/exposition-animalement-votre/
LOCATION:Médiathèque Marcel Wacheux\, 82 rue du Périgord\, Bruay-La-Buissière\, 62700
CATEGORIES:Arts & Culture,Enfance,Exposition,Jeunesse,Les rototos - Dès 3 ans
ATTACH;FMTTYPE=image/jpeg:https://bruaylabuissiere.fr/wp-content/uploads/2021/09/amicalement-vôtre.jpg
END:VEVENT
BEGIN:VEVENT
DTSTART;TZID=UTC:20220302T090000
DTEND;TZID=UTC:20220302T143000
DTSTAMP:20260423T194503
CREATED:20210923T160305Z
LAST-MODIFIED:20210923T160451Z
UID:22545-1646211600-1646231400@bruaylabuissiere.fr
SUMMARY:Le langage des oiseaux
DESCRIPTION:Dans le cadre du Festival « Les Rototos » \nCollectif Maw Maw \nDans un jardin de cabanes transparentes\, un oiseau dépose un message. Mais impossible de le décrypter. Que signifie-t-il ? D’où vient cette langue ?\nPour résoudre l’énigme\, il faut partir à l’aventure\, se laisser envoûter par une langue inventée par des jumelles\, suivre les traces d’un animal invisible\, retrouver une chouette millénaire…\nC’est un voyage à la fois sonore et visuel où se mêlent les musiques\net les voix Tsiganes ou Inuits\, les ombres et les dessins au fusain. Un spectacle ludique et poétique qui plonge le spectateur dans l’univers magique des mots. On les regarde alors s’ébrouer et s’envoler comme des oiseaux… \n\n\n\n\nDès 3 ans\n35 min Théâtre d’ombre\nHors abonnement\nTP : 4€ \nTR : 3€ \n\n\n\n\nMise en scène et écriture : Awena Burgess et Marie Girardin\nDistribution et crédits : Marie Girardin et Awena Burgess – Collectif Maw Maw
URL:https://bruaylabuissiere.fr/event/le-langage-des-oiseaux/
LOCATION:Le Temple\, 125 Rue Henri Hermant\, Bruay-La-Buissière\, 62700
CATEGORIES:Arts & Culture,Enfance,Jeunesse,Les rototos - Dès 3 ans,Théâtre
ATTACH;FMTTYPE=image/jpeg:https://bruaylabuissiere.fr/wp-content/uploads/2021/09/langage-oiseaux.jpg
END:VEVENT
BEGIN:VEVENT
DTSTART;TZID=UTC:20220305T083000
DTEND;TZID=UTC:20220305T143000
DTSTAMP:20260423T194503
CREATED:20210923T121722Z
LAST-MODIFIED:20210923T121722Z
UID:22511-1646469000-1646490600@bruaylabuissiere.fr
SUMMARY:Atelier « parent/enfant »
DESCRIPTION:Dans le cadre du Festival « Les Rototos » \n\n\n\n\nDe Baby-Yoga animé par Claire Lengagne \nà 9h30 et 11h (pour les 18-36 mois) et à 14h et 15h30 (pour les 3-6 ans) \nFormée par le RYE (Recherche dans le Yoga pour l’Éducation)\, « Claire – Yoga pour enfants » propose un yoga ludique où la joie\, le partage et la créativité sont les éléments principaux de la pratique. Un yoga qui convient à tous les petits et grands curieux\, débutants ou expérimentés. \nDurée : 1h\nGratuit sur réservation au 03 59 41 34 00
URL:https://bruaylabuissiere.fr/event/atelier-parent-enfant/
LOCATION:Le Temple\, 125 Rue Henri Hermant\, Bruay-La-Buissière\, 62700
CATEGORIES:Arts & Culture,Atelier,Enfance,Jeunesse,Les rototos - Dès 3 ans
ATTACH;FMTTYPE=image/jpeg:https://bruaylabuissiere.fr/wp-content/uploads/2021/09/Atelier-enfant-parent-Yoga.jpg
END:VEVENT
BEGIN:VEVENT
DTSTART;TZID=UTC:20220306T153000
DTEND;TZID=UTC:20220306T153000
DTSTAMP:20260423T194503
CREATED:20210923T105135Z
LAST-MODIFIED:20210923T105135Z
UID:22479-1646580600-1646580600@bruaylabuissiere.fr
SUMMARY:Les mal-aimés
DESCRIPTION:Dans le cadre du Festival « Les Rototos » \n\n\n\n\nClôture du Festival Les Rototos\nCiné-concert\nCourts métrages\nEn présence du pianiste Cyrille Aufaure \nNotre planète regorge de vie et il nous appartient de la sauvegarder. Mais cette protection peut-elle exister ou être efficace alors même que nous ignorons le rôle et le fonctionnement de la plupart des espèces\, ou pire\, que certaines nous font peur ? Ce programme de 4 courts métrages avec douceur et tendresse l’univers de certains de ces « mal-aimés ». \nCinéma Public Films \nDurée : 40 minutes\nÀ partir de 3 ans\nTarif : 3€
URL:https://bruaylabuissiere.fr/event/les-mal-aimes/
LOCATION:Cinéma Les étoiles\, 102 Rue du Périgord\, Bruay-la-Buissière\, 62700
CATEGORIES:Arts & Culture,Cinéma,Enfance,Jeunesse,Les rototos - Dès 3 ans
ATTACH;FMTTYPE=image/jpeg:https://bruaylabuissiere.fr/wp-content/uploads/2021/09/les-mal-aimés-2.jpg
END:VEVENT
END:VCALENDAR