BEGIN:VCALENDAR
VERSION:2.0
PRODID:-//Ville de Bruay-La-Buissière - ECPv6.9.1//NONSGML v1.0//EN
CALSCALE:GREGORIAN
METHOD:PUBLISH
X-WR-CALNAME:Ville de Bruay-La-Buissière
X-ORIGINAL-URL:https://bruaylabuissiere.fr
X-WR-CALDESC:Évènements pour Ville de Bruay-La-Buissière
REFRESH-INTERVAL;VALUE=DURATION:PT1H
X-Robots-Tag:noindex
X-PUBLISHED-TTL:PT1H
BEGIN:VTIMEZONE
TZID:UTC
BEGIN:STANDARD
TZOFFSETFROM:+0000
TZOFFSETTO:+0000
TZNAME:UTC
DTSTART:20220101T000000
END:STANDARD
END:VTIMEZONE
BEGIN:VEVENT
DTSTART;TZID=UTC:20220704T080000
DTEND;TZID=UTC:20220825T170000
DTSTAMP:20260423T114530
CREATED:20220608T063311Z
LAST-MODIFIED:20220608T063311Z
UID:24404-1656921600-1661446800@bruaylabuissiere.fr
SUMMARY:Vacances d'été 2022
DESCRIPTION:
URL:https://bruaylabuissiere.fr/event/vacances-dete-2022/
CATEGORIES:Jeunesse,sports
ATTACH;FMTTYPE=image/jpeg:https://bruaylabuissiere.fr/wp-content/uploads/2022/06/2022-sports-vacances-sportives-AVRIL.jpg
ORGANIZER;CN="Service des sports":MAILTO:service.sports@bruaylabuissiere.fr
END:VEVENT
BEGIN:VEVENT
DTSTART;VALUE=DATE:20220706
DTEND;VALUE=DATE:20220826
DTSTAMP:20260423T114530
CREATED:20220608T064458Z
LAST-MODIFIED:20220608T064458Z
UID:24411-1657065600-1661471999@bruaylabuissiere.fr
SUMMARY:Sport été
DESCRIPTION:
URL:https://bruaylabuissiere.fr/event/sport-ete/
CATEGORIES:Jeunesse,sports
ATTACH;FMTTYPE=image/jpeg:https://bruaylabuissiere.fr/wp-content/uploads/2022/06/Couv-sports-été-22.jpg
ORGANIZER;CN="Service des sports":MAILTO:service.sports@bruaylabuissiere.fr
END:VEVENT
BEGIN:VEVENT
DTSTART;TZID=UTC:20220713T140000
DTEND;TZID=UTC:20220831T180000
DTSTAMP:20260423T114530
CREATED:20220712T081237Z
LAST-MODIFIED:20220712T081237Z
UID:24663-1657720800-1661968800@bruaylabuissiere.fr
SUMMARY:Jeux d'été
DESCRIPTION:
URL:https://bruaylabuissiere.fr/event/jeux-dete/
LOCATION:Médiathèque Marcel Wacheux\, 82 rue du Périgord\, Bruay-La-Buissière\, 62700
CATEGORIES:Arts & Culture,Enfance,Jeunesse
ATTACH;FMTTYPE=image/jpeg:https://bruaylabuissiere.fr/wp-content/uploads/2022/07/Jeux-Médiathèque.jpg
END:VEVENT
BEGIN:VEVENT
DTSTART;TZID=UTC:20220718T103000
DTEND;TZID=UTC:20220819T153000
DTSTAMP:20260423T114530
CREATED:20220707T133015Z
LAST-MODIFIED:20220707T133030Z
UID:24652-1658140200-1660923000@bruaylabuissiere.fr
SUMMARY:Kas Rumba les Tortillas !
DESCRIPTION:
URL:https://bruaylabuissiere.fr/event/kas-rumba-les-tortillas/
LOCATION:Espace Wallard\, 325\, rue René Wallard\, Bruay-la-buissière\, 62700
CATEGORIES:Asso,Enfance,Jeunesse,Théatre d'objets
ATTACH;FMTTYPE=image/jpeg:https://bruaylabuissiere.fr/wp-content/uploads/2022/07/Kas-Rumba-les-Tortillas.jpg
ORGANIZER;CN="La Cie Micromega":MAILTO:micromega62@gmail.com
END:VEVENT
BEGIN:VEVENT
DTSTART;TZID=UTC:20220808T100000
DTEND;TZID=UTC:20220814T190000
DTSTAMP:20260423T114530
CREATED:20220617T083622Z
LAST-MODIFIED:20220617T084430Z
UID:24545-1659952800-1660503600@bruaylabuissiere.fr
SUMMARY:Semaine des enfants
DESCRIPTION:Quartier de la Gare\nSamedi 13/08 : spectacle et goûter offert par la municipalité
URL:https://bruaylabuissiere.fr/event/24545/
CATEGORIES:Enfance,Jeunesse
ATTACH;FMTTYPE=image/jpeg:https://bruaylabuissiere.fr/wp-content/uploads/2022/06/A3-Semaine-des-enfants-réseaux.jpg
END:VEVENT
BEGIN:VEVENT
DTSTART;TZID=UTC:20220814T120000
DTEND;TZID=UTC:20220814T180000
DTSTAMP:20260423T114530
CREATED:20220615T064043Z
LAST-MODIFIED:20220615T064043Z
UID:24480-1660478400-1660500000@bruaylabuissiere.fr
SUMMARY:Fête champêtre
DESCRIPTION:Rue de Casablanca (quartier de la Gare) \nSur inscriptions : 03 21 64 56 00
URL:https://bruaylabuissiere.fr/event/fete-champetre-3/
CATEGORIES:Enfance,Jeunesse
ATTACH;FMTTYPE=image/jpeg:https://bruaylabuissiere.fr/wp-content/uploads/2022/06/A3-FÊTE-CHAMPÊTRE-14-août.jpg
END:VEVENT
BEGIN:VEVENT
DTSTART;TZID=UTC:20220827T100000
DTEND;TZID=UTC:20220827T190000
DTSTAMP:20260423T114530
CREATED:20220617T084008Z
LAST-MODIFIED:20220617T084008Z
UID:24550-1661594400-1661626800@bruaylabuissiere.fr
SUMMARY:Journée des enfants
DESCRIPTION:
URL:https://bruaylabuissiere.fr/event/journee-des-enfants/
LOCATION:Aire de loisirs de Lavolville\, rue de la Lawe\, Bruay-La-Buissière\, 62700
CATEGORIES:Enfance,Jeunesse
ATTACH;FMTTYPE=image/jpeg:https://bruaylabuissiere.fr/wp-content/uploads/2022/06/A3-Semaine-des-enfants-réseaux.jpg
END:VEVENT
BEGIN:VEVENT
DTSTART;TZID=UTC:20220827T190000
DTEND;TZID=UTC:20220828T000000
DTSTAMP:20260423T114530
CREATED:20220615T074040Z
LAST-MODIFIED:20220615T074106Z
UID:24486-1661626800-1661644800@bruaylabuissiere.fr
SUMMARY:Fête champêtre nocturne
DESCRIPTION:Sur inscriptions : 03 21 64 56 00 \n 
URL:https://bruaylabuissiere.fr/event/fete-champetre-nocturne/
LOCATION:Aire de loisirs de Lavolville\, rue de la Lawe\, Bruay-La-Buissière\, 62700
CATEGORIES:Enfance,Jeunesse
ATTACH;FMTTYPE=image/jpeg:https://bruaylabuissiere.fr/wp-content/uploads/2022/06/FÊTE-CHAMPÊTRE-27-août.jpg
END:VEVENT
END:VCALENDAR