BEGIN:VCALENDAR
VERSION:2.0
PRODID:-//Ville de Bruay-La-Buissière - ECPv6.9.1//NONSGML v1.0//EN
CALSCALE:GREGORIAN
METHOD:PUBLISH
X-ORIGINAL-URL:https://bruaylabuissiere.fr
X-WR-CALDESC:Évènements pour Ville de Bruay-La-Buissière
REFRESH-INTERVAL;VALUE=DURATION:PT1H
X-Robots-Tag:noindex
X-PUBLISHED-TTL:PT1H
BEGIN:VTIMEZONE
TZID:UTC
BEGIN:STANDARD
TZOFFSETFROM:+0000
TZOFFSETTO:+0000
TZNAME:UTC
DTSTART:20240101T000000
END:STANDARD
END:VTIMEZONE
BEGIN:VEVENT
DTSTART;TZID=UTC:20240205T093000
DTEND;TZID=UTC:20240614T113000
DTSTAMP:20260422T011050
CREATED:20240122T105251Z
LAST-MODIFIED:20240122T110525Z
UID:28543-1707125400-1718364600@bruaylabuissiere.fr
SUMMARY:Baby sport
DESCRIPTION:
URL:https://bruaylabuissiere.fr/event/baby-sport/
CATEGORIES:Enfance,Jeunesse,sports
ATTACH;FMTTYPE=image/jpeg:https://bruaylabuissiere.fr/wp-content/uploads/2024/01/Affiche-baby-sport-2023-2-scaled.jpg
ORGANIZER;CN="Service des sports":MAILTO:service.sports@bruaylabuissiere.fr
END:VEVENT
BEGIN:VEVENT
DTSTART;TZID=UTC:20240605T153000
DTEND;TZID=UTC:20240605T173000
DTSTAMP:20260422T011050
CREATED:20231208T081658Z
LAST-MODIFIED:20231208T081658Z
UID:28301-1717601400-1717608600@bruaylabuissiere.fr
SUMMARY:L'heure du conte
DESCRIPTION:
URL:https://bruaylabuissiere.fr/event/lheure-du-conte-11/
LOCATION:Médiathèque Marcel Wacheux\, 82 rue du Périgord\, Bruay-La-Buissière\, 62700
CATEGORIES:Arts & Culture,Enfance,Jeunesse
ATTACH;FMTTYPE=image/jpeg:https://bruaylabuissiere.fr/wp-content/uploads/2023/12/2023-mediatheque-CONTES.jpg
END:VEVENT
BEGIN:VEVENT
DTSTART;TZID=UTC:20240622T100000
DTEND;TZID=UTC:20240622T180000
DTSTAMP:20260422T011050
CREATED:20240524T091140Z
LAST-MODIFIED:20240528T064638Z
UID:29525-1719050400-1719079200@bruaylabuissiere.fr
SUMMARY:Fête de la Cité Educative
DESCRIPTION:
URL:https://bruaylabuissiere.fr/event/fete-de-la-cite-educative/
LOCATION:Stade parc\, 429 rue Roger Salengro\, Bruay-La-Buissière\, 62700
CATEGORIES:Atelier,Cirque,Echanges/rencontres,Enfance,Exposition,Intergénérationnel,Jeu,Jeunesse,sports
ATTACH;FMTTYPE=image/jpeg:https://bruaylabuissiere.fr/wp-content/uploads/2024/05/A4-Fete-de-la-Cite-Educative-2024-1-scaled.jpg
END:VEVENT
END:VCALENDAR