BEGIN:VCALENDAR
VERSION:2.0
PRODID:-//Ville de Bruay-La-Buissière - ECPv6.9.1//NONSGML v1.0//EN
CALSCALE:GREGORIAN
METHOD:PUBLISH
X-ORIGINAL-URL:https://bruaylabuissiere.fr
X-WR-CALDESC:Évènements pour Ville de Bruay-La-Buissière
REFRESH-INTERVAL;VALUE=DURATION:PT1H
X-Robots-Tag:noindex
X-PUBLISHED-TTL:PT1H
BEGIN:VTIMEZONE
TZID:UTC
BEGIN:STANDARD
TZOFFSETFROM:+0000
TZOFFSETTO:+0000
TZNAME:UTC
DTSTART:20240101T000000
END:STANDARD
END:VTIMEZONE
BEGIN:VEVENT
DTSTART;TZID=UTC:20240706T100000
DTEND;TZID=UTC:20240706T120000
DTSTAMP:20260422T011049
CREATED:20231208T080558Z
LAST-MODIFIED:20231208T080558Z
UID:28288-1720260000-1720267200@bruaylabuissiere.fr
SUMMARY:Atelier des petits
DESCRIPTION:
URL:https://bruaylabuissiere.fr/event/atelier-des-petits-3/
LOCATION:Médiathèque Marcel Wacheux\, 82 rue du Périgord\, Bruay-La-Buissière\, 62700
CATEGORIES:Arts & Culture,Atelier,Enfance,Jeunesse
ATTACH;FMTTYPE=image/jpeg:https://bruaylabuissiere.fr/wp-content/uploads/2023/12/2023-mediatheque-ATELIERS-DES-PETITS.jpg
END:VEVENT
BEGIN:VEVENT
DTSTART;TZID=UTC:20240706T130000
DTEND;TZID=UTC:20240710T200000
DTSTAMP:20260422T011049
CREATED:20240701T150423Z
LAST-MODIFIED:20240701T150852Z
UID:29837-1720270800-1720641600@bruaylabuissiere.fr
SUMMARY:Quartier d'été
DESCRIPTION:
URL:https://bruaylabuissiere.fr/event/quartier-dete/
LOCATION:Quartier Basly – Terrasses\, rue Victor Hugo\, Bruay-La-Buissière\, 62700\, France
CATEGORIES:Enfance,Jeu,Jeunesse,sports
ATTACH;FMTTYPE=image/png:https://bruaylabuissiere.fr/wp-content/uploads/2024/07/Affiche-quartier-dete-2024.png
ORGANIZER;CN="Service des sports":MAILTO:service.sports@bruaylabuissiere.fr
END:VEVENT
BEGIN:VEVENT
DTSTART;TZID=UTC:20240707T120000
DTEND;TZID=UTC:20240707T180000
DTSTAMP:20260422T011049
CREATED:20240627T135437Z
LAST-MODIFIED:20240627T135437Z
UID:29831-1720353600-1720375200@bruaylabuissiere.fr
SUMMARY:Fête champêtre
DESCRIPTION:
URL:https://bruaylabuissiere.fr/event/fete-champetre-7/
LOCATION:Quartier Basly – Terrasses\, rue Victor Hugo\, Bruay-La-Buissière\, 62700\, France
CATEGORIES:Echanges/rencontres,Enfance,Intergénérationnel,Jeu,Jeunesse
ATTACH;FMTTYPE=image/jpeg:https://bruaylabuissiere.fr/wp-content/uploads/2024/06/A3-FETE-CHAMPETRE-1-copie-3.jpg
END:VEVENT
BEGIN:VEVENT
DTSTART;TZID=UTC:20240708T090000
DTEND;TZID=UTC:20240708T170000
DTSTAMP:20260422T011049
CREATED:20240701T150600Z
LAST-MODIFIED:20240701T150600Z
UID:29840-1720429200-1720458000@bruaylabuissiere.fr
SUMMARY:Sortie à Wingles
DESCRIPTION:
URL:https://bruaylabuissiere.fr/event/sortie-a-wingles/
CATEGORIES:Jeunesse,sports
ATTACH;FMTTYPE=image/png:https://bruaylabuissiere.fr/wp-content/uploads/2024/07/Affiche-quartier-dete-2024.png
ORGANIZER;CN="Service des sports":MAILTO:service.sports@bruaylabuissiere.fr
END:VEVENT
BEGIN:VEVENT
DTSTART;TZID=UTC:20240711T090000
DTEND;TZID=UTC:20240711T170000
DTSTAMP:20260422T011049
CREATED:20240701T150659Z
LAST-MODIFIED:20240701T150659Z
UID:29842-1720688400-1720717200@bruaylabuissiere.fr
SUMMARY:Sortie à Ambleteuse
DESCRIPTION:
URL:https://bruaylabuissiere.fr/event/sortie-a-ambleteuse/
CATEGORIES:Jeunesse,sports
ATTACH;FMTTYPE=image/png:https://bruaylabuissiere.fr/wp-content/uploads/2024/07/Affiche-quartier-dete-2024.png
ORGANIZER;CN="Service des sports":MAILTO:service.sports@bruaylabuissiere.fr
END:VEVENT
BEGIN:VEVENT
DTSTART;VALUE=DATE:20240713
DTEND;VALUE=DATE:20240723
DTSTAMP:20260422T011049
CREATED:20240712T072802Z
LAST-MODIFIED:20240712T073530Z
UID:29926-1720828800-1721692799@bruaylabuissiere.fr
SUMMARY:Fête foraine
DESCRIPTION:Bénéficiez des réductions sur les manèges participants les 13 et 17 juillet en imprimant le coupon ICI.
URL:https://bruaylabuissiere.fr/event/fete-foraine-5/
LOCATION:Place Marmottan\, Place Marmottan\, Bruay-La-Buissière\, 62700
CATEGORIES:Fête foraine,Intergénérationnel,Jeu,Jeunesse
ATTACH;FMTTYPE=image/png:https://bruaylabuissiere.fr/wp-content/uploads/2024/07/Affiche-Fete-Foraine.png
END:VEVENT
END:VCALENDAR