BEGIN:VCALENDAR
VERSION:2.0
PRODID:-//Ville de Bruay-La-Buissière - ECPv6.9.1//NONSGML v1.0//EN
CALSCALE:GREGORIAN
METHOD:PUBLISH
X-ORIGINAL-URL:https://bruaylabuissiere.fr
X-WR-CALDESC:Évènements pour Ville de Bruay-La-Buissière
REFRESH-INTERVAL;VALUE=DURATION:PT1H
X-Robots-Tag:noindex
X-PUBLISHED-TTL:PT1H
BEGIN:VTIMEZONE
TZID:UTC
BEGIN:STANDARD
TZOFFSETFROM:+0000
TZOFFSETTO:+0000
TZNAME:UTC
DTSTART:20200101T000000
END:STANDARD
END:VTIMEZONE
BEGIN:VEVENT
DTSTART;TZID=UTC:20200214T230000
DTEND;TZID=UTC:20200227T230000
DTSTAMP:20260425T171202
CREATED:20200210T081718Z
LAST-MODIFIED:20200210T081718Z
UID:18139-1581721200-1582844400@bruaylabuissiere.fr
SUMMARY:Foire d'hiver
DESCRIPTION:
URL:https://bruaylabuissiere.fr/event/foire-dhiver/
CATEGORIES:Jeunesse
ATTACH;FMTTYPE=image/jpeg:https://bruaylabuissiere.fr/wp-content/uploads/2020/02/2020-quartier-de-la-gare-foire-dhiver-copie.jpg
END:VEVENT
BEGIN:VEVENT
DTSTART;TZID=UTC:20200218T140000
DTEND;TZID=UTC:20200227T100000
DTSTAMP:20260425T171202
CREATED:20200121T143824Z
LAST-MODIFIED:20200121T143824Z
UID:18054-1582034400-1582797600@bruaylabuissiere.fr
SUMMARY:Batoa l'africain
DESCRIPTION:Traitant du sujet environnemental\, le thème abordé situe l’histoire au cœur du continent africain :\n« Le soleil ayant disparu des terres du peuple batabwa\, le jeune Batoa a pour mission de retrouver l’astre de vie et effectue un voyage extraordinaire à la rencontre de personnages baroques\, dans un environnement merveilleux… » \nLes 19\, 20\, 26\, et 27 février à 10h30\n18\, 19\, 20\, 21 et 25 février à 15h \nRéservations au 07 54 81 55 03
URL:https://bruaylabuissiere.fr/event/batoa-lafricain/
LOCATION:Espace Wallard\, 325\, rue René Wallard\, Bruay-la-buissière\, 62700
CATEGORIES:Arts & Culture,Enfance,Jeunesse,Théâtre,Théatre d'objets
ATTACH;FMTTYPE=image/jpeg:https://bruaylabuissiere.fr/wp-content/uploads/2020/01/Microméga.jpg
ORGANIZER;CN="La Cie Micromega":MAILTO:micromega62@gmail.com
END:VEVENT
END:VCALENDAR