BEGIN:VCALENDAR
VERSION:2.0
PRODID:-//Ville de Bruay-La-Buissière - ECPv6.9.1//NONSGML v1.0//EN
CALSCALE:GREGORIAN
METHOD:PUBLISH
X-WR-CALNAME:Ville de Bruay-La-Buissière
X-ORIGINAL-URL:https://bruaylabuissiere.fr
X-WR-CALDESC:Évènements pour Ville de Bruay-La-Buissière
REFRESH-INTERVAL;VALUE=DURATION:PT1H
X-Robots-Tag:noindex
X-PUBLISHED-TTL:PT1H
BEGIN:VTIMEZONE
TZID:UTC
BEGIN:STANDARD
TZOFFSETFROM:+0000
TZOFFSETTO:+0000
TZNAME:UTC
DTSTART:20200101T000000
END:STANDARD
END:VTIMEZONE
BEGIN:VEVENT
DTSTART;TZID=UTC:20200909T133000
DTEND;TZID=UTC:20201219T160000
DTSTAMP:20260425T032725
CREATED:20200831T155524Z
LAST-MODIFIED:20200831T155524Z
UID:19762-1599658200-1608393600@bruaylabuissiere.fr
SUMMARY:L'heure du conte et spectacles de contes
DESCRIPTION:
URL:https://bruaylabuissiere.fr/event/lheure-du-conte-et-spectacles-de-contes/
LOCATION:Médiathèque Marcel Wacheux\, 82 rue du Périgord\, Bruay-La-Buissière\, 62700
CATEGORIES:Arts & Culture,Enfance,Jeunesse
ATTACH;FMTTYPE=image/jpeg:https://bruaylabuissiere.fr/wp-content/uploads/2020/08/A3-contes.jpg
END:VEVENT
BEGIN:VEVENT
DTSTART;TZID=UTC:20201007T070000
DTEND;TZID=UTC:20210127T110000
DTSTAMP:20260425T032725
CREATED:20201007T134206Z
LAST-MODIFIED:20201007T134237Z
UID:20050-1602054000-1611745200@bruaylabuissiere.fr
SUMMARY:Découverte et initiation au skateboard
DESCRIPTION:
URL:https://bruaylabuissiere.fr/event/decouverte-et-initiation-au-skateboard/
LOCATION:Skate-park\, rue Vincent Auriol\, Bruay-La-Buissière\, 62700\, France
CATEGORIES:Jeunesse,sports
ATTACH;FMTTYPE=image/jpeg:https://bruaylabuissiere.fr/wp-content/uploads/2020/10/2020-sports-skateboard.jpg
ORGANIZER;CN="Service des sports":MAILTO:service.sports@bruaylabuissiere.fr
END:VEVENT
END:VCALENDAR