BEGIN:VCALENDAR
VERSION:2.0
PRODID:-//Ville de Bruay-La-Buissière - ECPv6.9.1//NONSGML v1.0//EN
CALSCALE:GREGORIAN
METHOD:PUBLISH
X-ORIGINAL-URL:https://bruaylabuissiere.fr
X-WR-CALDESC:Évènements pour Ville de Bruay-La-Buissière
REFRESH-INTERVAL;VALUE=DURATION:PT1H
X-Robots-Tag:noindex
X-PUBLISHED-TTL:PT1H
BEGIN:VTIMEZONE
TZID:UTC
BEGIN:STANDARD
TZOFFSETFROM:+0000
TZOFFSETTO:+0000
TZNAME:UTC
DTSTART:20210101T000000
END:STANDARD
END:VTIMEZONE
BEGIN:VEVENT
DTSTART;VALUE=DATE:20210409
DTEND;VALUE=DATE:20210426
DTSTAMP:20260424T191128
CREATED:20210415T091741Z
LAST-MODIFIED:20210415T091741Z
UID:21463-1618005600-1619387999@bruaylabuissiere.fr
SUMMARY:Vacances de printemps de l'Office de Tourisme Béthune-Bruay
DESCRIPTION:Découvrez le programme des vacances de printemps de l’Office de Tourisme Béthune-Bruay du 10 au 25 avril 2021 en cliquant sur le lien ci-dessous. \nProgramme des vacances \nDes idées pour s’oxygéner\, occuper les enfants\, découvrir le patrimoine de chez soi et s’amuser en famille.
URL:https://bruaylabuissiere.fr/event/vacances-de-printemps-de-loffice-de-tourisme-bethune-bruay/
CATEGORIES:Enfance,Jeunesse
ATTACH;FMTTYPE=image/jpeg:https://bruaylabuissiere.fr/wp-content/uploads/2021/04/vacances-bb-tourisme-2021.jpg
END:VEVENT
END:VCALENDAR