BEGIN:VCALENDAR
VERSION:2.0
PRODID:-//Ville de Bruay-La-Buissière - ECPv6.9.1//NONSGML v1.0//EN
CALSCALE:GREGORIAN
METHOD:PUBLISH
X-ORIGINAL-URL:https://bruaylabuissiere.fr
X-WR-CALDESC:Évènements pour Ville de Bruay-La-Buissière
REFRESH-INTERVAL;VALUE=DURATION:PT1H
X-Robots-Tag:noindex
X-PUBLISHED-TTL:PT1H
BEGIN:VTIMEZONE
TZID:UTC
BEGIN:STANDARD
TZOFFSETFROM:+0000
TZOFFSETTO:+0000
TZNAME:UTC
DTSTART:20210101T000000
END:STANDARD
END:VTIMEZONE
BEGIN:VEVENT
DTSTART;VALUE=DATE:20210711
DTEND;VALUE=DATE:20210828
DTSTAMP:20260424T123132
CREATED:20210611T151059Z
LAST-MODIFIED:20210723T112633Z
UID:21757-1626040800-1630101599@bruaylabuissiere.fr
SUMMARY:Sports été
DESCRIPTION:Découvrez tout ce que le service des Sports vous a concocté pour passé un été dynamique et sportif ! \n/!\ Le centre sportif  organisé du 26 au 30 juillet est annulé.\nLes activités gratuites de « Vacances sportives » sont maintenues. \nProgramme
URL:https://bruaylabuissiere.fr/event/sports-ete/
CATEGORIES:Jeunesse,sports
ATTACH;FMTTYPE=image/jpeg:https://bruaylabuissiere.fr/wp-content/uploads/2021/06/sports-ete-2021-fly-apolline.jpg
ORGANIZER;CN="Service des sports":MAILTO:service.sports@bruaylabuissiere.fr
END:VEVENT
BEGIN:VEVENT
DTSTART;TZID=UTC:20210808T100000
DTEND;TZID=UTC:20210822T160000
DTSTAMP:20260424T123132
CREATED:20210607T221223Z
LAST-MODIFIED:20210818T085647Z
UID:21722-1628416800-1629648000@bruaylabuissiere.fr
SUMMARY:Fêtes champêtres
DESCRIPTION:Avec le succès rencontré l’année dernière\, la municipalité réitère ses fêtes champêtres avec 3 nouvelles dates ! \nRetrouvez les de 12h à 18h les dimanches 8 août au Parc de la Lawe et le 22 août au Stade-Parc\, sur le terrain de football près du Skate-Parc. \nSur inscription : 06 10 04 62 08
URL:https://bruaylabuissiere.fr/event/fetes-champetres/
CATEGORIES:Concert,Echanges/rencontres,Intergénérationnel,Jeunesse,Séniors,Spectacles & Concerts
ATTACH;FMTTYPE=image/jpeg:https://bruaylabuissiere.fr/wp-content/uploads/2021/06/FÊTE-CHAMPÊTRE.jpg
END:VEVENT
END:VCALENDAR