BEGIN:VCALENDAR
VERSION:2.0
PRODID:-//Ville de Bruay-La-Buissière - ECPv6.9.1//NONSGML v1.0//EN
CALSCALE:GREGORIAN
METHOD:PUBLISH
X-ORIGINAL-URL:https://bruaylabuissiere.fr
X-WR-CALDESC:Évènements pour Ville de Bruay-La-Buissière
REFRESH-INTERVAL;VALUE=DURATION:PT1H
X-Robots-Tag:noindex
X-PUBLISHED-TTL:PT1H
BEGIN:VTIMEZONE
TZID:UTC
BEGIN:STANDARD
TZOFFSETFROM:+0000
TZOFFSETTO:+0000
TZNAME:UTC
DTSTART:20210101T000000
END:STANDARD
END:VTIMEZONE
BEGIN:VEVENT
DTSTART;TZID=UTC:20211006T070000
DTEND;TZID=UTC:20211231T170000
DTSTAMP:20260424T053620
CREATED:20211006T104737Z
LAST-MODIFIED:20211006T104737Z
UID:22653-1633503600-1640970000@bruaylabuissiere.fr
SUMMARY:Espace Ludothèque
DESCRIPTION:
URL:https://bruaylabuissiere.fr/event/espace-ludotheque/
LOCATION:Médiathèque Marcel Wacheux\, 82 rue du Périgord\, Bruay-La-Buissière\, 62700
CATEGORIES:Arts & Culture,Echanges/rencontres,Enfance,Jeunesse
ATTACH;FMTTYPE=image/jpeg:https://bruaylabuissiere.fr/wp-content/uploads/2021/10/2021-médiathèque-ludothèque.jpg
END:VEVENT
BEGIN:VEVENT
DTSTART;TZID=UTC:20211129T073000
DTEND;TZID=UTC:20211214T110000
DTSTAMP:20260424T053620
CREATED:20211129T142959Z
LAST-MODIFIED:20211129T142959Z
UID:23003-1638171000-1639479600@bruaylabuissiere.fr
SUMMARY:Collecte de jouets
DESCRIPTION:Vous pouvez déposer vos jouets\, livres et jeux les mardis et mercredis de 8h30 à 12h00 au local des Restos du coeur\, rue Jules Marmottan (ancienne caserne des pompiers). \nRenseignements au 06 30 36 65 36
URL:https://bruaylabuissiere.fr/event/collecte-de-jouets-3/
CATEGORIES:Asso,Enfance,Jeunesse
ATTACH;FMTTYPE=image/jpeg:https://bruaylabuissiere.fr/wp-content/uploads/2021/11/Collecte-jouets.jpg
END:VEVENT
BEGIN:VEVENT
DTSTART;TZID=UTC:20211211T140000
DTEND;TZID=UTC:20211223T190000
DTSTAMP:20260424T053620
CREATED:20211116T135952Z
LAST-MODIFIED:20211116T135952Z
UID:22914-1639231200-1640286000@bruaylabuissiere.fr
SUMMARY:Marché de Noël
DESCRIPTION:De 16h à 20h en semaine\nDe 15h à 20h le week-end \nSamedi 11 décembre à 18h : inauguration\nJeudi 23 décembre à 18h : parade de Noël dans les rues du centre ville
URL:https://bruaylabuissiere.fr/event/marche-de-noel-3/
LOCATION:Esplanade Mitterand\, Esplanade Mitterand\, Bruay-La-Buissière\, 62700\, France
CATEGORIES:Enfance,Intergénérationnel,Jeunesse,Séniors
ATTACH;FMTTYPE=image/jpeg:https://bruaylabuissiere.fr/wp-content/uploads/2021/11/A3-NOEL.jpg
END:VEVENT
BEGIN:VEVENT
DTSTART;TZID=UTC:20211211T140000
DTEND;TZID=UTC:20211223T190000
DTSTAMP:20260424T053620
CREATED:20211213T112644Z
LAST-MODIFIED:20211213T112956Z
UID:23141-1639231200-1640286000@bruaylabuissiere.fr
SUMMARY:Calendrier des manifestations de Noël
DESCRIPTION:Marché de Noël ouvert de 16h à 20h en semaine et dès 15h le week-end
URL:https://bruaylabuissiere.fr/event/calendrier-des-manifestations-de-noel/
LOCATION:Esplanade Mitterand\, Esplanade Mitterand\, Bruay-La-Buissière\, 62700\, France
CATEGORIES:Enfance,Jeunesse
ATTACH;FMTTYPE=image/jpeg:https://bruaylabuissiere.fr/wp-content/uploads/2021/12/Manifestations-Noël.jpg
END:VEVENT
END:VCALENDAR