BEGIN:VCALENDAR
VERSION:2.0
PRODID:-//Ville de Bruay-La-Buissière - ECPv6.9.1//NONSGML v1.0//EN
CALSCALE:GREGORIAN
METHOD:PUBLISH
X-WR-CALNAME:Ville de Bruay-La-Buissière
X-ORIGINAL-URL:https://bruaylabuissiere.fr
X-WR-CALDESC:Évènements pour Ville de Bruay-La-Buissière
REFRESH-INTERVAL;VALUE=DURATION:PT1H
X-Robots-Tag:noindex
X-PUBLISHED-TTL:PT1H
BEGIN:VTIMEZONE
TZID:UTC
BEGIN:STANDARD
TZOFFSETFROM:+0000
TZOFFSETTO:+0000
TZNAME:UTC
DTSTART:20220101T000000
END:STANDARD
END:VTIMEZONE
BEGIN:VEVENT
DTSTART;TZID=UTC:20220202T140000
DTEND;TZID=UTC:20220601T130000
DTSTAMP:20260424T005036
CREATED:20220127T091207Z
LAST-MODIFIED:20220127T091558Z
UID:23596-1643810400-1654088400@bruaylabuissiere.fr
SUMMARY:Contes à la Médiathèque
DESCRIPTION:
URL:https://bruaylabuissiere.fr/event/contes-a-la-mediatheque/
LOCATION:Médiathèque Marcel Wacheux\, 82 rue du Périgord\, Bruay-La-Buissière\, 62700
CATEGORIES:Arts & Culture,Enfance,Jeunesse
ATTACH;FMTTYPE=image/jpeg:https://bruaylabuissiere.fr/wp-content/uploads/2022/01/2021-médiathèque-CONTES.jpg
END:VEVENT
BEGIN:VEVENT
DTSTART;VALUE=DATE:20220208
DTEND;VALUE=DATE:20220223
DTSTAMP:20260424T005036
CREATED:20210923T100509Z
LAST-MODIFIED:20210923T150020Z
UID:22471-1644361200-1645570799@bruaylabuissiere.fr
SUMMARY:L’odyssée de Choum
DESCRIPTION:Dans le cadre du Festival « Les Rototos » \nCourts métrages \n\n\n\n\nChoum\, la petite chouette vient juste d’éclore lorsque la tempête la pousse hors du nid. Faisant rouler le second œuf de la nichée\, la voilà qui s’élance contre vents et marées\, bien décidée à trouver sa maman. \nDurée : 38 minutes\nÀ partir de 3 ans\nTarif unique : 3€ \nLes films du Préau
URL:https://bruaylabuissiere.fr/event/lodyssee-de-choum/
LOCATION:Cinéma Les étoiles\, 102 Rue du Périgord\, Bruay-la-Buissière\, 62700
CATEGORIES:Arts & Culture,Cinéma,Enfance,Jeunesse,Les rototos - Dès 3 ans
ATTACH;FMTTYPE=image/jpeg:https://bruaylabuissiere.fr/wp-content/uploads/2021/09/l-odyssee-de-choum.jpg
END:VEVENT
BEGIN:VEVENT
DTSTART;TZID=UTC:20220209T093000
DTEND;TZID=UTC:20220216T140000
DTSTAMP:20260424T005036
CREATED:20220113T083242Z
LAST-MODIFIED:20220113T083242Z
UID:23401-1644399000-1645020000@bruaylabuissiere.fr
SUMMARY:Chauffe qui peut
DESCRIPTION:
URL:https://bruaylabuissiere.fr/event/chauffe-qui-peut/
LOCATION:Espace Wallard\, 325\, rue René Wallard\, Bruay-la-buissière\, 62700
CATEGORIES:Arts & Culture,Asso,Enfance,Jeunesse
ATTACH;FMTTYPE=image/jpeg:https://bruaylabuissiere.fr/wp-content/uploads/2022/01/Chauffe-qui-peut-2022.jpg
ORGANIZER;CN="La Cie Micromega":MAILTO:micromega62@gmail.com
END:VEVENT
BEGIN:VEVENT
DTSTART;VALUE=DATE:20220211
DTEND;VALUE=DATE:20220304
DTSTAMP:20260424T005036
CREATED:20210923T110425Z
LAST-MODIFIED:20210923T150110Z
UID:22481-1644620400-1646348399@bruaylabuissiere.fr
SUMMARY:Exposition « Animalement vôtre »
DESCRIPTION:Dans le cadre du Festival « Les Rototos » \n\n\n\n\nPoissons\, insectes\, fruits … Qui mange quoi ? A qui sont ces empreintes ? Plutôt poils ou écailles ? Puisque nous apprenons bien plus en nous amusant\, nous invitons les enfants de 3 à 6 ans à venir découvrir cette exposition du Pavillon des Sciences de Montbéliard\, qui propose d’explorer la diversité animale de manière ludique et ainsi trouver les réponses à ces questions. \nLe but ? Recueillir des indices tout au long d’un parcours composé de 4 îlots permettant de découvrir un animal mystère ! \nEntrée libre\nRéservation obligatoire pour les groupes\nRenseignements : 03 21 61 81 94
URL:https://bruaylabuissiere.fr/event/exposition-animalement-votre/
LOCATION:Médiathèque Marcel Wacheux\, 82 rue du Périgord\, Bruay-La-Buissière\, 62700
CATEGORIES:Arts & Culture,Enfance,Exposition,Jeunesse,Les rototos - Dès 3 ans
ATTACH;FMTTYPE=image/jpeg:https://bruaylabuissiere.fr/wp-content/uploads/2021/09/amicalement-vôtre.jpg
END:VEVENT
BEGIN:VEVENT
DTSTART;TZID=UTC:20220216T093000
DTEND;TZID=UTC:20220216T150000
DTSTAMP:20260424T005036
CREATED:20210923T111222Z
LAST-MODIFIED:20211217T100834Z
UID:22485-1645003800-1645023600@bruaylabuissiere.fr
SUMMARY:Atelier « terre noire »
DESCRIPTION:Dans le cadre du Festival « Les Rototos » \n\n\n\n\nQuand le lapin sort de sa laitue\, c’est un monde haut en couleurs (et en saveurs) qui s’ouvre à lui.\nTomate ROUGE\, haricots VERTS\, citron JAUNE… Un atelier spécialement conçu pour les tout- petits pour partir à la découverte du jardin et de la terre NOIRE ! \n2 séances : 10h30 et 16h00 \nDe 2 à 5 ans\nDurée : 1h\nTarif : 3€ / enfant\nRéservations au 03 21 01 94 20 \n\n\n\n\nJauge : 10 enfants (1 accompagnateur max / enfant)
URL:https://bruaylabuissiere.fr/event/atelier-terre-noire/
LOCATION:Cité des Électriciens\, Rue Franklin\, Bruay-La-Buissière\, 62700
CATEGORIES:Arts & Culture,Enfance,Jeunesse,Les rototos - Dès 2 ans
ATTACH;FMTTYPE=image/jpeg:https://bruaylabuissiere.fr/wp-content/uploads/2021/09/terre-noire.jpg
END:VEVENT
END:VCALENDAR