BEGIN:VCALENDAR
VERSION:2.0
PRODID:-//Ville de Bruay-La-Buissière - ECPv6.9.1//NONSGML v1.0//EN
CALSCALE:GREGORIAN
METHOD:PUBLISH
X-WR-CALNAME:Ville de Bruay-La-Buissière
X-ORIGINAL-URL:https://bruaylabuissiere.fr
X-WR-CALDESC:Évènements pour Ville de Bruay-La-Buissière
REFRESH-INTERVAL;VALUE=DURATION:PT1H
X-Robots-Tag:noindex
X-PUBLISHED-TTL:PT1H
BEGIN:VTIMEZONE
TZID:UTC
BEGIN:STANDARD
TZOFFSETFROM:+0000
TZOFFSETTO:+0000
TZNAME:UTC
DTSTART:20220101T000000
END:STANDARD
END:VTIMEZONE
BEGIN:VEVENT
DTSTART;VALUE=DATE:20220923
DTEND;VALUE=DATE:20221222
DTSTAMP:20260423T085311
CREATED:20220704T082153Z
LAST-MODIFIED:20220704T082153Z
UID:24623-1663891200-1671667199@bruaylabuissiere.fr
SUMMARY:Saison culturelle septembre à décembre
DESCRIPTION:
URL:https://bruaylabuissiere.fr/event/saison-culturelle-septembre-a-decembre/
CATEGORIES:Arts & Culture,Chanson française,Concert,Enfance,Humour,Jeunesse,Spectacles & Concerts,Théâtre
ATTACH;FMTTYPE=image/jpeg:https://bruaylabuissiere.fr/wp-content/uploads/2022/07/saison-cultruelle.jpg
END:VEVENT
BEGIN:VEVENT
DTSTART;TZID=UTC:20221109T170000
DTEND;TZID=UTC:20221217T190000
DTSTAMP:20260423T085311
CREATED:20221107T130129Z
LAST-MODIFIED:20221107T130129Z
UID:25365-1668013200-1671303600@bruaylabuissiere.fr
SUMMARY:Club loisirs ados
DESCRIPTION:
URL:https://bruaylabuissiere.fr/event/club-loisirs-ados-3/
LOCATION:Espace animation « La bulle »\, rue Augustin Caron\, Bruay-La-Buissière\, 62700\, France
CATEGORIES:Asso,Jeunesse
ATTACH;FMTTYPE=image/jpeg:https://bruaylabuissiere.fr/wp-content/uploads/2022/11/OJ-CLA-nov-déc-recto.jpg
ORGANIZER;CN="Centre Socio-culturel PartAges":MAILTO:contact@officedelajeunesse.fr
END:VEVENT
BEGIN:VEVENT
DTSTART;TZID=UTC:20221210T150000
DTEND;TZID=UTC:20221223T200000
DTSTAMP:20260423T085311
CREATED:20221123T131803Z
LAST-MODIFIED:20221123T131803Z
UID:25432-1670684400-1671825600@bruaylabuissiere.fr
SUMMARY:Marché de Noël
DESCRIPTION:Découvrez le programme complet ICI.
URL:https://bruaylabuissiere.fr/event/marche-de-noel-5/
LOCATION:Esplanade Mitterand\, Esplanade Mitterand\, Bruay-La-Buissière\, 62700\, France
CATEGORIES:Commerce,Echanges/rencontres,Enfance,Intergénérationnel,Jeunesse,Séniors
ATTACH;FMTTYPE=image/jpeg:https://bruaylabuissiere.fr/wp-content/uploads/2022/11/affiche-noel-2022.jpg
END:VEVENT
END:VCALENDAR