BEGIN:VCALENDAR
VERSION:2.0
PRODID:-//Ville de Bruay-La-Buissière - ECPv6.9.1//NONSGML v1.0//EN
CALSCALE:GREGORIAN
METHOD:PUBLISH
X-ORIGINAL-URL:https://bruaylabuissiere.fr
X-WR-CALDESC:Évènements pour Ville de Bruay-La-Buissière
REFRESH-INTERVAL;VALUE=DURATION:PT1H
X-Robots-Tag:noindex
X-PUBLISHED-TTL:PT1H
BEGIN:VTIMEZONE
TZID:UTC
BEGIN:STANDARD
TZOFFSETFROM:+0000
TZOFFSETTO:+0000
TZNAME:UTC
DTSTART:20240101T000000
END:STANDARD
END:VTIMEZONE
BEGIN:VEVENT
DTSTART;TZID=UTC:20240205T093000
DTEND;TZID=UTC:20240614T113000
DTSTAMP:20260422T092218
CREATED:20240122T105251Z
LAST-MODIFIED:20240122T110525Z
UID:28543-1707125400-1718364600@bruaylabuissiere.fr
SUMMARY:Baby sport
DESCRIPTION:
URL:https://bruaylabuissiere.fr/event/baby-sport/
CATEGORIES:Enfance,Jeunesse,sports
ATTACH;FMTTYPE=image/jpeg:https://bruaylabuissiere.fr/wp-content/uploads/2024/01/Affiche-baby-sport-2023-2-scaled.jpg
ORGANIZER;CN="Service des sports":MAILTO:service.sports@bruaylabuissiere.fr
END:VEVENT
BEGIN:VEVENT
DTSTART;TZID=UTC:20240207T140000
DTEND;TZID=UTC:20240207T153000
DTSTAMP:20260422T092218
CREATED:20240125T135530Z
LAST-MODIFIED:20240125T135530Z
UID:28574-1707314400-1707319800@bruaylabuissiere.fr
SUMMARY:Jeux "Egaux et go !" et escape game "Quittons la stéréosphère"
DESCRIPTION:
URL:https://bruaylabuissiere.fr/event/jeux-egaux-et-go-et-escape-game-quittons-la-stereosphere/
LOCATION:Médiathèque Marcel Wacheux\, 82 rue du Périgord\, Bruay-La-Buissière\, 62700
CATEGORIES:Arts & Culture,Enfance,Intergénérationnel,Jeu,Jeunesse
ATTACH;FMTTYPE=image/jpeg:https://bruaylabuissiere.fr/wp-content/uploads/2024/01/2024-mediatheque-EGALITE-F-H-reseaux.jpg
END:VEVENT
BEGIN:VEVENT
DTSTART;TZID=UTC:20240207T153000
DTEND;TZID=UTC:20240207T173000
DTSTAMP:20260422T092218
CREATED:20231208T081107Z
LAST-MODIFIED:20231208T081107Z
UID:28293-1707319800-1707327000@bruaylabuissiere.fr
SUMMARY:L'heure du conte
DESCRIPTION:
URL:https://bruaylabuissiere.fr/event/lheure-du-conte-7/
LOCATION:Médiathèque Marcel Wacheux\, 82 rue du Périgord\, Bruay-La-Buissière\, 62700
CATEGORIES:Arts & Culture,Enfance,Jeunesse
ATTACH;FMTTYPE=image/jpeg:https://bruaylabuissiere.fr/wp-content/uploads/2023/12/2023-mediatheque-CONTES.jpg
END:VEVENT
END:VCALENDAR