BEGIN:VCALENDAR
VERSION:2.0
PRODID:-//Ville de Bruay-La-Buissière - ECPv6.9.1//NONSGML v1.0//EN
CALSCALE:GREGORIAN
METHOD:PUBLISH
X-WR-CALNAME:Ville de Bruay-La-Buissière
X-ORIGINAL-URL:https://bruaylabuissiere.fr
X-WR-CALDESC:Évènements pour Ville de Bruay-La-Buissière
REFRESH-INTERVAL;VALUE=DURATION:PT1H
X-Robots-Tag:noindex
X-PUBLISHED-TTL:PT1H
BEGIN:VTIMEZONE
TZID:UTC
BEGIN:STANDARD
TZOFFSETFROM:+0000
TZOFFSETTO:+0000
TZNAME:UTC
DTSTART:20190101T000000
END:STANDARD
END:VTIMEZONE
BEGIN:VEVENT
DTSTART;TZID=UTC:20190428T073000
DTEND;TZID=UTC:20190428T100000
DTSTAMP:20260419T170617
CREATED:20190415T161016Z
LAST-MODIFIED:20190415T161225Z
UID:15180-1556436600-1556445600@bruaylabuissiere.fr
SUMMARY:Course d'orientation
DESCRIPTION:Dans la forêt d’Olhain.\nAccueil dès 9h à la piscine d’Olhain. \nOuvert à tous : loisirs et compétition\nPlusieurs circuits : entre 2\,5 et 10 km \nDécouvrez le programme complet ici.
URL:https://bruaylabuissiere.fr/event/course-dorientation/
CATEGORIES:Asso,Jeunesse,Séniors,sports
ATTACH;FMTTYPE=image/jpeg:https://bruaylabuissiere.fr/wp-content/uploads/2019/04/CO-avril-2019.jpg
END:VEVENT
BEGIN:VEVENT
DTSTART;TZID=UTC:20190427T080000
DTEND;TZID=UTC:20190427T160000
DTSTAMP:20260419T170617
CREATED:20190412T110246Z
LAST-MODIFIED:20190412T110246Z
UID:15125-1556352000-1556380800@bruaylabuissiere.fr
SUMMARY:La rue aux enfants
DESCRIPTION:
URL:https://bruaylabuissiere.fr/event/la-rue-aux-enfants/
CATEGORIES:Asso,Echanges/rencontres,Enfance,Jeunesse
ATTACH;FMTTYPE=image/jpeg:https://bruaylabuissiere.fr/wp-content/uploads/2019/04/La-Rue-aux-Enfants-recto.jpg
ORGANIZER;CN="L'Office de la jeunesse":MAILTO:contact@officedelajeunesse.fr
END:VEVENT
BEGIN:VEVENT
DTSTART;TZID=UTC:20190427T043000
DTEND;TZID=UTC:20190427T203000
DTSTAMP:20260419T170617
CREATED:20190214T103321Z
LAST-MODIFIED:20190214T104914Z
UID:14604-1556339400-1556397000@bruaylabuissiere.fr
SUMMARY:Voyage à paris
DESCRIPTION:Départ à 6h30 – Retour à 22h\nPlaces limitées \nInscriptions et renseignements : 07 87 20 12 70
URL:https://bruaylabuissiere.fr/event/voyage-a-paris/
CATEGORIES:Asso,Jeunesse,Séniors,sports
ATTACH;FMTTYPE=image/jpeg:https://bruaylabuissiere.fr/wp-content/uploads/2019/02/les-chamoix-Paris.jpg
END:VEVENT
BEGIN:VEVENT
DTSTART;TZID=UTC:20190413T133000
DTEND;TZID=UTC:20190413T160000
DTSTAMP:20260419T170617
CREATED:20190321T143141Z
LAST-MODIFIED:20190321T143141Z
UID:14963-1555162200-1555171200@bruaylabuissiere.fr
SUMMARY:Marché de l'Agora
DESCRIPTION:Prochain RDV !
URL:https://bruaylabuissiere.fr/event/marche-de-lagora/
LOCATION:Marché Fret\, Place Henri Bodelot\, Bruay-La-Buissière\, 62700
CATEGORIES:Asso,Commerce,Echanges/rencontres,Jeunesse,Séniors
ATTACH;FMTTYPE=image/jpeg:https://bruaylabuissiere.fr/wp-content/uploads/2019/02/Marché-bio.jpg
ORGANIZER;CN="March%C3%A9 de l'Agora":MAILTO:marchedelagora@gmail.com
END:VEVENT
BEGIN:VEVENT
DTSTART;TZID=UTC:20190413T080000
DTEND;TZID=UTC:20190413T160000
DTSTAMP:20260419T170617
CREATED:20190315T115524Z
LAST-MODIFIED:20190410T161016Z
UID:14904-1555142400-1555171200@bruaylabuissiere.fr
SUMMARY:Venez vivre la Tadao Xpériences ce samedi 13 avril !
DESCRIPTION:
URL:https://bruaylabuissiere.fr/event/venez-vivre-la-tadao-xperiences-ce-samedi-13-avril/
CATEGORIES:Arts & Culture,Echanges/rencontres,Jeunesse,Séniors
ATTACH;FMTTYPE=image/jpeg:https://bruaylabuissiere.fr/wp-content/uploads/2019/03/inauguration-SMT.jpg
END:VEVENT
BEGIN:VEVENT
DTSTART;TZID=UTC:20190406T150000
DTEND;TZID=UTC:20190406T180000
DTSTAMP:20260419T170617
CREATED:20190123T095812Z
LAST-MODIFIED:20190128T095734Z
UID:14280-1554562800-1554573600@bruaylabuissiere.fr
SUMMARY:Les Foulées du Bruaysis
DESCRIPTION:C’est parti pour la 26e édition ! \nAu programme : courses de 1 km\, 3 km\, 5 km et 10 km (label régional qualificatif au championnat de France) et marches de 5 km et 12 km. \nDépart au quartier Les Alouettes (Plastic Omnium) dès 17h\nArrivée au Stade-Parc sur la piste d’athlétisme \nConcert sous le kiosque\, stands divers\, quizz\, structures gonflables animeront la soirée. \nCourses de 2€ à 10€\, 1€ sera reversé par dossard du 5 et du 10 km à l’institut Pasteur de Lille en faveur de la recherche. \nPossibilité de participer aux challenges inter-écoles\, inter-collèges et inter-lycées. \nDes primes\, des lots et des coupes seront remis aux gagnants sous certaines conditions.*\n* Voir le détail des informations sur le flyer ci-dessous. \n>> Découvrez le détail des informations\, les documents à joindre et le formulaire d’inscription sur ce lien. \n>> Téléchargez le certificat médical
URL:https://bruaylabuissiere.fr/event/les-foulees-du-bruaysis-2/
LOCATION:Stade parc\, 429 rue Roger Salengro\, Bruay-La-Buissière\, 62700
CATEGORIES:Enfance,Jeunesse,Séniors,sports
ATTACH;FMTTYPE=image/jpeg:https://bruaylabuissiere.fr/wp-content/uploads/2019/01/Affiche-Foulées-2019.jpg
ORGANIZER;CN="Service des sports":MAILTO:service.sports@bruaylabuissiere.fr
END:VEVENT
BEGIN:VEVENT
DTSTART;TZID=UTC:20190406T130000
DTEND;TZID=UTC:20190406T163000
DTSTAMP:20260419T170617
CREATED:20190318T100840Z
LAST-MODIFIED:20190318T100840Z
UID:14934-1554555600-1554568200@bruaylabuissiere.fr
SUMMARY:Tremplin (b)oeuf de Pâques
DESCRIPTION:
URL:https://bruaylabuissiere.fr/event/tremplin-boeuf-de-paques/
LOCATION:Médiathèque Marcel Wacheux\, 82 rue du Périgord\, Bruay-La-Buissière\, 62700
CATEGORIES:Arts & Culture,Chanson française,Concert rock,Concert soul music,Echanges/rencontres,Jeunesse,Séniors,Spectacles & Concerts
ATTACH;FMTTYPE=image/jpeg:https://bruaylabuissiere.fr/wp-content/uploads/2019/03/A3-Musique-boeuf-de-Pâques.jpg
END:VEVENT
BEGIN:VEVENT
DTSTART;TZID=UTC:20190404T163000
DTEND;TZID=UTC:20190404T163000
DTSTAMP:20260419T170617
CREATED:20190318T101438Z
LAST-MODIFIED:20190318T101438Z
UID:14937-1554395400-1554395400@bruaylabuissiere.fr
SUMMARY:Alberto Giacometti rétrospective
DESCRIPTION:
URL:https://bruaylabuissiere.fr/event/alberto-giacometti-retrospective/
LOCATION:Médiathèque Marcel Wacheux\, 82 rue du Périgord\, Bruay-La-Buissière\, 62700
CATEGORIES:Arts & Culture,Conférence,Jeunesse,Séniors
ATTACH;FMTTYPE=image/jpeg:https://bruaylabuissiere.fr/wp-content/uploads/2019/03/A3-CONFÉRENCE.jpg
END:VEVENT
BEGIN:VEVENT
DTSTART;TZID=UTC:20190401T120000
DTEND;TZID=UTC:20190401T160000
DTSTAMP:20260419T170617
CREATED:20190313T150812Z
LAST-MODIFIED:20190313T150812Z
UID:14883-1554120000-1554134400@bruaylabuissiere.fr
SUMMARY:Initiative day
DESCRIPTION:Organisé par la CABBALR
URL:https://bruaylabuissiere.fr/event/initiative-day/
LOCATION:Salle Marmottan\, Place Marmottan\, Bruay-la-buissière\, 62700
CATEGORIES:Asso,Atelier,Commerce,Echanges/rencontres,Jeunesse,Séniors
ATTACH;FMTTYPE=image/jpeg:https://bruaylabuissiere.fr/wp-content/uploads/2019/03/Initiative-Day.jpg
END:VEVENT
BEGIN:VEVENT
DTSTART;TZID=UTC:20190331T140000
DTEND;TZID=UTC:20190331T150000
DTSTAMP:20260419T170617
CREATED:20190318T094946Z
LAST-MODIFIED:20190318T094946Z
UID:14931-1554040800-1554044400@bruaylabuissiere.fr
SUMMARY:Concert de printemps
DESCRIPTION:
URL:https://bruaylabuissiere.fr/event/concert-de-printemps-3/
LOCATION:Salle Georges Hurtrel\, Place du Rietz\, Bruay-la-buissière\, 62700
CATEGORIES:Arts & Culture,Concert classique,Jeunesse,Séniors
ATTACH;FMTTYPE=image/jpeg:https://bruaylabuissiere.fr/wp-content/uploads/2019/03/2019-LAB-Musique-Concert-de-printemps.jpg
END:VEVENT
BEGIN:VEVENT
DTSTART;TZID=UTC:20190327T133000
DTEND;TZID=UTC:20190327T170000
DTSTAMP:20260419T170617
CREATED:20190212T150539Z
LAST-MODIFIED:20190326T095303Z
UID:14594-1553693400-1553706000@bruaylabuissiere.fr
SUMMARY:Makaton (langage des signes)
DESCRIPTION:
URL:https://bruaylabuissiere.fr/event/makaton-langage-des-signes/
LOCATION:Médiathèque Marcel Wacheux\, 82 rue du Périgord\, Bruay-La-Buissière\, 62700
CATEGORIES:Atelier,Enfance,Jeunesse
ATTACH;FMTTYPE=image/jpeg:https://bruaylabuissiere.fr/wp-content/uploads/2019/02/Makaton.jpg
END:VEVENT
BEGIN:VEVENT
DTSTART;TZID=UTC:20190323T100000
DTEND;TZID=UTC:20190323T150000
DTSTAMP:20260419T170617
CREATED:20190228T111253Z
LAST-MODIFIED:20190228T111253Z
UID:14687-1553335200-1553353200@bruaylabuissiere.fr
SUMMARY:Championnat des Hauts de France
DESCRIPTION:
URL:https://bruaylabuissiere.fr/event/championnat-des-hauts-de-france/
LOCATION:Cosec Rostand\, Rue d'Isbergues
CATEGORIES:Asso,Jeunesse,sports
ATTACH;FMTTYPE=image/jpeg:https://bruaylabuissiere.fr/wp-content/uploads/2019/02/2019-boxe-championnat-des-hauts-de-france.jpg
END:VEVENT
BEGIN:VEVENT
DTSTART;TZID=UTC:20190323T080000
DTEND;TZID=UTC:20190323T110000
DTSTAMP:20260419T170617
CREATED:20190315T120117Z
LAST-MODIFIED:20190315T120117Z
UID:14908-1553328000-1553338800@bruaylabuissiere.fr
SUMMARY:Hauts-de-France propres
DESCRIPTION:Acteur de votre ville\, participez à l’opération ! \nLa Ville s’associe à la Région pour son temps fort « Hauts de France propres\, ensemble nettoyons notre région ! ». Rendez-vous à Bruay-La-Buissière le samedi 23 mars pour agir ensemble sur notre cadre de vie. A Labuissière\, cette opération vient renforcer celle initiée par la commune en 2015 « commune propre ». \nArmés de gants et d’une motivation sans faille\, les bénévoles sont les bienvenus pour ramasser et trier un maximum de déchets : objets divers\, chewing-gum\, crottes de chien\, mégots de cigarettes\, canettes\, bouteilles\, sacs en plastique laissés dans les rues\, les parcs et les jardins\, sur les parkings.  \nSe débarrasser de ses déchets sur un trottoir\, au coin d’une rue\, au bord de la route ; les jeter de la fenêtre de sa voiture\, n’est pas sans conséquence ! Ces détritus « sauvages » portent bien leur nom. Ils dégradent notre environnement\, notre paysage\, polluent l’air\, les sols\, les eaux. Ils empoisonnent notre cadre de vie. Par ailleurs\, ils coûtent de l’argent à la Ville et par conséquent à chaque citoyen. La rue est à tous\, c’est un lieu public\, un lieu de vie pour tous. \nChaque individu peut agir pour l’environnement et pour préserver la biodiversité. Entreprises\, écoles\, association\, collectivités… Nous sommes tous concernés. « Hautes de France propres »\, une aventure humaine et citoyenne ! \n  \nLe protocole de ramassage  \n• Le port du gilet fluorescent est obligatoire\, ne vous mettez pas en danger aux abords des routes et chemins. Respectez la disposition du code de la route. Pas d’intervention simultanée de chaque côté de la chaussée ; \n• Concernant les rivières\, les canaux et les étangs il est convenu d’exclure la pente des berges et les ouvrages. \nRamassage par équipe de deux personnes minimum aux abords de l’eau ; \n• Le port des gants est obligatoire ; \n• Ne pas ramasser les objets coupants\, piquants….; \n•De nombreuses matières sont dangereuses\, ne pas y toucher et signaler leurs emplacements.
URL:https://bruaylabuissiere.fr/event/hauts-de-france-propres/
CATEGORIES:Echanges/rencontres,Enfance,Jeunesse,Séniors
ATTACH;FMTTYPE=image/jpeg:https://bruaylabuissiere.fr/wp-content/uploads/2019/03/HDP-PROPRE.jpg
END:VEVENT
BEGIN:VEVENT
DTSTART;TZID=UTC:20190316T130000
DTEND;TZID=UTC:20190323T160000
DTSTAMP:20260419T170617
CREATED:20190304T142920Z
LAST-MODIFIED:20190304T172845Z
UID:14753-1552741200-1553356800@bruaylabuissiere.fr
SUMMARY:Culture Plurielles et Citoyennes
DESCRIPTION:Retrouvez le programme ici. \n 
URL:https://bruaylabuissiere.fr/event/culture-plurielles-et-citoyennes/
CATEGORIES:Asso,Enfance,Jeunesse
ATTACH;FMTTYPE=image/jpeg:https://bruaylabuissiere.fr/wp-content/uploads/2019/03/Plaquette-OJ.jpg
ORGANIZER;CN="L'Office de la jeunesse":MAILTO:contact@officedelajeunesse.fr
END:VEVENT
BEGIN:VEVENT
DTSTART;TZID=UTC:20190313T130000
DTEND;TZID=UTC:20190515T153000
DTSTAMP:20260419T170617
CREATED:20190212T143714Z
LAST-MODIFIED:20190212T144402Z
UID:14585-1552482000-1557934200@bruaylabuissiere.fr
SUMMARY:Les mercredis sportifs de mars à mai
DESCRIPTION:
URL:https://bruaylabuissiere.fr/event/les-mercredis-sportifs-de-mars-a-mai/
CATEGORIES:Jeunesse,Séniors,sports
ATTACH;FMTTYPE=image/jpeg:https://bruaylabuissiere.fr/wp-content/uploads/2019/02/2019-Sports-Mercredis-sportifs-mars-mai.jpg
ORGANIZER;CN="Service des sports":MAILTO:service.sports@bruaylabuissiere.fr
END:VEVENT
BEGIN:VEVENT
DTSTART;TZID=UTC:20190309T140000
DTEND;TZID=UTC:20190309T170000
DTSTAMP:20260419T170617
CREATED:20190214T104737Z
LAST-MODIFIED:20190214T104737Z
UID:14608-1552140000-1552150800@bruaylabuissiere.fr
SUMMARY:Atelier sonore et showcase
DESCRIPTION:duo électro-pop Goldenboy
URL:https://bruaylabuissiere.fr/event/atelier-sonore-et-showcase/
LOCATION:Médiathèque Marcel Wacheux\, 82 rue du Périgord\, Bruay-La-Buissière\, 62700
CATEGORIES:Atelier,Concert rock,Jeunesse
ATTACH;FMTTYPE=image/jpeg:https://bruaylabuissiere.fr/wp-content/uploads/2019/02/A3-Musique-Goldenboy.jpg
END:VEVENT
BEGIN:VEVENT
DTSTART;TZID=UTC:20190306T090000
DTEND;TZID=UTC:20190327T183000
DTSTAMP:20260419T170617
CREATED:20190313T145532Z
LAST-MODIFIED:20190313T145532Z
UID:14879-1551862800-1553711400@bruaylabuissiere.fr
SUMMARY:Santé\, alimentation et sport
DESCRIPTION:
URL:https://bruaylabuissiere.fr/event/sante-alimentation-et-sport/
CATEGORIES:Echanges/rencontres,Jeunesse,Séniors,sports
ATTACH;FMTTYPE=image/jpeg:https://bruaylabuissiere.fr/wp-content/uploads/2019/03/SAS-mars-2019.jpg
ORGANIZER;CN="Service des sports":MAILTO:service.sports@bruaylabuissiere.fr
END:VEVENT
BEGIN:VEVENT
DTSTART;TZID=UTC:20190227T130000
DTEND;TZID=UTC:20190227T170000
DTSTAMP:20260419T170617
CREATED:20190212T151335Z
LAST-MODIFIED:20190215T143221Z
UID:14601-1551272400-1551286800@bruaylabuissiere.fr
SUMMARY:Go Vacation sur Nintendo Switch à la Médiathèque
DESCRIPTION:
URL:https://bruaylabuissiere.fr/event/go-vacation-sur-nintendo-switch-a-la-mediatheque/
LOCATION:Médiathèque Marcel Wacheux\, 82 rue du Périgord\, Bruay-La-Buissière\, 62700
CATEGORIES:Enfance,Jeunesse,Jeux vidéo
ATTACH;FMTTYPE=image/jpeg:https://bruaylabuissiere.fr/wp-content/uploads/2019/02/A3-Go-vacation.jpg
END:VEVENT
BEGIN:VEVENT
DTSTART;TZID=UTC:20190216T160000
DTEND;TZID=UTC:20190217T143000
DTSTAMP:20260419T170617
CREATED:20190206T095213Z
LAST-MODIFIED:20190206T095213Z
UID:14530-1550332800-1550413800@bruaylabuissiere.fr
SUMMARY:Trophée coupe de France
DESCRIPTION:1/16 et 1/8 finales \nSamedi 16 février :\nNanterre 92 (espoirs) et Spartiates (NM2) à 17h15\nBCM (espoirs) et ABBR (NM2) à 20h \nDimanche 17 février :\nMatch des vainqueurs à 15h30 \n3€ : 1 match\n5€ : 2 matchs\n7€ : 3 matchs \nRestauration sur place\nRenseignements : 06 76 75 65 51 – Facebook BLB Basket Club
URL:https://bruaylabuissiere.fr/event/trophee-coupe-de-france/
LOCATION:Complexe sportif Léo Lagrange\, cours Kennedy\, Bruay-la-buissière\, 62700
CATEGORIES:Asso,Jeunesse,sports
ATTACH;FMTTYPE=image/jpeg:https://bruaylabuissiere.fr/wp-content/uploads/2019/02/Trophée-Coupe-de-France.jpg
END:VEVENT
BEGIN:VEVENT
DTSTART;TZID=UTC:20190216T130000
DTEND;TZID=UTC:20190216T170000
DTSTAMP:20260419T170617
CREATED:20190131T145414Z
LAST-MODIFIED:20190131T145414Z
UID:14406-1550322000-1550336400@bruaylabuissiere.fr
SUMMARY:Salon du jeu vidéo
DESCRIPTION:Première édition ! \nsalle de jeu vidéo rétro\, quiz\, buvette… \nInfos au 06 51 99 68 96
URL:https://bruaylabuissiere.fr/event/salon-du-jeu-video/
LOCATION:Salle Georges Hurtrel\, Place du Rietz\, Bruay-la-buissière\, 62700
CATEGORIES:Asso,Jeunesse,Jeux vidéo
ATTACH;FMTTYPE=image/jpeg:https://bruaylabuissiere.fr/wp-content/uploads/2019/01/salon-jeux-vidéo.jpg
END:VEVENT
BEGIN:VEVENT
DTSTART;TZID=UTC:20190215T070000
DTEND;TZID=UTC:20190216T160000
DTSTAMP:20260419T170617
CREATED:20180904T112802Z
LAST-MODIFIED:20180904T113011Z
UID:12843-1550214000-1550332800@bruaylabuissiere.fr
SUMMARY:ROTOTOS : à nos peaux sauvages
DESCRIPTION:CRÉATION 2019 \nUne danseuse et un musicien vous invitent à un voyage sensoriel et sensible.\nEntrez en peaux à peaux sur un tapis de peaux textiles et participez   à l’orchestre de chairs tapotées et frottées…\nTraversez le pôle nord\, laissez-vous bercer par la bise et le craque- ment de la neige puis laissez-vous envahir par un vent plus chaud venant du sud\, un vent qui nous transforme et met nos épidermes à nu.\nA nos peaux sauvages est une ode à nos peaux perméables\, à nos interactions sincères\, à nos jeux enfantins. Un bal interactif à vivre  en famille. \nVENDREDI 15 FÉVRIER 10H ET 15H30 \nSAMEDI 16 FÉVRIER 10H \nHORS ABONNEMENT : Tarifs : TP : 4€ / TR : 3€ \nPUBLIC : Famille dès 6 mois \nCompagnie \nRosa Bonheur \nMise  en scène \nSarah Gonçalves \nDistribution\nNicolas Montagne\, Sarah Gonçalves \nCoproducteurs : Ville de Lille / Maisons Folie Moulins et Wazemmes / Espace culturel Georges Brassens de Saint- Martin-Boulogne / Centre Culturel Matisse de Noyelles-Godault\nCrédits photos : ©Amin Tulors
URL:https://bruaylabuissiere.fr/event/rototos-a-nos-peaux-sauvages/
LOCATION:Le Temple\, 125 Rue Henri Hermant\, Bruay-La-Buissière\, 62700
CATEGORIES:Enfance,Jeunesse,Les rototos
ATTACH;FMTTYPE=image/jpeg:https://bruaylabuissiere.fr/wp-content/uploads/2018/09/a-nos-peaux-sauvages.jpg
END:VEVENT
BEGIN:VEVENT
DTSTART;TZID=UTC:20190213T070000
DTEND;TZID=UTC:20190323T160000
DTSTAMP:20260419T170617
CREATED:20190212T151105Z
LAST-MODIFIED:20190212T151105Z
UID:14598-1550041200-1553356800@bruaylabuissiere.fr
SUMMARY:Musique et bien-être
DESCRIPTION:
URL:https://bruaylabuissiere.fr/event/musique-et-bien-etre/
LOCATION:Médiathèque Marcel Wacheux\, 82 rue du Périgord\, Bruay-La-Buissière\, 62700
CATEGORIES:Atelier,Enfance,Jeunesse,Séniors
ATTACH;FMTTYPE=image/jpeg:https://bruaylabuissiere.fr/wp-content/uploads/2019/02/Musique-Bien-être.jpg
END:VEVENT
BEGIN:VEVENT
DTSTART;VALUE=DATE:20190212
DTEND;VALUE=DATE:20190217
DTSTAMP:20260419T170617
CREATED:20180904T100318Z
LAST-MODIFIED:20180904T100318Z
UID:12834-1550012400-1550357999@bruaylabuissiere.fr
SUMMARY:Les ROTOTOS gastronomes
DESCRIPTION:Un accueil dans un aménagement chaleureux et spécifique et dans un lieu devenu incontournable à Bruay-La-Buissière\, le Bookkafé. Des produits frais\, de saison et cuisinés sur place. Sans compter les fameux Cooggies\, spécialités sucrées de la mai- son. Un menu spécialement conçu pour les p’tits estomacs\, ludique et sain à la fois. Une histoire\, en guise de digestion\, chuchotée par Caroline Gradel de la Cie Harmonika Zug. \nUn livre en cadeau\, offert par Maggie\, pour faire gentiment passer vos petits « rototos ». \n Âge   De 1 à 5 ans \n Effectif 25 personnes maximum (adultes et enfants) \n Dates Mercredi 13 février et samedi 16 février à partir de 11h30 \n Tarif 9€ par adultes (boisson non comprise) et 5€ par enfant (eau comprise)
URL:https://bruaylabuissiere.fr/event/les-rototos-gastronomes/
LOCATION:Bookkafé\, : 268 Rue Roger Salengro\, Bruay-La-Buissière\, 62700
CATEGORIES:Enfance,Jeunesse,Les rototos
ATTACH;FMTTYPE=image/jpeg:https://bruaylabuissiere.fr/wp-content/uploads/2018/09/rototos-gastronomes.jpg
END:VEVENT
BEGIN:VEVENT
DTSTART;TZID=UTC:20190212T070000
DTEND;TZID=UTC:20190213T160000
DTSTAMP:20260419T170617
CREATED:20180904T112316Z
LAST-MODIFIED:20180904T112316Z
UID:12840-1549954800-1550073600@bruaylabuissiere.fr
SUMMARY:ROTOTOS : à bâtons perdus
DESCRIPTION:Le Theater de Spiegel installe son bivouac. Le dispositif est accueillant\, un espace ouvert fait de tapis  et  d’une  galaxie d’ instruments. Adultes et tout-petits sont invités à prendre place dans ce cabi- net de curiosités musical. Au cœur de ce refuge habité par un flûtiste\, un percussionniste  et un marionnettiste\, l’explora- tion sonore et rythmique peut commencer. \nTambourins\, cymbales\, cale- basses et peaux de tambours deviennent aussi supports de jeux. Dans ce paysage  sonore\, un ballon rouge donne le  ton. Un motif visuel qui se multi- plie\, se transforme dans un jeu d’ombres. Ce spectacle  appelle à la découverte\, à l’éveil  et au lâcher-prise chez les très jeunes spectateurs et leurs accompagnateurs. \nSubventions : Ville de Strasbourg\, DRAC Grand Est\, Région Grand Est\, Conseil Départemental du Bas Rhin. \nHORS ABONNEMENT : Tarifs : TP : 4€ / TR : 3€ \nPUBLIC : Famille dès 18 mois \nMARDI 12 FÉVRIER 15H30 \nMERCREDI 13 FÉVRIER 10H ET 15H30 \nCompagnie \nTheater de Spiegel \nMise en scène \nKarel Van Ransbeek \nInterprétation et conception musicale\nJoeri Wens (percussion) et Nicolas Ankoudinoff (sax et flûte) \n 
URL:https://bruaylabuissiere.fr/event/rototos-a-batons-perdus/
LOCATION:Le Temple\, 125 Rue Henri Hermant\, Bruay-La-Buissière\, 62700
CATEGORIES:Enfance,Jeunesse,Les rototos
ATTACH;FMTTYPE=image/jpeg:https://bruaylabuissiere.fr/wp-content/uploads/2018/09/a-batons-perdus.jpg
END:VEVENT
BEGIN:VEVENT
DTSTART;VALUE=DATE:20190211
DTEND;VALUE=DATE:20190215
DTSTAMP:20260419T170617
CREATED:20180904T095913Z
LAST-MODIFIED:20180904T095913Z
UID:12830-1549926000-1550185199@bruaylabuissiere.fr
SUMMARY:Les ROTOTOS peintres
DESCRIPTION:Stéphanie Georges\, intervenante des ateliers Arts Plastiques de Bruay-La-Buissière\, animera 3 ateliers « spécial-Rototos » sur le thème des 5 sens.\nDates Le mardi 12 février à 10h00 et le jeudi 14 février 2 séances : 10h et 14h30.\nÂge : De 3 à 5 ans.\nEffectif 8 enfants + 1 adulte/enfant\nAccompagnateur gratuit.
URL:https://bruaylabuissiere.fr/event/les-rototos-peintres/
LOCATION:Manoir de Baillencourt\, rue Jean Jaurès\, Bruay-La-Buissière\, 62700
CATEGORIES:Enfance,Jeunesse,Les rototos,Les rototos - Dès 3 ans
ATTACH;FMTTYPE=image/jpeg:https://bruaylabuissiere.fr/wp-content/uploads/2018/09/rototos-peintres.jpg
END:VEVENT
BEGIN:VEVENT
DTSTART;VALUE=DATE:20190210
DTEND;VALUE=DATE:20190212
DTSTAMP:20260419T170617
CREATED:20180914T093912Z
LAST-MODIFIED:20180914T101015Z
UID:13091-1549839600-1549925999@bruaylabuissiere.fr
SUMMARY:Les rototos jardiniers
DESCRIPTION:INITIATION AUTOUR DU JARDINAGE\nUne fois en tenue de jardinier avec leurs tabliers et leurs chapeaux\, les enfants vont découvrir les secrets du jardin à travers différentes épreuves qui les amènent à découvrir les outils de base du jardinier\, les odeurs d’un jardin\, repiquer\, semer ou planter des légumes\, fleurs et fruits en pots qu’ils emmèneront chez eux. \nLieu : La Maison du Parc\nÂge : De 2 à 5 ans\nEffectif : 10 enfants + 1 adulte/enfant\nTarif : 2€ (accompagnateur gratuit) \n10h et 14h
URL:https://bruaylabuissiere.fr/event/les-rototos-jardiniers-2/
CATEGORIES:Enfance,Jeunesse
ATTACH;FMTTYPE=image/jpeg:https://bruaylabuissiere.fr/wp-content/uploads/2018/09/fleur.jpg
END:VEVENT
BEGIN:VEVENT
DTSTART;TZID=UTC:20190209T090000
DTEND;TZID=UTC:20190209T110000
DTSTAMP:20260419T170617
CREATED:20180831T165808Z
LAST-MODIFIED:20180831T165824Z
UID:12816-1549702800-1549710000@bruaylabuissiere.fr
SUMMARY:ROTOTOS : De l'autre côté du pôle
DESCRIPTION:les rototOs crapahutent… \nUne installation-moteur pour les tout-petits de 0 à 3 ans qui pourront ainsi développer leurs capaci- tés physiques de manière ludique et découvrir leur environnement en grimpant\, escaladant\, se balan- çant\, marchant\, essayant de trouver leur équilibre\, enjambant et bien plus encore grâce à un parcours pensé pour leur développement. \nCette initiative de l’équipe de la Médiathèque a permis de faire appel aux compétences locales. \nL’expérience des équipes du Relai d’Assistants Maternels du SIVOM du Bruaysis et le Multi-accueil La Farandole de Bruay-La-Buissière. \net les parents cousent… \nATELIER DE CRÉATION DE COUSSINS POUR LES ADULTES \nAtelier de création de  coussins  sensoriels  pour  les adultes. \nLes Rototos\, ce n’est pas que pour les petits !!! Cette fois-ci\, nous invitons les parents à venir  créer les coussins sensoriels qui aideront leurs bambins à développer leurs sens. \nToucher\, Vue et Odorat seront tous stimulés grâce à ces outils DIY issus de la pédagogie Montessori. Ainsi\, nous pouvons vous proposer cette installation adaptée à nos Rototos favoris. \nUn « Espace Nido »\, issu de la pédagogie Montessori\, sera également installé pour per- mettre aux nourrissons de stimuler leurs sens\, le tout\, dans un espace sécurisé\, calme et apaisant. \nInstallation accessible aux horaires d’ouverture de la Médiathèque. \n Visite accompagnée Tous les jours à 10h30 et 16h30\, Séance de 10 enfants \n Infos  Dès Janvier 2019 : 03 21 61 81 94 \n Date   Samedi 9 Février de 10h00 à 12h00 \n Effectif 10 personnes maximum \n Infos 03 59 41 34 00
URL:https://bruaylabuissiere.fr/event/rototos-de-lautre-cote-du-pole-2/
LOCATION:Médiathèque Marcel Wacheux\, 82 rue du Périgord\, Bruay-La-Buissière\, 62700
CATEGORIES:Enfance,Jeunesse,Les rototos
ATTACH;FMTTYPE=image/jpeg:https://bruaylabuissiere.fr/wp-content/uploads/2018/08/cine.jpg
END:VEVENT
BEGIN:VEVENT
DTSTART;TZID=UTC:20190208T070000
DTEND;TZID=UTC:20190208T180000
DTSTAMP:20260419T170617
CREATED:20190205T151558Z
LAST-MODIFIED:20190206T093157Z
UID:14517-1549609200-1549648800@bruaylabuissiere.fr
SUMMARY:Concerts en faveur des enfants
DESCRIPTION:Organisation :\nMotards pour l’Enfance Nord Pas-de-Calais Picardie avec le soutien du MC WHR \nRéservations :\n06 20 04 48 52 ou 06 16 90 06 35\nsite
URL:https://bruaylabuissiere.fr/event/concerts-en-faveur-des-enfants/
LOCATION:Espace Culturel Grossemy\, Cours Kennedy\, Bruay-La-Buissière\, 62700
CATEGORIES:Asso,Chanson française,Concert rock,Enfance,Jeunesse,Séniors,Spectacles & Concerts
ATTACH;FMTTYPE=image/jpeg:https://bruaylabuissiere.fr/wp-content/uploads/2019/02/Motards-pour-lenfance.jpg
END:VEVENT
BEGIN:VEVENT
DTSTART;TZID=UTC:20190206T143000
DTEND;TZID=UTC:20190206T151500
DTSTAMP:20260419T170617
CREATED:20180904T101237Z
LAST-MODIFIED:20180904T105102Z
UID:12837-1549463400-1549466100@bruaylabuissiere.fr
SUMMARY:ROTOTOS : écoute à mon oreille
DESCRIPTION:THÉÂTRE ET MUSIQUE  \nCRÉATION 2018 \nComment fait-on pour garder un secret ? A t-on le droit d’avoir des secrets ?\nA qui peut-on dire un secret ?\nQue fait-on des secrets lorsqu’ils sont trop lourds à porter ? Que deviennent les secrets oubliés ?\nComment cultive-t-on son jardin secret ?\nTrois personnages dans un endroit secret vous emmèneront   à pas de velours dans leur univers intérieur et vous dévoile- ront peut-être une part de leur intimité.\nMais… Chut ! C’est un secret… \nHORS ABONNEMENT : Tarifs : TP : 4€ / TR : 3€ \nCompagnie \nCompagnie du Créach’ \nMise en scène \nStéphanie Cliquennois \nDramaturgie \nMarie Levavasseur \nMagie \nDomingos \nScénographie \nJohanne Huysman \nCréation musicale \nSamuel Dewasmes \nRegard sur la chorégraphie \nCyril Viallon \nDistribution\nAdeline-Fleur Baude\, Jean-Maximilien Sobocinski\, Samuel Dewasmes \nSoutiens : Le Temple de Bruay-La-Buissière\, le Centre Culturel de Noyelles- sous-Lens\, La Maison Folie Beaulieu de Lomme\, la Maison Folie de Mons\, le Centre Culturel Matisse de Noyelles-Godault\, La Manivelle théâtre. \nCo-producteurs : la ville de Méricourt\, la ville de Noyelles-sous-Lens\, le centre Culturel Matisse de Noyelles-Godault.\nCrédit photo : Robert Parke \n 
URL:https://bruaylabuissiere.fr/event/rototos-ecoute-a-mon-oreille/
LOCATION:Le Temple\, 125 Rue Henri Hermant\, Bruay-La-Buissière\, 62700
CATEGORIES:Enfance,Jeunesse,Les rototos,Théâtre
ATTACH;FMTTYPE=image/jpeg:https://bruaylabuissiere.fr/wp-content/uploads/2018/09/page-43-Ecoute-à-mon-oreille.jpg
END:VEVENT
BEGIN:VEVENT
DTSTART;VALUE=DATE:20190205
DTEND;VALUE=DATE:20190218
DTSTAMP:20260419T170617
CREATED:20180831T145238Z
LAST-MODIFIED:20180831T151114Z
UID:12807-1549407600-1550444399@bruaylabuissiere.fr
SUMMARY:ROTOTOS : séances cinéma
DESCRIPTION:La chasse à l’ours\nFILM D’ANIMATION ADAPTÉS DE L’ALBUM JEUNESSE \nChaussons nos bottes et partons à l’aventure ! \nAttraper des ours\, parcourir des forêts\, traverser des rivières… \nMême en hiver\, tout est possible pour nos petits héros intrépides ! \nPetits contes sous la neige\nCLÔTURE DU FESTIVAL\, DANS LE CADRE DES « CINÉ-DOUDOU » : SÉANCE DE CINÉMA SUIVIE D’UNE ANIMATION SUR RÉSERVATION \nD’une montagne enneigée à une mer étoilée\, d’une ville tranquille à un océan agité\, les héros de ces sept courts métrages transportent les plus petits dans leurs aventures joyeuses et poétiques. \n Public Dès 3 ans \n Durée 40 minutes \nSéances tout public : Mercredi 6 février à 14h30 et 16h30 /Samedi 9 février à 10h et 11h /Dimanche 10 février à 16h30 / Lundi 11 février à 10h\, 11h et 18h15/ Mardi 12 février à 14h30 et 18h15 \n Séances scolaires Jeudi 7 février et Vendredi 8 février à 9h15 et 10h15 \nAccros aux écrans\nUNE ENQUÊTE D’ADÈLE FLAUX ET PAUL MOREIRA DANS LE CADRE D’UN CINÉ-PARENTS \nRayan\, 3 ans\, est dans sa bulle. Sa maman s’in- quiète : il ne parle plus et multiplie les crises de nerf. Un jour\, un médecin conseille à sa maman d’arrêter les comptines sur le smartphone. \nRayan y passait des heures ! Au bout de quelques jours\, sevré d’écran\, il redevient un petit garçon ouvert et joyeux. \n Public Parents et adultes \n Date Vendredi 8 Février\, dès 19h00 pour le pot d’accueil\, suivi de la projection à 19h30
URL:https://bruaylabuissiere.fr/event/rototos-de-lautre-cote-du-pole/
LOCATION:Cinéma Les étoiles\, 102 Rue du Périgord\, Bruay-la-Buissière\, 62700
CATEGORIES:Cinéma,Enfance,Jeunesse,Les rototos
ATTACH;FMTTYPE=image/jpeg:https://bruaylabuissiere.fr/wp-content/uploads/2018/08/page-38-Ciné-Rototos-1.jpg
END:VEVENT
END:VCALENDAR