BEGIN:VCALENDAR
VERSION:2.0
PRODID:-//Ville de Bruay-La-Buissière - ECPv6.9.1//NONSGML v1.0//EN
CALSCALE:GREGORIAN
METHOD:PUBLISH
X-WR-CALNAME:Ville de Bruay-La-Buissière
X-ORIGINAL-URL:https://bruaylabuissiere.fr
X-WR-CALDESC:Évènements pour Ville de Bruay-La-Buissière
REFRESH-INTERVAL;VALUE=DURATION:PT1H
X-Robots-Tag:noindex
X-PUBLISHED-TTL:PT1H
BEGIN:VTIMEZONE
TZID:UTC
BEGIN:STANDARD
TZOFFSETFROM:+0000
TZOFFSETTO:+0000
TZNAME:UTC
DTSTART:20180101T000000
END:STANDARD
END:VTIMEZONE
BEGIN:VEVENT
DTSTART;TZID=UTC:20190109T143000
DTEND;TZID=UTC:20190605T160000
DTSTAMP:20260419T184005
CREATED:20181218T170928Z
LAST-MODIFIED:20190111T172809Z
UID:13969-1547044200-1559750400@bruaylabuissiere.fr
SUMMARY:Madame Bibouille et Monsieur Booopsie reviennent !
DESCRIPTION:L’heure du conte :\nLes mercredis 9 janvier\, 6 février\, 6 mars\, 3 avril\, 15 mai et 5 juin à 15h45 pour les 3/5 ans et à 16h30 pour les 0/3 ans. \nSpectacles de contes : \nLes mercredis 20 février et 17 avril à 15h (à partir de 5 ans)
URL:https://bruaylabuissiere.fr/event/madame-bibouille-et-monsieur-booopsie-reviennent/
LOCATION:Médiathèque Marcel Wacheux\, 82 rue du Périgord\, Bruay-La-Buissière\, 62700
CATEGORIES:Arts & Culture,Enfance,Jeunesse,Spectacles & Concerts,Théatre d'objets
ATTACH;FMTTYPE=image/jpeg:https://bruaylabuissiere.fr/wp-content/uploads/2018/12/A3-contes-1-e1547223973447.jpg
END:VEVENT
BEGIN:VEVENT
DTSTART;TZID=UTC:20181226T070000
DTEND;TZID=UTC:20190630T150000
DTSTAMP:20260419T184006
CREATED:20181226T171003Z
LAST-MODIFIED:20181226T171003Z
UID:14052-1545807600-1561906800@bruaylabuissiere.fr
SUMMARY:Programme Médiathèque
DESCRIPTION:Découvrez le programme de la Médiathèque Marcel Wacheux de janvier à juin 2019.
URL:https://bruaylabuissiere.fr/event/programme-mediatheque/
LOCATION:Médiathèque Marcel Wacheux\, 82 rue du Périgord\, Bruay-La-Buissière\, 62700
CATEGORIES:Arts & Culture,Atelier,Chanson française,Concert rock,Concert soul music,Conférence,Echanges/rencontres,Enfance,Exposition,Jeunesse,Jeux vidéo,Les rototos,Les rototos - Dès 2 ans,Les rototos - Dès 3 ans,Les rototos - jusque 3 ans,Théâtre
ATTACH;FMTTYPE=image/jpeg:https://bruaylabuissiere.fr/wp-content/uploads/2018/12/2019-médiatheque-1e-sem.jpg
END:VEVENT
BEGIN:VEVENT
DTSTART;TZID=UTC:20181212T130000
DTEND;TZID=UTC:20181212T160000
DTSTAMP:20260419T184006
CREATED:20181129T094822Z
LAST-MODIFIED:20181211T113444Z
UID:13727-1544619600-1544630400@bruaylabuissiere.fr
SUMMARY:Arbre de noël
DESCRIPTION:En faveur des enfants défavorisés et organisé par les membres de l’association « forum solidarité du bruaysis ». \nRenseignements : 06 87 02 12 85
URL:https://bruaylabuissiere.fr/event/arbre-de-noel/
LOCATION:Salle Marmottan\, Place Marmottan\, Bruay-la-buissière\, 62700
CATEGORIES:Asso,Enfance,Jeunesse
ATTACH;FMTTYPE=image/jpeg:https://bruaylabuissiere.fr/wp-content/uploads/2018/11/Arbre-de-noël.jpg
END:VEVENT
BEGIN:VEVENT
DTSTART;TZID=UTC:20181212T090000
DTEND;TZID=UTC:20181219T140000
DTSTAMP:20260419T184006
CREATED:20181205T113033Z
LAST-MODIFIED:20181205T113033Z
UID:13774-1544605200-1545228000@bruaylabuissiere.fr
SUMMARY:Ateliers de Noël
DESCRIPTION:de 5 à 10 ans \nMercredi 12 décembre :\nde 10h à 12h et de 14h à 18h : décoration de la section jeunesse \nMercredi 19 décembre :\nà 10h et à 15h : ateliers activités manuelles sur inscription
URL:https://bruaylabuissiere.fr/event/ateliers-de-noel/
LOCATION:Médiathèque Marcel Wacheux\, 82 rue du Périgord\, Bruay-La-Buissière\, 62700
CATEGORIES:Atelier,Enfance,Jeunesse
ATTACH;FMTTYPE=image/jpeg:https://bruaylabuissiere.fr/wp-content/uploads/2018/12/A3-Loisirs-Créatif-Noël.jpg
END:VEVENT
BEGIN:VEVENT
DTSTART;TZID=UTC:20181212T080000
DTEND;TZID=UTC:20181224T190000
DTSTAMP:20260419T184006
CREATED:20181119T141341Z
LAST-MODIFIED:20181214T090940Z
UID:13650-1544601600-1545678000@bruaylabuissiere.fr
SUMMARY:Marché et Village de Noël
DESCRIPTION:À Bruay-La-Buissière du 15 au 24 décembre : \n15 décembre à 20h et 16 décembre à 16h\nConcert du Nouvel An\nComplexe Léo Lagrange\nTarif plein : 6€ – Tarif réduit : 5€ – Tarif Découv’Art : 3€ \nDu 19 au 24 décembre : village\nAnimations musicales\, manège enfantin et chalets de Noël\nPlace Leclerc \nle 19 de 14h à 19h\ndu 20 au 23 de 10h à 12h et de 14h à 19h\nle 24 de 10h à 12h \n22 décembre de 10h à 12h et de 14h à 17h\nAtelier confection de couronnes de Noël. Participez à la magie de Noël dans notre Ville !\nInscriptions au 03 21 61 81 91\nMédiathèque Marcel Wacheux \n23 décembre à 14h et 15h30\n24 décembre à 10h et 11h\nSpectacles de marionnettes\nInscriptions au 03 21 61 81 91\nMédiathèque Marcel Wacheux \n24 décembre\n16h\, distribution de jouets\n18h\, visite du Père Noël et distribution de friandises\nMarché Fret\, place Bodelot \nRenseignements :\nService Commerce – 06 69 28 27 65\nEn partenariat avec l’OFCAS et les Conseils Citoyens \n  \nÀ Labuissière du 12 au 16 décembre :\nRue des Charitables\n \nMarché de Noël\nde 10h à 20h le week-end\nde 15h30 à 19h en semaine\nArtisanat\, gastronomie\, petite restauration et buvette \n12 décembre à 18h30\nInauguration du marché avec des chants de Noël par l’atelier gospel \n15 décembre\n15h\, Kamishibaï. Cet art d’origine japonaise\, signifie littéralement « drame en papier ». Sous la forme d’un petit castelet en bois\, à l’intérieur duquel le conteur fait défiler des images\, ce petit théâtre proposera plusieurs contes traditionnels\, pour le plaisir des grands et des petits.\n19h30\, flashmob de l’Association Artistique de Labuissière\n20h30\, feu d’artifice d’hiver au Donjon \n15 et 16 décembre\n14h\, stand maquillage sous la yourte\, et fil rouge pour le Téléthon (également le 16 de 8h à 18h au Stade Vélodrome pour le fil rouge)\n14h30\, igloo créatif. À l’intérieur les enfants pourront confectionner des objets de décoration. Cet atelier sera animé par Stéphanie Georges\, intervenante en arts plastiques du Manoir de Baillencourt.\nde 10h à 20h\, défi de la banquise. Parcours aventure pour les enfants dès 1m40. Les explorateurs en herbe sont attendus au coeur de la banquise pour un parcours exceptionnel. Leur mission ? Traverser les épreuves qui jalonnent leur parcours en toute sécurité. Les enfants sont sécurisés dès la 1ère marche (ligne de vie continue). Plus de 40 mètres de parcours dans un décor magnifique.\nde 10h à 20h\, le carroussel oublié pour les plus petits. Il était une fois un manège\, qui fut oublié au fond d’un bois pendant plus de 100 ans. Une fois retrouvé\, il reprit sa rotation\, en ayant gardé les stigmates de sa longue attente au coeur de la nature. Mais la légende dit que le manège a des pouvoirs magiques. Ses sujets ont tous une histoire à raconter. Autant d’histoires que de personnages sur le manège. Des contes qui durent\, le temps d’un tour de manège…\nde 16h à 17h30\, photos avec le Père Noël.  Venez faire photographier vos chérubins avec le Père Noël\, et n’oubliez pas de laisser vos coordonnées pour que celle-ci vous soit envoyée la semaine suivante ! 1€ la photo au profit du Téléthon. \n16 décembre à 15h\nChristmas Swing\, en revisitant le répertoire des grands classiques de Noël en version swing\, 4 musiciens propageront une véritable ambiance de fête. \nRenseignements :\nService culturel – 03 59 41 34 25\nEn partenariat avec le P.R.E\, le comité de quartier Lavolville \n \n \n 
URL:https://bruaylabuissiere.fr/event/marche-et-village-de-noel/
LOCATION:Bruay La Buissière
CATEGORIES:Arts & Culture,Atelier,Enfance,Jeunesse,Spectacles & Concerts
ATTACH;FMTTYPE=image/jpeg:https://bruaylabuissiere.fr/wp-content/uploads/2018/11/Flyer-Sapin-BLB-modifs-pour-site-1.jpg
END:VEVENT
BEGIN:VEVENT
DTSTART;TZID=UTC:20181210T150000
DTEND;TZID=UTC:20181211T160000
DTSTAMP:20260419T184006
CREATED:20181205T144918Z
LAST-MODIFIED:20181205T150413Z
UID:13795-1544454000-1544544000@bruaylabuissiere.fr
SUMMARY:Découverte des métiers de la plasturgie et des composites
DESCRIPTION:L’équipe PUXI va à la rencontre des jeunes à bord de son lab’ de la plasturgie et des composites. \nEcrans tactiles\, réalité augmentée\, production d’objets en temps réel\, simulations… L’objectif ? Accompagner les jeunes dans la construction de leur projet professionnel\, avec la découverte des métiers\, formations et technologies de la plasturgie et des composites. \nDe décembre 2018 à mars 2019\, l’atelier mobile sillonne la France\, en faisant étape dans des dizaines de collèges et lycées. Cette année\, près de 3 000 jeunes vont entrer dans le lab’ de la plasturgie et des composites ! Pour certaines classes\, la visite du lab’ est complétée par une visite d’entreprise locale.
URL:https://bruaylabuissiere.fr/event/decouverte-des-metiers-de-la-plasturgie-et-des-composites/
LOCATION:collège Albert Camus\, Place Henri Bodelot\, Bruay-La-Buissière\, 62700\, France
CATEGORIES:Jeunesse
ATTACH;FMTTYPE=image/jpeg:https://bruaylabuissiere.fr/wp-content/uploads/2018/12/Puxi.jpg
END:VEVENT
BEGIN:VEVENT
DTSTART;TZID=UTC:20181201T100000
DTEND;TZID=UTC:20181208T140000
DTSTAMP:20260419T184006
CREATED:20181121T172356Z
LAST-MODIFIED:20181121T172356Z
UID:13679-1543658400-1544277600@bruaylabuissiere.fr
SUMMARY:Le vinyle fait son grand retour !
DESCRIPTION:TEMPS FORT \nDu 1er au 8 décembre :\nexposition “Révolution 33”.\nInauguration à 11h avec un concert mystère et concours Sleeveface \nMercredi 5 décembre :\natelier “Céline détourne tes vinyles” à 15h par Ma Ngoudi Évènementiel \nVendredi 7 décembre :\n“Apéro vinyle” à 18h \nSamedi 8 décembre :\n“Boeuf de Noël” à 15h avec Les 3 guitares\, Pétronille Placide\, PH2O et The Mad Boys
URL:https://bruaylabuissiere.fr/event/le-vinyle-fait-son-grand-retour/
LOCATION:Médiathèque Marcel Wacheux\, 82 rue du Périgord\, Bruay-La-Buissière\, 62700
CATEGORIES:Arts & Culture,Chanson française,Concert rock,Concert soul music,Enfance,Exposition,Jeunesse,Spectacles & Concerts
ATTACH;FMTTYPE=image/jpeg:https://bruaylabuissiere.fr/wp-content/uploads/2018/11/A3-MUSIQUE-Vinyle.jpg
END:VEVENT
BEGIN:VEVENT
DTSTART;TZID=UTC:20181114T130000
DTEND;TZID=UTC:20181114T130000
DTSTAMP:20260419T184006
CREATED:20181029T165412Z
LAST-MODIFIED:20181029T165412Z
UID:13520-1542200400-1542200400@bruaylabuissiere.fr
SUMMARY:Tournoi Rocket League sur PS4
DESCRIPTION:
URL:https://bruaylabuissiere.fr/event/tournoi-rocket-league-sur-ps4/
LOCATION:Médiathèque Marcel Wacheux\, 82 rue du Périgord\, Bruay-La-Buissière\, 62700
CATEGORIES:Arts & Culture,Enfance,Jeunesse,Jeux vidéo
ATTACH;FMTTYPE=image/jpeg:https://bruaylabuissiere.fr/wp-content/uploads/2018/10/A3-Tournoi-Rocket-copie.jpg
END:VEVENT
BEGIN:VEVENT
DTSTART;TZID=UTC:20181109T173000
DTEND;TZID=UTC:20181109T173000
DTSTAMP:20260419T184006
CREATED:20181029T164632Z
LAST-MODIFIED:20181029T164632Z
UID:13514-1541784600-1541784600@bruaylabuissiere.fr
SUMMARY:La nuit descend
DESCRIPTION:Par la Cie Home Théâtre
URL:https://bruaylabuissiere.fr/event/la-nuit-descend/
LOCATION:Médiathèque Marcel Wacheux\, 82 rue du Périgord\, Bruay-La-Buissière\, 62700
CATEGORIES:Arts & Culture,Enfance,Jeunesse,Théâtre
ATTACH;FMTTYPE=image/jpeg:https://bruaylabuissiere.fr/wp-content/uploads/2018/10/A3-La-nuit-descend.jpg
END:VEVENT
BEGIN:VEVENT
DTSTART;TZID=UTC:20181108T070000
DTEND;TZID=UTC:20181207T163000
DTSTAMP:20260419T184006
CREATED:20181024T091521Z
LAST-MODIFIED:20181024T091521Z
UID:13473-1541660400-1544200200@bruaylabuissiere.fr
SUMMARY:Collecte de jouets
DESCRIPTION:Jouez du coeur avec nous ! \nDonnez une nouvelle vie à vos anciens jouets\, livres… en les offrant aux enfants des Restos du Coeur de Bruay-La-Buissière. \nContact et dépôt des jouets :\nservice communication : 03 21 64 56 11
URL:https://bruaylabuissiere.fr/event/collecte-de-jouets/
LOCATION:Maison des services\, 39\, rue Pierre Bérégovoy\, Bruay-La-Buissière\, 62700\, France
CATEGORIES:Enfance,Jeunesse
ATTACH;FMTTYPE=image/jpeg:https://bruaylabuissiere.fr/wp-content/uploads/2018/10/collecte-jouets.jpg
ORGANIZER;CN="service Communication":MAILTO:communication@bruaylabuissiere.fr
END:VEVENT
BEGIN:VEVENT
DTSTART;TZID=UTC:20181106T133000
DTEND;TZID=UTC:20181106T170000
DTSTAMP:20260419T184006
CREATED:20181022T165017Z
LAST-MODIFIED:20181022T165017Z
UID:13448-1541511000-1541523600@bruaylabuissiere.fr
SUMMARY:Don du sang
DESCRIPTION:
URL:https://bruaylabuissiere.fr/event/don-du-sang/
LOCATION:Salle Georges Hurtrel\, Place du Rietz\, Bruay-la-buissière\, 62700
CATEGORIES:Jeunesse
ATTACH;FMTTYPE=image/jpeg:https://bruaylabuissiere.fr/wp-content/uploads/2018/10/don-du-sang-Lab.jpg
END:VEVENT
BEGIN:VEVENT
DTSTART;TZID=UTC:20181031T180000
DTEND;TZID=UTC:20181031T220000
DTSTAMP:20260419T184006
CREATED:20181018T152723Z
LAST-MODIFIED:20181018T152723Z
UID:13423-1541008800-1541023200@bruaylabuissiere.fr
SUMMARY:Nocturne Halloween
DESCRIPTION:Au Skate-Park \nRenseignements au 03 59 41 34 20 ou sur service.sports@bruaylabuissiere.fr
URL:https://bruaylabuissiere.fr/event/nocturne-halloween/
CATEGORIES:Jeunesse,sports
ATTACH;FMTTYPE=image/jpeg:https://bruaylabuissiere.fr/wp-content/uploads/2018/10/2018-Sports-A6-nocturne-Halloween.jpg
ORGANIZER;CN="Service des sports":MAILTO:service.sports@bruaylabuissiere.fr
END:VEVENT
BEGIN:VEVENT
DTSTART;TZID=UTC:20181024T080000
DTEND;TZID=UTC:20181031T170000
DTSTAMP:20260419T184006
CREATED:20181008T163542Z
LAST-MODIFIED:20181008T170007Z
UID:13288-1540368000-1541005200@bruaylabuissiere.fr
SUMMARY:Atelier sur le thème d'Halloween
DESCRIPTION:Loisirs créatifs de 5 à 10 ans \nMercredi 24 octobre 2018 à 10h et à 15h : décorez la section jeunesse (sans inscription) \nMercredis 31 octobre à 10h et 19 décembre à 10h et à 15h : création d’objets
URL:https://bruaylabuissiere.fr/event/atelier-sur-le-theme-dhalloween/
LOCATION:Médiathèque Marcel Wacheux\, 82 rue du Périgord\, Bruay-La-Buissière\, 62700
CATEGORIES:Jeunesse
ATTACH;FMTTYPE=image/jpeg:https://bruaylabuissiere.fr/wp-content/uploads/2018/10/Atelier-loisirs-créatifs-HALLOWEEN.jpg
END:VEVENT
BEGIN:VEVENT
DTSTART;TZID=UTC:20181018T060000
DTEND;TZID=UTC:20181114T170000
DTSTAMP:20260419T184006
CREATED:20181018T153650Z
LAST-MODIFIED:20181018T153904Z
UID:13426-1539842400-1542214800@bruaylabuissiere.fr
SUMMARY:Santé\, Alimentation\, Sport
DESCRIPTION:Au coeur de ton quartier ! \nEntraîne toi à la pratique du biathlon : course d’orientation et sport de tir (tir à l’arc\, javelot et sarbacane). \nCes activités sont gratuites et ouvertes à tous dès 8 ans. \nTEMPS FORT\nLe 14 novembre\nViens relever le challenge de l’Inter-quartiers à la salle Jesse Owens\, quartier du Centre. \n \nInfo sur service.sports@bruaylabuissiere.fr
URL:https://bruaylabuissiere.fr/event/sante-alimentation-sport/
CATEGORIES:Jeunesse,sports
ATTACH;FMTTYPE=image/jpeg:https://bruaylabuissiere.fr/wp-content/uploads/2018/10/Recto-A5-SAS.jpg
ORGANIZER;CN="Service des sports":MAILTO:service.sports@bruaylabuissiere.fr
END:VEVENT
BEGIN:VEVENT
DTSTART;TZID=UTC:20181015T060000
DTEND;TZID=UTC:20181024T150000
DTSTAMP:20260419T184006
CREATED:20180904T114138Z
LAST-MODIFIED:20180904T114940Z
UID:12851-1539583200-1540393200@bruaylabuissiere.fr
SUMMARY:L'enfant dROIts
DESCRIPTION:TEMPS FORT DÉDIÉ AUX DROITS DE L’ENFANT \nC’est toujours à partir d’un évènement\, d’une création ou  de la sortie d’un film que  le  Pôle de Développement Culturel (Cinéma\, Médiathèque et Art de la Scène) choisit une nouvelle thématique à proposer et à par- tager avec le public. \nCette fois-ci\, c’est à la fois le sujet des Droits Humains déve- loppé par l’Office de la Jeunesse à travers Les Cultures Plurielles et aussi la création de la Compagnie Le Grand  Boucan : \n« A ceux qui nous  ont  offensés »\, qui nous ont convaincus de travailler sur les harcèlements faits à l’enfance et en particulier dans l’environnement scolaire. \nL’idée reste de proposer des programmations artistiques\, des expositions\, des moments d’échanges et aussi festifs\, autour de la thématique\, non seulement avec le public mais aussi avec les personnes directement confrontées au sujet : professeurs\, élèves et jeunes en général\, associations\, artistes… \nStop au harcèlement \nMÉDIATHÈQUE MARCEL WACHEUX \n10 panneaux pour expliquer simplement aux enfants les mécanismes du harcèlement et les moyens d’en sortir. \nStop au Harcèlement scolaire / Ça s’appelle du harcèlement ? / Le cyber-harcèlement / Ça peut faire très mal ! / Qui harcèle ? / Pourquoi moi ? / Ne reste pas seul(e) / Apprends l’esquive / Construis le monde. \nExposition prêtée par la MIPPS (SIVOM du Bruaysis) \nCartooning for peace \n ESPACE BULLY-BRIAS \nLiberté d’expression\, peut-on rire de tout ? Dessins et religion\, censure\, rôle d’internet\, racisme\, enfants dans les conflits…Autant de théma- tiques que l’exposition aborde de manière simple et efficace. \nExposition prêtée par la MGEN pour l’Office de la Jeunesse. \nOpération soutenue dans le cadre des financements «Appel à Projet » de la CABBALR. \nPôle de Développement Culturel / Office de la Jeunesse / CMJ / Léo Lagrange / Mipps
URL:https://bruaylabuissiere.fr/event/lenfant-droits/
CATEGORIES:Arts & Culture,Jeunesse
ATTACH;FMTTYPE=image/jpeg:https://bruaylabuissiere.fr/wp-content/uploads/2018/09/enfant-droits.jpg
END:VEVENT
BEGIN:VEVENT
DTSTART;TZID=UTC:20180620T130000
DTEND;TZID=UTC:20180619T220000
DTSTAMP:20260419T184006
CREATED:20180601T153118Z
LAST-MODIFIED:20180601T153118Z
UID:11965-1529499600-1529445600@bruaylabuissiere.fr
SUMMARY:Conte numérique
DESCRIPTION:
URL:https://bruaylabuissiere.fr/event/conte-numerique/
LOCATION:Médiathèque Marcel Wacheux\, 82 rue du Périgord\, Bruay-La-Buissière\, 62700
CATEGORIES:Arts & Culture,Enfance,Jeunesse
ATTACH;FMTTYPE=image/jpeg:https://bruaylabuissiere.fr/wp-content/uploads/2018/06/conte-numerique.jpg
END:VEVENT
END:VCALENDAR