BEGIN:VCALENDAR
VERSION:2.0
PRODID:-//Ville de Bruay-La-Buissière - ECPv6.9.1//NONSGML v1.0//EN
CALSCALE:GREGORIAN
METHOD:PUBLISH
X-WR-CALNAME:Ville de Bruay-La-Buissière
X-ORIGINAL-URL:https://bruaylabuissiere.fr
X-WR-CALDESC:Évènements pour Ville de Bruay-La-Buissière
REFRESH-INTERVAL;VALUE=DURATION:PT1H
X-Robots-Tag:noindex
X-PUBLISHED-TTL:PT1H
BEGIN:VTIMEZONE
TZID:UTC
BEGIN:STANDARD
TZOFFSETFROM:+0000
TZOFFSETTO:+0000
TZNAME:UTC
DTSTART:20240101T000000
END:STANDARD
END:VTIMEZONE
BEGIN:VEVENT
DTSTART;TZID=UTC:20240320T170000
DTEND;TZID=UTC:20240320T170000
DTSTAMP:20260420T031446
CREATED:20240229T105552Z
LAST-MODIFIED:20240229T105552Z
UID:28835-1710954000-1710954000@bruaylabuissiere.fr
SUMMARY:Festival rock/métal
DESCRIPTION:Au profit de l’autisme
URL:https://bruaylabuissiere.fr/event/festival-rock-metal/
LOCATION:Espace Culturel Grossemy\, Cours Kennedy\, Bruay-La-Buissière\, 62700
CATEGORIES:Asso,Concert rock,Rock alternatif,Spectacles & Concerts
ATTACH;FMTTYPE=image/png:https://bruaylabuissiere.fr/wp-content/uploads/2024/02/Copie-de-Feeling-1.png
END:VEVENT
END:VCALENDAR