BEGIN:VCALENDAR
VERSION:2.0
PRODID:-//Ville de Bruay-La-Buissière - ECPv6.9.1//NONSGML v1.0//EN
CALSCALE:GREGORIAN
METHOD:PUBLISH
X-ORIGINAL-URL:https://bruaylabuissiere.fr
X-WR-CALDESC:Évènements pour Ville de Bruay-La-Buissière
REFRESH-INTERVAL;VALUE=DURATION:PT1H
X-Robots-Tag:noindex
X-PUBLISHED-TTL:PT1H
BEGIN:VTIMEZONE
TZID:UTC
BEGIN:STANDARD
TZOFFSETFROM:+0000
TZOFFSETTO:+0000
TZNAME:UTC
DTSTART:20180101T000000
END:STANDARD
END:VTIMEZONE
BEGIN:VEVENT
DTSTART;VALUE=DATE:20180930
DTEND;VALUE=DATE:20181005
DTSTAMP:20260426T023526
CREATED:20180601T152316Z
LAST-MODIFIED:20180601T152316Z
UID:11958-1538344800-1538690399@bruaylabuissiere.fr
SUMMARY:Repas des aînés
DESCRIPTION:
URL:https://bruaylabuissiere.fr/event/repas-des-aines/
LOCATION:Salle Marmottan\, Place Marmottan\, Bruay-la-buissière\, 62700
CATEGORIES:Asso,Séniors
ATTACH;FMTTYPE=image/jpeg:https://bruaylabuissiere.fr/wp-content/uploads/2018/06/repas-des-aines.jpg
END:VEVENT
BEGIN:VEVENT
DTSTART;TZID=UTC:20181008T060000
DTEND;TZID=UTC:20181014T210000
DTSTAMP:20260426T023526
CREATED:20181008T161309Z
LAST-MODIFIED:20181008T161309Z
UID:13279-1538978400-1539550800@bruaylabuissiere.fr
SUMMARY:Semaine bleue
DESCRIPTION:Mercredi 10 : répétition de l’Orchestre Symphonique à 19h\, Chapelle Sainte-Barbe \nJeudi 11 : thé dansant\, salle Marmottan. 3€ (bruaysiens) / 6€ (extérieurs) \nvendredi 12 : sortie à Étretat. Départ à 5h place Marmottan. Visite du Palais Bénédictine de Fécamp. 60€ repas compris.
URL:https://bruaylabuissiere.fr/event/semaine-bleue/
CATEGORIES:Séniors
ATTACH;FMTTYPE=image/jpeg:https://bruaylabuissiere.fr/wp-content/uploads/2018/10/logo-semaine-bleue.jpg
END:VEVENT
BEGIN:VEVENT
DTSTART;VALUE=DATE:20181010
DTEND;VALUE=DATE:20181012
DTSTAMP:20260426T023526
CREATED:20181002T141454Z
LAST-MODIFIED:20181002T161701Z
UID:13226-1539208800-1539295199@bruaylabuissiere.fr
SUMMARY:Thé dansant
DESCRIPTION:Bruaysiens : 3€ \nExtérieurs : 6€
URL:https://bruaylabuissiere.fr/event/the-dansant-4/
LOCATION:Salle Marmottan\, Place Marmottan\, Bruay-la-buissière\, 62700
CATEGORIES:Séniors
ATTACH;FMTTYPE=image/jpeg:https://bruaylabuissiere.fr/wp-content/uploads/2018/10/seniors-the-dansant.jpg
END:VEVENT
BEGIN:VEVENT
DTSTART;VALUE=DATE:20181011
DTEND;VALUE=DATE:20181013
DTSTAMP:20260426T023526
CREATED:20181002T142249Z
LAST-MODIFIED:20181002T142713Z
UID:13228-1539295200-1539381599@bruaylabuissiere.fr
SUMMARY:Sortie à Etretat
DESCRIPTION:Départ à 5h de la place Marmottan. Visite du palais Bénédictine de Fécamp \n60€ Repas compris
URL:https://bruaylabuissiere.fr/event/sortie-a-etretat/
CATEGORIES:Séniors
ATTACH;FMTTYPE=image/jpeg:https://bruaylabuissiere.fr/wp-content/uploads/2018/10/etretat-2729751_960_720.jpg
END:VEVENT
BEGIN:VEVENT
DTSTART;TZID=UTC:20181018T113000
DTEND;TZID=UTC:20181018T150000
DTSTAMP:20260426T023526
CREATED:20181016T153744Z
LAST-MODIFIED:20181016T153744Z
UID:13415-1539862200-1539874800@bruaylabuissiere.fr
SUMMARY:Conférence sur la prévention routière
DESCRIPTION:Jeudi 18 octobre 2018 de 9h à 12h et de 13h30 à 17h\n2e étage de la Maison des Services\n2 groupes de 15 personnes
URL:https://bruaylabuissiere.fr/event/conference-sur-la-prevention-routiere/
CATEGORIES:Séniors
ATTACH;FMTTYPE=image/jpeg:https://bruaylabuissiere.fr/wp-content/uploads/2018/10/securite.jpg
END:VEVENT
BEGIN:VEVENT
DTSTART;TZID=UTC:20181022T070000
DTEND;TZID=UTC:20181129T153000
DTSTAMP:20260426T023526
CREATED:20181009T115339Z
LAST-MODIFIED:20181016T153424Z
UID:13320-1540191600-1543505400@bruaylabuissiere.fr
SUMMARY:Prochains RDV seniors
DESCRIPTION:Sortie football : Lens-Ajaccio\nLundi 22 octobre 2018 à 20h.\nRendez-vous place Mitterrand à 18h\nRéservé aux seniors\nGratuit \nRéunion : séjours 2019\nJeudi 29 novembre 2018 à 16h30\nSalle des fêtes Marmottan\nRetour en image sur les voyages dans le Cantal et aux Canaries
URL:https://bruaylabuissiere.fr/event/prochains-rdv-seniors/
CATEGORIES:Séniors
ATTACH;FMTTYPE=image/jpeg:https://bruaylabuissiere.fr/wp-content/uploads/2018/10/Logo-Accueil-seniors.jpg
END:VEVENT
END:VCALENDAR