BEGIN:VCALENDAR
VERSION:2.0
PRODID:-//Ville de Bruay-La-Buissière - ECPv6.9.1//NONSGML v1.0//EN
CALSCALE:GREGORIAN
METHOD:PUBLISH
X-WR-CALNAME:Ville de Bruay-La-Buissière
X-ORIGINAL-URL:https://bruaylabuissiere.fr
X-WR-CALDESC:Évènements pour Ville de Bruay-La-Buissière
REFRESH-INTERVAL;VALUE=DURATION:PT1H
X-Robots-Tag:noindex
X-PUBLISHED-TTL:PT1H
BEGIN:VTIMEZONE
TZID:UTC
BEGIN:STANDARD
TZOFFSETFROM:+0000
TZOFFSETTO:+0000
TZNAME:UTC
DTSTART:20180101T000000
END:STANDARD
END:VTIMEZONE
BEGIN:VEVENT
DTSTART;TZID=UTC:20181022T070000
DTEND;TZID=UTC:20181129T153000
DTSTAMP:20260426T004815
CREATED:20181009T115339Z
LAST-MODIFIED:20181016T153424Z
UID:13320-1540191600-1543505400@bruaylabuissiere.fr
SUMMARY:Prochains RDV seniors
DESCRIPTION:Sortie football : Lens-Ajaccio\nLundi 22 octobre 2018 à 20h.\nRendez-vous place Mitterrand à 18h\nRéservé aux seniors\nGratuit \nRéunion : séjours 2019\nJeudi 29 novembre 2018 à 16h30\nSalle des fêtes Marmottan\nRetour en image sur les voyages dans le Cantal et aux Canaries
URL:https://bruaylabuissiere.fr/event/prochains-rdv-seniors/
CATEGORIES:Séniors
ATTACH;FMTTYPE=image/jpeg:https://bruaylabuissiere.fr/wp-content/uploads/2018/10/Logo-Accueil-seniors.jpg
END:VEVENT
BEGIN:VEVENT
DTSTART;TZID=UTC:20181115T130000
DTEND;TZID=UTC:20181115T150000
DTSTAMP:20260426T004815
CREATED:20181008T153838Z
LAST-MODIFIED:20181008T153838Z
UID:13273-1542286800-1542294000@bruaylabuissiere.fr
SUMMARY:Concours intergénérationnel de dictée
DESCRIPTION:Par équipe mixte (un senior/un jeune).\nLe goûter est offert.
URL:https://bruaylabuissiere.fr/event/concours-intergenerationnel-de-dictee/
LOCATION:Salle Marmottan\, Place Marmottan\, Bruay-la-buissière\, 62700
CATEGORIES:Séniors
ATTACH;FMTTYPE=image/jpeg:https://bruaylabuissiere.fr/wp-content/uploads/2018/10/2018-Seniors-A3-Dictée.jpg
END:VEVENT
BEGIN:VEVENT
DTSTART;TZID=UTC:20181122T130000
DTEND;TZID=UTC:20181122T130000
DTSTAMP:20260426T004815
CREATED:20181008T161957Z
LAST-MODIFIED:20181008T161957Z
UID:13282-1542891600-1542891600@bruaylabuissiere.fr
SUMMARY:Thé dansant
DESCRIPTION:Ouverture des portes à 13h30 \n3€ pour les bruaysiens\n6€ pour les extérieurs \nDans le cadre du Téléthon
URL:https://bruaylabuissiere.fr/event/the-dansant-5/
LOCATION:Salle Marmottan\, Place Marmottan\, Bruay-la-buissière\, 62700
CATEGORIES:Séniors
ATTACH;FMTTYPE=image/jpeg:https://bruaylabuissiere.fr/wp-content/uploads/2018/10/thé-dansant.jpg
END:VEVENT
END:VCALENDAR