BEGIN:VCALENDAR
VERSION:2.0
PRODID:-//Ville de Bruay-La-Buissière - ECPv6.9.1//NONSGML v1.0//EN
CALSCALE:GREGORIAN
METHOD:PUBLISH
X-ORIGINAL-URL:https://bruaylabuissiere.fr
X-WR-CALDESC:Évènements pour Ville de Bruay-La-Buissière
REFRESH-INTERVAL;VALUE=DURATION:PT1H
X-Robots-Tag:noindex
X-PUBLISHED-TTL:PT1H
BEGIN:VTIMEZONE
TZID:UTC
BEGIN:STANDARD
TZOFFSETFROM:+0000
TZOFFSETTO:+0000
TZNAME:UTC
DTSTART:20190101T000000
END:STANDARD
END:VTIMEZONE
BEGIN:VEVENT
DTSTART;TZID=UTC:20190207T130000
DTEND;TZID=UTC:20190207T160000
DTSTAMP:20260425T183200
CREATED:20190206T093544Z
LAST-MODIFIED:20190206T093632Z
UID:14526-1549544400-1549555200@bruaylabuissiere.fr
SUMMARY:Réunion d'information pour les voyages 2019
DESCRIPTION:À l’occasion des séjours à Saint Jean de Mont du 20 au 27 avril 2019 et au Monténégro du 30 août au 13 septembre 2019 organisé par le service Accueil Seniors avec l’aide de l’ANCV\, une réunion d’information est prévue pour préparer ces voyages à destination des seniors.
URL:https://bruaylabuissiere.fr/event/reunion-dinformation-pour-les-voyages-2019/
LOCATION:Espace Bully-Brias\, Place Bodelot\, Bruay-La-Buissière\, 62700\, France
CATEGORIES:Séniors
ATTACH;FMTTYPE=image/jpeg:https://bruaylabuissiere.fr/wp-content/uploads/2018/10/Logo-Accueil-seniors.jpg
END:VEVENT
BEGIN:VEVENT
DTSTART;TZID=UTC:20190207T133000
DTEND;TZID=UTC:20190207T180000
DTSTAMP:20260425T183200
CREATED:20190121T102844Z
LAST-MODIFIED:20190121T102844Z
UID:14265-1549546200-1549562400@bruaylabuissiere.fr
SUMMARY:Thé dansant
DESCRIPTION:Ouverture des portes à 14h\nau profit du CCAS
URL:https://bruaylabuissiere.fr/event/the-dansant-6/
LOCATION:Salle Marmottan\, Place Marmottan\, Bruay-la-buissière\, 62700
CATEGORIES:Asso,Séniors
ATTACH;FMTTYPE=image/jpeg:https://bruaylabuissiere.fr/wp-content/uploads/2019/01/thé-dansant-Yskras.jpg
ORGANIZER;CN="Orchestra Yskras":MAILTO:orchestra.yskras@gmail.com
END:VEVENT
BEGIN:VEVENT
DTSTART;TZID=UTC:20190208T070000
DTEND;TZID=UTC:20190208T180000
DTSTAMP:20260425T183200
CREATED:20190205T151558Z
LAST-MODIFIED:20190206T093157Z
UID:14517-1549609200-1549648800@bruaylabuissiere.fr
SUMMARY:Concerts en faveur des enfants
DESCRIPTION:Organisation :\nMotards pour l’Enfance Nord Pas-de-Calais Picardie avec le soutien du MC WHR \nRéservations :\n06 20 04 48 52 ou 06 16 90 06 35\nsite
URL:https://bruaylabuissiere.fr/event/concerts-en-faveur-des-enfants/
LOCATION:Espace Culturel Grossemy\, Cours Kennedy\, Bruay-La-Buissière\, 62700
CATEGORIES:Asso,Chanson française,Concert rock,Enfance,Jeunesse,Séniors,Spectacles & Concerts
ATTACH;FMTTYPE=image/jpeg:https://bruaylabuissiere.fr/wp-content/uploads/2019/02/Motards-pour-lenfance.jpg
END:VEVENT
BEGIN:VEVENT
DTSTART;TZID=UTC:20190213T070000
DTEND;TZID=UTC:20190323T160000
DTSTAMP:20260425T183200
CREATED:20190212T151105Z
LAST-MODIFIED:20190212T151105Z
UID:14598-1550041200-1553356800@bruaylabuissiere.fr
SUMMARY:Musique et bien-être
DESCRIPTION:
URL:https://bruaylabuissiere.fr/event/musique-et-bien-etre/
LOCATION:Médiathèque Marcel Wacheux\, 82 rue du Périgord\, Bruay-La-Buissière\, 62700
CATEGORIES:Atelier,Enfance,Jeunesse,Séniors
ATTACH;FMTTYPE=image/jpeg:https://bruaylabuissiere.fr/wp-content/uploads/2019/02/Musique-Bien-être.jpg
END:VEVENT
END:VCALENDAR