BEGIN:VCALENDAR
VERSION:2.0
PRODID:-//Ville de Bruay-La-Buissière - ECPv6.9.1//NONSGML v1.0//EN
CALSCALE:GREGORIAN
METHOD:PUBLISH
X-WR-CALNAME:Ville de Bruay-La-Buissière
X-ORIGINAL-URL:https://bruaylabuissiere.fr
X-WR-CALDESC:Évènements pour Ville de Bruay-La-Buissière
REFRESH-INTERVAL;VALUE=DURATION:PT1H
X-Robots-Tag:noindex
X-PUBLISHED-TTL:PT1H
BEGIN:VTIMEZONE
TZID:UTC
BEGIN:STANDARD
TZOFFSETFROM:+0000
TZOFFSETTO:+0000
TZNAME:UTC
DTSTART:20190101T000000
END:STANDARD
END:VTIMEZONE
BEGIN:VEVENT
DTSTART;TZID=UTC:20190213T070000
DTEND;TZID=UTC:20190323T160000
DTSTAMP:20260425T165531
CREATED:20190212T151105Z
LAST-MODIFIED:20190212T151105Z
UID:14598-1550041200-1553356800@bruaylabuissiere.fr
SUMMARY:Musique et bien-être
DESCRIPTION:
URL:https://bruaylabuissiere.fr/event/musique-et-bien-etre/
LOCATION:Médiathèque Marcel Wacheux\, 82 rue du Périgord\, Bruay-La-Buissière\, 62700
CATEGORIES:Atelier,Enfance,Jeunesse,Séniors
ATTACH;FMTTYPE=image/jpeg:https://bruaylabuissiere.fr/wp-content/uploads/2019/02/Musique-Bien-être.jpg
END:VEVENT
BEGIN:VEVENT
DTSTART;TZID=UTC:20190302T070000
DTEND;TZID=UTC:20190315T160000
DTSTAMP:20260425T165531
CREATED:20190205T152905Z
LAST-MODIFIED:20190205T152905Z
UID:14521-1551510000-1552665600@bruaylabuissiere.fr
SUMMARY:Histoire(s) de Femmes(s)
DESCRIPTION:Samedi 2 mars à 18h30 :\nP’tite scène « Histoires d’Hommes » par Xavier Durringer \nDu 8 au 15 mars :\nexposition « Femmes célèbres » \nSamedi 9 février à 10h30 et 14h :\natelier d’écriture sur le thème « Si j’étais une star » animé par l’auteure et chanteuse Babette Largo
URL:https://bruaylabuissiere.fr/event/histoires-de-femmess/
LOCATION:Médiathèque Marcel Wacheux\, 82 rue du Périgord\, Bruay-La-Buissière\, 62700
CATEGORIES:Arts & Culture,Atelier,Exposition,Séniors,Théâtre
ATTACH;FMTTYPE=image/jpeg:https://bruaylabuissiere.fr/wp-content/uploads/2019/02/Histoires-de-Femmes.jpg
END:VEVENT
BEGIN:VEVENT
DTSTART;TZID=UTC:20190306T090000
DTEND;TZID=UTC:20190327T183000
DTSTAMP:20260425T165531
CREATED:20190313T145532Z
LAST-MODIFIED:20190313T145532Z
UID:14879-1551862800-1553711400@bruaylabuissiere.fr
SUMMARY:Santé\, alimentation et sport
DESCRIPTION:
URL:https://bruaylabuissiere.fr/event/sante-alimentation-et-sport/
CATEGORIES:Echanges/rencontres,Jeunesse,Séniors,sports
ATTACH;FMTTYPE=image/jpeg:https://bruaylabuissiere.fr/wp-content/uploads/2019/03/SAS-mars-2019.jpg
ORGANIZER;CN="Service des sports":MAILTO:service.sports@bruaylabuissiere.fr
END:VEVENT
BEGIN:VEVENT
DTSTART;TZID=UTC:20190313T130000
DTEND;TZID=UTC:20190515T153000
DTSTAMP:20260425T165531
CREATED:20190212T143714Z
LAST-MODIFIED:20190212T144402Z
UID:14585-1552482000-1557934200@bruaylabuissiere.fr
SUMMARY:Les mercredis sportifs de mars à mai
DESCRIPTION:
URL:https://bruaylabuissiere.fr/event/les-mercredis-sportifs-de-mars-a-mai/
CATEGORIES:Jeunesse,Séniors,sports
ATTACH;FMTTYPE=image/jpeg:https://bruaylabuissiere.fr/wp-content/uploads/2019/02/2019-Sports-Mercredis-sportifs-mars-mai.jpg
ORGANIZER;CN="Service des sports":MAILTO:service.sports@bruaylabuissiere.fr
END:VEVENT
BEGIN:VEVENT
DTSTART;TZID=UTC:20190323T080000
DTEND;TZID=UTC:20190323T110000
DTSTAMP:20260425T165531
CREATED:20190315T120117Z
LAST-MODIFIED:20190315T120117Z
UID:14908-1553328000-1553338800@bruaylabuissiere.fr
SUMMARY:Hauts-de-France propres
DESCRIPTION:Acteur de votre ville\, participez à l’opération ! \nLa Ville s’associe à la Région pour son temps fort « Hauts de France propres\, ensemble nettoyons notre région ! ». Rendez-vous à Bruay-La-Buissière le samedi 23 mars pour agir ensemble sur notre cadre de vie. A Labuissière\, cette opération vient renforcer celle initiée par la commune en 2015 « commune propre ». \nArmés de gants et d’une motivation sans faille\, les bénévoles sont les bienvenus pour ramasser et trier un maximum de déchets : objets divers\, chewing-gum\, crottes de chien\, mégots de cigarettes\, canettes\, bouteilles\, sacs en plastique laissés dans les rues\, les parcs et les jardins\, sur les parkings.  \nSe débarrasser de ses déchets sur un trottoir\, au coin d’une rue\, au bord de la route ; les jeter de la fenêtre de sa voiture\, n’est pas sans conséquence ! Ces détritus « sauvages » portent bien leur nom. Ils dégradent notre environnement\, notre paysage\, polluent l’air\, les sols\, les eaux. Ils empoisonnent notre cadre de vie. Par ailleurs\, ils coûtent de l’argent à la Ville et par conséquent à chaque citoyen. La rue est à tous\, c’est un lieu public\, un lieu de vie pour tous. \nChaque individu peut agir pour l’environnement et pour préserver la biodiversité. Entreprises\, écoles\, association\, collectivités… Nous sommes tous concernés. « Hautes de France propres »\, une aventure humaine et citoyenne ! \n  \nLe protocole de ramassage  \n• Le port du gilet fluorescent est obligatoire\, ne vous mettez pas en danger aux abords des routes et chemins. Respectez la disposition du code de la route. Pas d’intervention simultanée de chaque côté de la chaussée ; \n• Concernant les rivières\, les canaux et les étangs il est convenu d’exclure la pente des berges et les ouvrages. \nRamassage par équipe de deux personnes minimum aux abords de l’eau ; \n• Le port des gants est obligatoire ; \n• Ne pas ramasser les objets coupants\, piquants….; \n•De nombreuses matières sont dangereuses\, ne pas y toucher et signaler leurs emplacements.
URL:https://bruaylabuissiere.fr/event/hauts-de-france-propres/
CATEGORIES:Echanges/rencontres,Enfance,Jeunesse,Séniors
ATTACH;FMTTYPE=image/jpeg:https://bruaylabuissiere.fr/wp-content/uploads/2019/03/HDP-PROPRE.jpg
END:VEVENT
BEGIN:VEVENT
DTSTART;TZID=UTC:20190328T130000
DTEND;TZID=UTC:20190328T170000
DTSTAMP:20260425T165531
CREATED:20190205T144437Z
LAST-MODIFIED:20190205T144437Z
UID:14509-1553778000-1553792400@bruaylabuissiere.fr
SUMMARY:Thé dansant
DESCRIPTION:Ouverture des portes à 13h30 \nAvec l’orchestre « Arc en Ciel » \nTarifs :\n3€ : bruaysiens\n6€ : extérieurs
URL:https://bruaylabuissiere.fr/event/the-dansant-7/
LOCATION:Salle Marmottan\, Place Marmottan\, Bruay-la-buissière\, 62700
CATEGORIES:Asso,Séniors
ATTACH;FMTTYPE=image/jpeg:https://bruaylabuissiere.fr/wp-content/uploads/2019/02/2019-Seniors-A3-Thé-dansant-28-mars.jpg
END:VEVENT
BEGIN:VEVENT
DTSTART;TZID=UTC:20190331T140000
DTEND;TZID=UTC:20190331T150000
DTSTAMP:20260425T165531
CREATED:20190318T094946Z
LAST-MODIFIED:20190318T094946Z
UID:14931-1554040800-1554044400@bruaylabuissiere.fr
SUMMARY:Concert de printemps
DESCRIPTION:
URL:https://bruaylabuissiere.fr/event/concert-de-printemps-3/
LOCATION:Salle Georges Hurtrel\, Place du Rietz\, Bruay-la-buissière\, 62700
CATEGORIES:Arts & Culture,Concert classique,Jeunesse,Séniors
ATTACH;FMTTYPE=image/jpeg:https://bruaylabuissiere.fr/wp-content/uploads/2019/03/2019-LAB-Musique-Concert-de-printemps.jpg
END:VEVENT
END:VCALENDAR