BEGIN:VCALENDAR
VERSION:2.0
PRODID:-//Ville de Bruay-La-Buissière - ECPv6.9.1//NONSGML v1.0//EN
CALSCALE:GREGORIAN
METHOD:PUBLISH
X-ORIGINAL-URL:https://bruaylabuissiere.fr
X-WR-CALDESC:Évènements pour Ville de Bruay-La-Buissière
REFRESH-INTERVAL;VALUE=DURATION:PT1H
X-Robots-Tag:noindex
X-PUBLISHED-TTL:PT1H
BEGIN:VTIMEZONE
TZID:UTC
BEGIN:STANDARD
TZOFFSETFROM:+0000
TZOFFSETTO:+0000
TZNAME:UTC
DTSTART:20200101T000000
END:STANDARD
END:VTIMEZONE
BEGIN:VEVENT
DTSTART;TZID=UTC:20200823T093000
DTEND;TZID=UTC:20200823T160000
DTSTAMP:20260424T105255
CREATED:20200730T114752Z
LAST-MODIFIED:20200730T114752Z
UID:19237-1598175000-1598198400@bruaylabuissiere.fr
SUMMARY:Fête champêtre
DESCRIPTION:La Ville de Bruay-La-Buissière vous convie à sa fête champêtre au stade de football face à l’école Basly le 23 août ! \nVenez en famille et entre amis pour passer une agréable journée ! \nAttention : réservation au 06 88 94 30 15. Entrée gratuite
URL:https://bruaylabuissiere.fr/event/fete-champetre/
CATEGORIES:Enfance,Intergénérationnel,Jeunesse,Séniors
ATTACH;FMTTYPE=image/jpeg:https://bruaylabuissiere.fr/wp-content/uploads/2020/07/2020-fète-champetre.jpg
END:VEVENT
END:VCALENDAR