BEGIN:VCALENDAR
VERSION:2.0
PRODID:-//Ville de Bruay-La-Buissière - ECPv6.9.1//NONSGML v1.0//EN
CALSCALE:GREGORIAN
METHOD:PUBLISH
X-ORIGINAL-URL:https://bruaylabuissiere.fr
X-WR-CALDESC:Évènements pour Ville de Bruay-La-Buissière
REFRESH-INTERVAL;VALUE=DURATION:PT1H
X-Robots-Tag:noindex
X-PUBLISHED-TTL:PT1H
BEGIN:VTIMEZONE
TZID:UTC
BEGIN:STANDARD
TZOFFSETFROM:+0000
TZOFFSETTO:+0000
TZNAME:UTC
DTSTART:20220101T000000
END:STANDARD
END:VTIMEZONE
BEGIN:VEVENT
DTSTART;TZID=UTC:20220408T063000
DTEND;TZID=UTC:20220408T163000
DTSTAMP:20260422T215906
CREATED:20220301T100535Z
LAST-MODIFIED:20220315T150644Z
UID:23826-1649399400-1649435400@bruaylabuissiere.fr
SUMMARY:Sortie à Nausicaà - Centre national de la Mer
DESCRIPTION:
URL:https://bruaylabuissiere.fr/event/sortie-a-nausicaa/
CATEGORIES:Séniors
ATTACH;FMTTYPE=image/jpeg:https://bruaylabuissiere.fr/wp-content/uploads/2022/03/2022-CCAS-sortie-a-nausicaa-e1647353195889.jpg
END:VEVENT
BEGIN:VEVENT
DTSTART;TZID=UTC:20220429T073000
DTEND;TZID=UTC:20220429T200000
DTSTAMP:20260422T215906
CREATED:20220329T071004Z
LAST-MODIFIED:20220329T071004Z
UID:24055-1651217400-1651262400@bruaylabuissiere.fr
SUMMARY:Sortie au château de Chantilly
DESCRIPTION:
URL:https://bruaylabuissiere.fr/event/sortie-au-chateau-de-chantilly/
CATEGORIES:Séniors
ATTACH;FMTTYPE=image/jpeg:https://bruaylabuissiere.fr/wp-content/uploads/2022/03/2022-CCAS-chateau-de-chantilly.jpg
END:VEVENT
END:VCALENDAR