BEGIN:VCALENDAR
VERSION:2.0
PRODID:-//Ville de Bruay-La-Buissière - ECPv6.9.1//NONSGML v1.0//EN
CALSCALE:GREGORIAN
METHOD:PUBLISH
X-ORIGINAL-URL:https://bruaylabuissiere.fr
X-WR-CALDESC:Évènements pour Ville de Bruay-La-Buissière
REFRESH-INTERVAL;VALUE=DURATION:PT1H
X-Robots-Tag:noindex
X-PUBLISHED-TTL:PT1H
BEGIN:VTIMEZONE
TZID:UTC
BEGIN:STANDARD
TZOFFSETFROM:+0000
TZOFFSETTO:+0000
TZNAME:UTC
DTSTART:20220101T000000
END:STANDARD
END:VTIMEZONE
BEGIN:VEVENT
DTSTART;TZID=UTC:20220603T080000
DTEND;TZID=UTC:20220603T193000
DTSTAMP:20260422T190621
CREATED:20220512T062658Z
LAST-MODIFIED:20220512T062733Z
UID:24274-1654243200-1654284600@bruaylabuissiere.fr
SUMMARY:Sortie en Baie de Somme
DESCRIPTION:
URL:https://bruaylabuissiere.fr/event/sortie-en-baie-de-somme/
CATEGORIES:Séniors
ATTACH;FMTTYPE=image/jpeg:https://bruaylabuissiere.fr/wp-content/uploads/2022/05/2022-baie-de-somme.jpg
END:VEVENT
BEGIN:VEVENT
DTSTART;TZID=UTC:20220624T193000
DTEND;TZID=UTC:20220624T193000
DTSTAMP:20260422T190621
CREATED:20220530T073133Z
LAST-MODIFIED:20220530T073133Z
UID:24351-1656099000-1656099000@bruaylabuissiere.fr
SUMMARY:In vlà des contes !
DESCRIPTION:
URL:https://bruaylabuissiere.fr/event/in-vla-des-contes/
LOCATION:Espace Culturel Grossemy\, Cours Kennedy\, Bruay-La-Buissière\, 62700
CATEGORIES:Séniors,Spectacles & Concerts
ATTACH;FMTTYPE=image/jpeg:https://bruaylabuissiere.fr/wp-content/uploads/2022/05/2022-spectacle-patoisant.jpg
END:VEVENT
END:VCALENDAR