BEGIN:VCALENDAR
VERSION:2.0
PRODID:-//Ville de Bruay-La-Buissière - ECPv6.9.1//NONSGML v1.0//EN
CALSCALE:GREGORIAN
METHOD:PUBLISH
X-WR-CALNAME:Ville de Bruay-La-Buissière
X-ORIGINAL-URL:https://bruaylabuissiere.fr
X-WR-CALDESC:Évènements pour Ville de Bruay-La-Buissière
REFRESH-INTERVAL;VALUE=DURATION:PT1H
X-Robots-Tag:noindex
X-PUBLISHED-TTL:PT1H
BEGIN:VTIMEZONE
TZID:UTC
BEGIN:STANDARD
TZOFFSETFROM:+0000
TZOFFSETTO:+0000
TZNAME:UTC
DTSTART:20180101T000000
END:STANDARD
END:VTIMEZONE
BEGIN:VEVENT
DTSTART;TZID=UTC:20181217T130000
DTEND;TZID=UTC:20181217T130000
DTSTAMP:20260425T232839
CREATED:20181008T152712Z
LAST-MODIFIED:20181008T152712Z
UID:13267-1545051600-1545051600@bruaylabuissiere.fr
SUMMARY:Ciné-seniors
DESCRIPTION:Ouverture des portes à 13h30\nRéservé aux seniors bruaysiens sur invitation.
URL:https://bruaylabuissiere.fr/event/cine-seniors/
LOCATION:Cinéma Les étoiles\, 102 Rue du Périgord\, Bruay-la-Buissière\, 62700
CATEGORIES:Séniors
ATTACH;FMTTYPE=image/jpeg:https://bruaylabuissiere.fr/wp-content/uploads/2018/10/seniors-ciné-gouter-ainés.jpg
END:VEVENT
END:VCALENDAR