BEGIN:VCALENDAR
VERSION:2.0
PRODID:-//Ville de Bruay-La-Buissière - ECPv6.9.1//NONSGML v1.0//EN
CALSCALE:GREGORIAN
METHOD:PUBLISH
X-WR-CALNAME:Ville de Bruay-La-Buissière
X-ORIGINAL-URL:https://bruaylabuissiere.fr
X-WR-CALDESC:Évènements pour Ville de Bruay-La-Buissière
REFRESH-INTERVAL;VALUE=DURATION:PT1H
X-Robots-Tag:noindex
X-PUBLISHED-TTL:PT1H
BEGIN:VTIMEZONE
TZID:UTC
BEGIN:STANDARD
TZOFFSETFROM:+0000
TZOFFSETTO:+0000
TZNAME:UTC
DTSTART:20190101T000000
END:STANDARD
END:VTIMEZONE
BEGIN:VEVENT
DTSTART;TZID=UTC:20190313T130000
DTEND;TZID=UTC:20190515T153000
DTSTAMP:20260425T164721
CREATED:20190212T143714Z
LAST-MODIFIED:20190212T144402Z
UID:14585-1552482000-1557934200@bruaylabuissiere.fr
SUMMARY:Les mercredis sportifs de mars à mai
DESCRIPTION:
URL:https://bruaylabuissiere.fr/event/les-mercredis-sportifs-de-mars-a-mai/
CATEGORIES:Jeunesse,Séniors,sports
ATTACH;FMTTYPE=image/jpeg:https://bruaylabuissiere.fr/wp-content/uploads/2019/02/2019-Sports-Mercredis-sportifs-mars-mai.jpg
ORGANIZER;CN="Service des sports":MAILTO:service.sports@bruaylabuissiere.fr
END:VEVENT
BEGIN:VEVENT
DTSTART;TZID=UTC:20190428T073000
DTEND;TZID=UTC:20190428T100000
DTSTAMP:20260425T164721
CREATED:20190415T161016Z
LAST-MODIFIED:20190415T161225Z
UID:15180-1556436600-1556445600@bruaylabuissiere.fr
SUMMARY:Course d'orientation
DESCRIPTION:Dans la forêt d’Olhain.\nAccueil dès 9h à la piscine d’Olhain. \nOuvert à tous : loisirs et compétition\nPlusieurs circuits : entre 2\,5 et 10 km \nDécouvrez le programme complet ici.
URL:https://bruaylabuissiere.fr/event/course-dorientation/
CATEGORIES:Asso,Jeunesse,Séniors,sports
ATTACH;FMTTYPE=image/jpeg:https://bruaylabuissiere.fr/wp-content/uploads/2019/04/CO-avril-2019.jpg
END:VEVENT
BEGIN:VEVENT
DTSTART;TZID=UTC:20190428T080000
DTEND;TZID=UTC:20190428T100000
DTSTAMP:20260425T164721
CREATED:20190423T120121Z
LAST-MODIFIED:20190423T120121Z
UID:15209-1556438400-1556445600@bruaylabuissiere.fr
SUMMARY:Cérémonies commémoratives
DESCRIPTION:Souvenir des victimes et des héros de la déportation dans les camps de concentration au cours de la guerre 1939-1945. \nLabuissère : 10h – Monument aux morts\nBruay-La-Buissière : 10h30 – Monument au morts
URL:https://bruaylabuissiere.fr/event/ceremonies-commemoratives/
CATEGORIES:Cérémonie,Jeunesse,Séniors
ATTACH;FMTTYPE=image/jpeg:https://bruaylabuissiere.fr/wp-content/uploads/2019/04/Drapeau-français.jpg
END:VEVENT
BEGIN:VEVENT
DTSTART;TZID=UTC:20190428T100000
DTEND;TZID=UTC:20190428T163000
DTSTAMP:20260425T164721
CREATED:20190318T155114Z
LAST-MODIFIED:20190318T155114Z
UID:14940-1556445600-1556469000@bruaylabuissiere.fr
SUMMARY:Repas dansant
DESCRIPTION:
URL:https://bruaylabuissiere.fr/event/repas-dansant-2/
LOCATION:Salle Georges Hurtrel\, Place du Rietz\, Bruay-la-buissière\, 62700
CATEGORIES:Asso,Concert rock,Danse,Rock alternatif,Séniors
ATTACH;FMTTYPE=image/jpeg:https://bruaylabuissiere.fr/wp-content/uploads/2019/03/2019-repas-dansant-le-bus-en-vadrouille-copie.jpg
END:VEVENT
END:VCALENDAR