BEGIN:VCALENDAR
VERSION:2.0
PRODID:-//Ville de Bruay-La-Buissière - ECPv6.9.1//NONSGML v1.0//EN
CALSCALE:GREGORIAN
METHOD:PUBLISH
X-ORIGINAL-URL:https://bruaylabuissiere.fr
X-WR-CALDESC:Évènements pour Ville de Bruay-La-Buissière
REFRESH-INTERVAL;VALUE=DURATION:PT1H
X-Robots-Tag:noindex
X-PUBLISHED-TTL:PT1H
BEGIN:VTIMEZONE
TZID:UTC
BEGIN:STANDARD
TZOFFSETFROM:+0000
TZOFFSETTO:+0000
TZNAME:UTC
DTSTART:20190101T000000
END:STANDARD
END:VTIMEZONE
BEGIN:VEVENT
DTSTART;TZID=UTC:20190313T130000
DTEND;TZID=UTC:20190515T153000
DTSTAMP:20260425T151655
CREATED:20190212T143714Z
LAST-MODIFIED:20190212T144402Z
UID:14585-1552482000-1557934200@bruaylabuissiere.fr
SUMMARY:Les mercredis sportifs de mars à mai
DESCRIPTION:
URL:https://bruaylabuissiere.fr/event/les-mercredis-sportifs-de-mars-a-mai/
CATEGORIES:Jeunesse,Séniors,sports
ATTACH;FMTTYPE=image/jpeg:https://bruaylabuissiere.fr/wp-content/uploads/2019/02/2019-Sports-Mercredis-sportifs-mars-mai.jpg
ORGANIZER;CN="Service des sports":MAILTO:service.sports@bruaylabuissiere.fr
END:VEVENT
BEGIN:VEVENT
DTSTART;TZID=UTC:20190511T060000
DTEND;TZID=UTC:20190518T160000
DTSTAMP:20260425T151655
CREATED:20190412T100212Z
LAST-MODIFIED:20190415T144912Z
UID:15106-1557554400-1558195200@bruaylabuissiere.fr
SUMMARY:Le Donjon s'anime
DESCRIPTION:Samedi 11 et dimanche 12 mai de 14h à 18h :\n\nAnimations familiales : jeux gonflables\, plateaux de jeux géants\, spectacle itinérant\, jongleurs\, musiciens\, sculpteurs sur ballons\, stand maquillage\, ateliers créa-cirque… \n  \n\nMercredi 15 mai : ateliers initiation aux arts du cirque\n\nPublic : 6-10 ans\n2 séances : 14h et 16h (places limitées) \nAu programme de ces ateliers :\n-acrobatie statiques (portés\, trépied) et acrobaties dynamiques (saut\, roulade)\n-jonglerie : jeux d’équilibre\, d’adresse (foulards\, balles\, assiettes chinoises\, bâton du diable\, diabolo…)\n-équilibre sur objet : boule d’équilibre\, planche à rouleau\, échasse\, monocycle\, fil d’équilibre…\n-expression : travail d’expression corporelle ou verbale\, mime\, clown…\n-aérien : trapèze\, corde lisse\, tissu \n >> Ateliers encadrés par l’école de cirque Cirqu’en cavale. \nRenseignements et inscriptions obligatoires au service culturel : 03 59 41 34 25 \n  \n\nVendredi 17 mai : Circus Ska-Reggae Party #2\n\nDès 20h au Donjon de Labuissière.\nImaginez un chapiteau pour circassiens débridés\, deux groupes à l’esprit survitaminé… une soirée Nomad 100% déjantée ! \nA l’affiche : « The Liquidators » (ska) et RIC (Roots\, reggae\, ragga) \n    • Samedi 18 mai : soirée cabaret cirque \nDès 20h au Donjon de Labuissière. 5€\nUne soirée exceptionnelle orchestrée par la Compagnie Okidok ! Le Kabaret Social Club est un projet circassien qui regroupe une douzaine d’artistes en tout genre ! \nMusique 100% live\, chanteuse pulpeuse et jazzy mais aussi contorsions\, tissu aérien\, porté et mains-à-mains acrobatiques\, jonglettes bluffantes\, illusions fantasques et surtout débordements en tout genre… Ce cabaret cirque est mis en musique par le groupe Unik Ubik ! \nUn spectacle loufoque et tordant de rire pour toute la famille ! \nChant\, duo de clowns\, contorsion\, acrobatie aérienne\, jonglerie… \nA découvrir de toute urgence sous le chapiteau de cirque du Festival Nomad… \nRenseignements : http://www.nomad-festival.com – https://www.facebook.com/festival.nomad
URL:https://bruaylabuissiere.fr/event/le-donjon-sanime/
LOCATION:Donjon de Labuissière\, Allée du château\, Bruay-La-Buissière\, 62700
CATEGORIES:Arts & Culture,Atelier,Cabaret,Cirque,Concert rock,Echanges/rencontres,Enfance,Festival,Jeunesse,Séniors,Spectacles & Concerts
ATTACH;FMTTYPE=image/jpeg:https://bruaylabuissiere.fr/wp-content/uploads/2019/04/Affiche-Donjon-sanime-5.jpg
END:VEVENT
BEGIN:VEVENT
DTSTART;TZID=UTC:20190511T070000
DTEND;TZID=UTC:20190511T150000
DTSTAMP:20260425T151655
CREATED:20190423T092252Z
LAST-MODIFIED:20190423T092252Z
UID:15188-1557558000-1557586800@bruaylabuissiere.fr
SUMMARY:Grande braderie
DESCRIPTION:Les nouveautés en mai 2019  :\n> Une braderie encore + grande  avec encore plus de choix !  1 700 à 1900m2 de bonnes affaires supplémentaires par rapport à l’année dernière\n> Un nouvel espace « retours web » à découvrir en exclusivité !  Nouveauté le Relais en France ! \nSous chapiteaux\, hangars ou extérieurs : large choix de vêtements\, chaussures\, maroquinerie\, bijoux et accessoires pour la femme\, l’homme ou l’enfant\, mais aussi du linge de maison\, du mobilier de jardin\, des objets de loisirs\, accessoires pour animaux\, des livres\, des bibelots\, de la peinture\, de l’informatique… Des marques ! Du neuf ! Ventes flashs ! Nouveaux arrivages ! De bonnes affaires solidaires à petits prix. Déballage toute la journée. Grands parkings gratuits à l’intérieur du site. Petite restauration\, boissons sur place. \nLes animations de la journée :\nEn famille ou entre amis\, au gré de vos déambulations\, vous pourrez surement profiter des échassiers acrobatiques (qui jouera avec vous et ses balles…)\, d’un duo « Le marionnettiste et la marionnette » steampunk revenus de leurs derniers voyages temporel qui fera des sculptures sur ballon\, d’une « horde » de marionnettes gobelins\, de jeux gonflables ainsi que des maquillages gratuits pour les enfants…   \nDétail de l’accès :\nEN VOITURE > Gps «1987 rue du chemin des Dames» ou «N : 50.50613 / E : 2.57002»\nEN BUS > Ligne 50 (arrêt «Emmaüs») > en face de l’entrée OU Bulle 2 (arrêt «Brosselette») > un bus environ toutes les 15 minutes environ (à 4 minutes à pieds) > Horaires sur le site internet : www.tadao.fr \nPour plus de renseignements :\n03 21 01 77 77\n lerelais@lerelais.org\nhttps://www.facebook.com/events/889936984679072/\nhttps://www.facebook.com/lerelais.org/\nhttp://lerelais.org/index.php\nhttp://www.emmausnpdc.org/-emmaus-artois-.html
URL:https://bruaylabuissiere.fr/event/grande-braderie/
LOCATION:Le Relais/Emmaüs\, 1987 rue du chemin des dames ZAL du Possible "Le Relais"\, Bruay-la-Buissière\, 62700
CATEGORIES:Bourse,Jeunesse,Séniors,Vide grenier
ATTACH;FMTTYPE=image/jpeg:https://bruaylabuissiere.fr/wp-content/uploads/2019/04/Braderie-Emmaeus-mai-2019.jpg
END:VEVENT
BEGIN:VEVENT
DTSTART;TZID=UTC:20190511T080000
DTEND;TZID=UTC:20190511T140000
DTSTAMP:20260425T151655
CREATED:20190412T101334Z
LAST-MODIFIED:20190412T101334Z
UID:15115-1557561600-1557583200@bruaylabuissiere.fr
SUMMARY:Stage de chant du monde et de gospel
DESCRIPTION:
URL:https://bruaylabuissiere.fr/event/stage-de-chant-du-monde-et-de-gospel/
LOCATION:Donjon de Labuissière\, Allée du château\, Bruay-La-Buissière\, 62700
CATEGORIES:Arts & Culture,Asso,Atelier,Chanson du monde,Echanges/rencontres,Jeunesse,Séniors,Spectacles & Concerts
ATTACH;FMTTYPE=image/jpeg:https://bruaylabuissiere.fr/wp-content/uploads/2019/04/stage-chant.jpg
END:VEVENT
BEGIN:VEVENT
DTSTART;TZID=UTC:20190511T080000
DTEND;TZID=UTC:20190511T160000
DTSTAMP:20260425T151655
CREATED:20190430T113414Z
LAST-MODIFIED:20190430T113414Z
UID:15272-1557561600-1557590400@bruaylabuissiere.fr
SUMMARY:Vide grenier
DESCRIPTION:
URL:https://bruaylabuissiere.fr/event/vide-grenier-23/
CATEGORIES:Asso,Séniors,Vide grenier
ATTACH;FMTTYPE=image/jpeg:https://bruaylabuissiere.fr/wp-content/uploads/2019/04/2019-vide-grenier-alternative-copie.jpg
ORGANIZER;CN="Alternative":MAILTO:alternativelabuissiere@orange.fr
END:VEVENT
END:VCALENDAR