BEGIN:VCALENDAR
VERSION:2.0
PRODID:-//Ville de Bruay-La-Buissière - ECPv6.9.1//NONSGML v1.0//EN
CALSCALE:GREGORIAN
METHOD:PUBLISH
X-WR-CALNAME:Ville de Bruay-La-Buissière
X-ORIGINAL-URL:https://bruaylabuissiere.fr
X-WR-CALDESC:Évènements pour Ville de Bruay-La-Buissière
REFRESH-INTERVAL;VALUE=DURATION:PT1H
X-Robots-Tag:noindex
X-PUBLISHED-TTL:PT1H
BEGIN:VTIMEZONE
TZID:UTC
BEGIN:STANDARD
TZOFFSETFROM:+0000
TZOFFSETTO:+0000
TZNAME:UTC
DTSTART:20190101T000000
END:STANDARD
END:VTIMEZONE
BEGIN:VEVENT
DTSTART;TZID=UTC:20190520T060000
DTEND;TZID=UTC:20190614T150000
DTSTAMP:20260425T131629
CREATED:20190415T152446Z
LAST-MODIFIED:20190415T153242Z
UID:15174-1558332000-1560524400@bruaylabuissiere.fr
SUMMARY:Les petits bonheurs
DESCRIPTION:La communauté d’agglomération Béthune-Bruay\, Artois Lys Romane propose ce festival relatif à l’art et au handicap.  \nDécouvrez les œuvres installées dans votre ville au niveau de la rue Hermant et de son parking. \nRenseignements : 03 21 54 78 00 – patrice.leroy@bethunebruay.fr
URL:https://bruaylabuissiere.fr/event/les-petits-bonheurs/
CATEGORIES:Arts & Culture,Echanges/rencontres,Enfance,Exposition,Jeunesse,Séniors
ATTACH;FMTTYPE=image/jpeg:https://bruaylabuissiere.fr/wp-content/uploads/2019/04/petits-bonheurs-2019.jpg
END:VEVENT
BEGIN:VEVENT
DTSTART;TZID=UTC:20190522T120000
DTEND;TZID=UTC:20190626T153000
DTSTAMP:20260425T131629
CREATED:20190212T144215Z
LAST-MODIFIED:20190212T144442Z
UID:14589-1558526400-1561563000@bruaylabuissiere.fr
SUMMARY:Les mercredis sportifs de mai à juin
DESCRIPTION:
URL:https://bruaylabuissiere.fr/event/les-mercredis-sportifs-de-mai-a-juin/
CATEGORIES:Jeunesse,Séniors,sports
ATTACH;FMTTYPE=image/jpeg:https://bruaylabuissiere.fr/wp-content/uploads/2019/02/2019-Sports-Mercredis-sportifs-mai-juin.jpg
ORGANIZER;CN="Service des sports":MAILTO:service.sports@bruaylabuissiere.fr
END:VEVENT
BEGIN:VEVENT
DTSTART;TZID=UTC:20190527T060000
DTEND;TZID=UTC:20190615T160000
DTSTAMP:20260425T131629
CREATED:20190513T143929Z
LAST-MODIFIED:20190513T143929Z
UID:15709-1558936800-1560614400@bruaylabuissiere.fr
SUMMARY:Festival "Les petits bonheurs"
DESCRIPTION:
URL:https://bruaylabuissiere.fr/event/festival-les-petits-bonheurs/
LOCATION:Médiathèque Marcel Wacheux\, 82 rue du Périgord\, Bruay-La-Buissière\, 62700
CATEGORIES:Arts & Culture,Enfance,Festival,Jeunesse,Séniors
ATTACH;FMTTYPE=image/jpeg:https://bruaylabuissiere.fr/wp-content/uploads/2019/05/A3-Expo-petits-bonheurs.jpg
END:VEVENT
BEGIN:VEVENT
DTSTART;TZID=UTC:20190608T040000
DTEND;TZID=UTC:20190608T200000
DTSTAMP:20260425T131629
CREATED:20190412T115926Z
LAST-MODIFIED:20190412T115926Z
UID:15159-1559966400-1560024000@bruaylabuissiere.fr
SUMMARY:Voyage à Pairi Daiza
DESCRIPTION:
URL:https://bruaylabuissiere.fr/event/voyage-a-pairi-daiza/
CATEGORIES:Asso,Enfance,Jeunesse,Séniors,sports
ATTACH;FMTTYPE=image/jpeg:https://bruaylabuissiere.fr/wp-content/uploads/2019/04/Belgique-les-chamois-pairi-daiza.jpg
END:VEVENT
BEGIN:VEVENT
DTSTART;TZID=UTC:20190608T090000
DTEND;TZID=UTC:20190608T090000
DTSTAMP:20260425T131629
CREATED:20190604T103918Z
LAST-MODIFIED:20190604T103918Z
UID:15912-1559984400-1559984400@bruaylabuissiere.fr
SUMMARY:Apéro rock
DESCRIPTION:
URL:https://bruaylabuissiere.fr/event/apero-rock/
LOCATION:Médiathèque Marcel Wacheux\, 82 rue du Périgord\, Bruay-La-Buissière\, 62700
CATEGORIES:Arts & Culture,Concert rock,Jeunesse,Rock alternatif,Séniors
ATTACH;FMTTYPE=image/jpeg:https://bruaylabuissiere.fr/wp-content/uploads/2019/06/A3-Apéro-Rock.jpg
END:VEVENT
BEGIN:VEVENT
DTSTART;TZID=UTC:20190608T120000
DTEND;TZID=UTC:20190608T160000
DTSTAMP:20260425T131629
CREATED:20190520T155843Z
LAST-MODIFIED:20190603T142447Z
UID:15777-1559995200-1560009600@bruaylabuissiere.fr
SUMMARY:Fête du tennis
DESCRIPTION:Concert rock à 20h ! Salle Jesse Owens\, rue Cail.
URL:https://bruaylabuissiere.fr/event/fete-du-tennis-2/
CATEGORIES:Asso,Enfance,Jeunesse,Séniors,sports
ATTACH;FMTTYPE=image/jpeg:https://bruaylabuissiere.fr/wp-content/uploads/2019/05/fetetennis2019.jpg
END:VEVENT
END:VCALENDAR