BEGIN:VCALENDAR
VERSION:2.0
PRODID:-//Ville de Bruay-La-Buissière - ECPv6.9.1//NONSGML v1.0//EN
CALSCALE:GREGORIAN
METHOD:PUBLISH
X-ORIGINAL-URL:https://bruaylabuissiere.fr
X-WR-CALDESC:Évènements pour Ville de Bruay-La-Buissière
REFRESH-INTERVAL;VALUE=DURATION:PT1H
X-Robots-Tag:noindex
X-PUBLISHED-TTL:PT1H
BEGIN:VTIMEZONE
TZID:UTC
BEGIN:STANDARD
TZOFFSETFROM:+0000
TZOFFSETTO:+0000
TZNAME:UTC
DTSTART:20190101T000000
END:STANDARD
END:VTIMEZONE
BEGIN:VEVENT
DTSTART;TZID=UTC:20190522T120000
DTEND;TZID=UTC:20190626T153000
DTSTAMP:20260425T132150
CREATED:20190212T144215Z
LAST-MODIFIED:20190212T144442Z
UID:14589-1558526400-1561563000@bruaylabuissiere.fr
SUMMARY:Les mercredis sportifs de mai à juin
DESCRIPTION:
URL:https://bruaylabuissiere.fr/event/les-mercredis-sportifs-de-mai-a-juin/
CATEGORIES:Jeunesse,Séniors,sports
ATTACH;FMTTYPE=image/jpeg:https://bruaylabuissiere.fr/wp-content/uploads/2019/02/2019-Sports-Mercredis-sportifs-mai-juin.jpg
ORGANIZER;CN="Service des sports":MAILTO:service.sports@bruaylabuissiere.fr
END:VEVENT
BEGIN:VEVENT
DTSTART;TZID=UTC:20190614T060000
DTEND;TZID=UTC:20190621T150000
DTSTAMP:20260425T132150
CREATED:20190128T100526Z
LAST-MODIFIED:20190128T100526Z
UID:14334-1560492000-1561129200@bruaylabuissiere.fr
SUMMARY:Voyage à Damvix
DESCRIPTION:associé au Puy du Fou\nVillage vacances « l’Émeraude » (Vendée) \nFormule tout compris (excursions incluses)\n8 jours / 7 nuits \n680€ pour les personnes imposables\n520€ pour les personnes non imposables (aide ANCV) \nau départ de Bruay-La-Buissière\nSalle Damiens\, boulevard Basly (parking Carrefour Contact) \nInscriptions et renseignements :\nsalle des fêtes Marmottan\nmardi de 15h à 17h – 06 10 34 94 44 \nOrganisé par l’association Dynamique Seniors
URL:https://bruaylabuissiere.fr/event/voyage-a-damvix/
CATEGORIES:Asso,Séniors
ATTACH;FMTTYPE=image/jpeg:https://bruaylabuissiere.fr/wp-content/uploads/2019/01/Damvix-voyage.jpg
END:VEVENT
BEGIN:VEVENT
DTSTART;TZID=UTC:20190618T170000
DTEND;TZID=UTC:20190622T210000
DTSTAMP:20260425T132150
CREATED:20190603T114558Z
LAST-MODIFIED:20190603T141641Z
UID:15900-1560877200-1561237200@bruaylabuissiere.fr
SUMMARY:Fête de la musique
DESCRIPTION:Découvrez toute la programmation pour la fête de la musique ici !
URL:https://bruaylabuissiere.fr/event/fete-de-la-musique/
CATEGORIES:Arts & Culture,Chanson du monde,Chanson française,Cinéma,Concert classique,Concert rock,Concert soul music,Echanges/rencontres,Enfance,Festival,Hip Hop contemporain,Jeunesse,Rock alternatif,Séniors,Spectacles & Concerts
ATTACH;FMTTYPE=image/jpeg:https://bruaylabuissiere.fr/wp-content/uploads/2019/06/2019-PLAQUETTE-FETE-MUSIQUE.jpg
END:VEVENT
END:VCALENDAR