BEGIN:VCALENDAR
VERSION:2.0
PRODID:-//Ville de Bruay-La-Buissière - ECPv6.9.1//NONSGML v1.0//EN
CALSCALE:GREGORIAN
METHOD:PUBLISH
X-ORIGINAL-URL:https://bruaylabuissiere.fr
X-WR-CALDESC:Évènements pour Ville de Bruay-La-Buissière
REFRESH-INTERVAL;VALUE=DURATION:PT1H
X-Robots-Tag:noindex
X-PUBLISHED-TTL:PT1H
BEGIN:VTIMEZONE
TZID:UTC
BEGIN:STANDARD
TZOFFSETFROM:+0000
TZOFFSETTO:+0000
TZNAME:UTC
DTSTART:20190101T000000
END:STANDARD
END:VTIMEZONE
BEGIN:VEVENT
DTSTART;TZID=UTC:20190624T060000
DTEND;TZID=UTC:20190930T150000
DTSTAMP:20260425T132142
CREATED:20190624T152927Z
LAST-MODIFIED:20190624T153329Z
UID:16056-1561356000-1569855600@bruaylabuissiere.fr
SUMMARY:Plan canicule
DESCRIPTION:Une vague de chaleur se met progressivement en place. Les températures vont atteindre des niveaux caniculaires. Face à ces conditions\, restez prudent.\nEvitez les efforts physiques et de vous exposer trop longtemps en extérieur et notamment au soleil. Hydratez-vous sans attendre la sensation de soif. \nEn cas de malaise\, appeler le 15 \nPour plus d’informations : 0 800 06 66 66 (appel gratuit)\nwww.solidarites-sante.gouv.fr\nwww.meteo.fr\n#canicule
URL:https://bruaylabuissiere.fr/event/plan-canicule/
CATEGORIES:Enfance,Jeunesse,Séniors
ATTACH;FMTTYPE=image/jpeg:https://bruaylabuissiere.fr/wp-content/uploads/2019/06/Adoptez-les-bons-reflexes.jpg
END:VEVENT
BEGIN:VEVENT
DTSTART;TZID=UTC:20190624T080000
DTEND;TZID=UTC:20190629T190000
DTSTAMP:20260425T132142
CREATED:20190604T105017Z
LAST-MODIFIED:20190604T110114Z
UID:15915-1561363200-1561834800@bruaylabuissiere.fr
SUMMARY:#ActSports
DESCRIPTION:UNE SEMAINE DÉDIÉE AU SPORT ! \n  \nLundi 24 • 10h/12h – 13h30/16h • Piste d’athlétisme :\ndécouverte de l’athlétisme.\nRéservée aux élèves de CP des écoles bruaysiennes. \nMardi 25 • 9h30/12h – 13h30/16h • Stade-Parc et piscine Salengro :\nfête sportive terrestre et nautique.\nRéservée aux élèves des écoles bruaysiennes. \nMercredi 26 • 9h • Stade-Parc :\nrando patrimoine.\nRepas dans le parc par le Bookkafé.\nRéservée aux seniors. \nMercredi 26 • 14h/17h • piscine Salengro :\nsport aquatique ouvert à tous\, dans le cadre des quartiers SAS « Sport\, Alimentation\, Santé ». \n Jeudi 27 • 9h30/12h – 13h30/16h • Stade-Parc et piscine Salengro :\nfête sportive terrestre et nautique.\nRéservée aux élèves des écoles bruaysiennes. \nJeudi 27 • 19h • Stade Vélodrome :\nmatch de football en hommage au docteur Décaudin.\nRéservé aux médecins et aux sportifs des sections de l’USOBL. \n Vendredi 28 • 10h/17h • Quartier du Stade-Parc :\nanimation golden block avec les écoles et collèges de Bruay-La-Buissière\, Houdain et Béthune.\nOuvert à tous. \nVendredi 28 • 19h/22h • Stade-Parc :\nmeeting national d’athlétisme.\nOuvert à tous. \n Samedi 29 • 10h/11h • Piscine Salengro :\n2 séances d’aquabiking.\nRéservées aux femmes. (15 places / séance). \nSamedi 29 • 14h/17h • Stade-Parc :\nforum des associations sportives. \nSamedi 29 • 18h/20h • Piste d’athlétisme :\ncérémonie des trophées des sports.
URL:https://bruaylabuissiere.fr/event/actsports/
CATEGORIES:Echanges/rencontres,Enfance,Exposition,Festival,Jeunesse,Séniors,sports
ATTACH;FMTTYPE=image/jpeg:https://bruaylabuissiere.fr/wp-content/uploads/2019/06/2019-Sport-ActsSports.jpg
ORGANIZER;CN="Service des sports":MAILTO:service.sports@bruaylabuissiere.fr
END:VEVENT
BEGIN:VEVENT
DTSTART;TZID=UTC:20190624T080000
DTEND;TZID=UTC:20190706T160000
DTSTAMP:20260425T132142
CREATED:20190620T152221Z
LAST-MODIFIED:20190620T152221Z
UID:16043-1561363200-1562428800@bruaylabuissiere.fr
SUMMARY:Exposition d'Arts Plastiques
DESCRIPTION:
URL:https://bruaylabuissiere.fr/event/exposition-darts-plastiques/
LOCATION:Médiathèque Marcel Wacheux\, 82 rue du Périgord\, Bruay-La-Buissière\, 62700
CATEGORIES:Arts & Culture,Enfance,Exposition,Jeunesse,Séniors
ATTACH;FMTTYPE=image/jpeg:https://bruaylabuissiere.fr/wp-content/uploads/2019/06/Expo-Arts-Plastiques.jpg
END:VEVENT
BEGIN:VEVENT
DTSTART;TZID=UTC:20190628T153000
DTEND;TZID=UTC:20190630T113000
DTSTAMP:20260425T132142
CREATED:20190613T140951Z
LAST-MODIFIED:20190613T141115Z
UID:15975-1561735800-1561894200@bruaylabuissiere.fr
SUMMARY:Week-end évènements culturels et sportifs
DESCRIPTION:
URL:https://bruaylabuissiere.fr/event/week-end-evenements-culturels-et-sportifs/
CATEGORIES:Arts & Culture,Cinéma,Echanges/rencontres,Enfance,Jeunesse,Séniors,sports
ATTACH;FMTTYPE=image/jpeg:https://bruaylabuissiere.fr/wp-content/uploads/2019/06/TRACTS-Odyssée-couv.jpg
END:VEVENT
BEGIN:VEVENT
DTSTART;TZID=UTC:20190628T180000
DTEND;TZID=UTC:20190628T200000
DTSTAMP:20260425T132142
CREATED:20190424T162734Z
LAST-MODIFIED:20190424T162734Z
UID:15240-1561744800-1561752000@bruaylabuissiere.fr
SUMMARY:Spectacle patoisant
DESCRIPTION:
URL:https://bruaylabuissiere.fr/event/spectacle-patoisant-2/
LOCATION:Espace Culturel Grossemy\, Cours Kennedy\, Bruay-La-Buissière\, 62700
CATEGORIES:Séniors,Spectacles & Concerts,Théâtre
ATTACH;FMTTYPE=image/jpeg:https://bruaylabuissiere.fr/wp-content/uploads/2019/04/2019-Seniors-A3-Spectacle-patois.jpg
END:VEVENT
BEGIN:VEVENT
DTSTART;TZID=UTC:20190628T210000
DTEND;TZID=UTC:20190628T210000
DTSTAMP:20260425T132142
CREATED:20190523T111238Z
LAST-MODIFIED:20190523T111238Z
UID:15813-1561755600-1561755600@bruaylabuissiere.fr
SUMMARY:Projection grandiose sur le terril du quartier Les Terrasses
DESCRIPTION:PROJET RACINES \nÀ l’occasion du Projet Odyssée/Euralens\, des habitants du Bassin minier dont des Bruaysiens ont rencontré l’artiste Clément Lesaffre pour témoigner de leurs liens avec ce territoire minier.  \nVenez découvrir leurs portraits sur le plus bel écran : le terril du quartier des Terrasses.
URL:https://bruaylabuissiere.fr/event/projection-grandiose-sur-le-terril-du-quartier-les-terrasses/
CATEGORIES:Arts & Culture,Enfance,Exposition,Jeunesse,Séniors
ATTACH;FMTTYPE=image/jpeg:https://bruaylabuissiere.fr/wp-content/uploads/2019/05/terril-du-3.jpg
END:VEVENT
END:VCALENDAR