BEGIN:VCALENDAR
VERSION:2.0
PRODID:-//Ville de Bruay-La-Buissière - ECPv6.9.1//NONSGML v1.0//EN
CALSCALE:GREGORIAN
METHOD:PUBLISH
X-WR-CALNAME:Ville de Bruay-La-Buissière
X-ORIGINAL-URL:https://bruaylabuissiere.fr
X-WR-CALDESC:Évènements pour Ville de Bruay-La-Buissière
REFRESH-INTERVAL;VALUE=DURATION:PT1H
X-Robots-Tag:noindex
X-PUBLISHED-TTL:PT1H
BEGIN:VTIMEZONE
TZID:UTC
BEGIN:STANDARD
TZOFFSETFROM:+0000
TZOFFSETTO:+0000
TZNAME:UTC
DTSTART:20190101T000000
END:STANDARD
END:VTIMEZONE
BEGIN:VEVENT
DTSTART;TZID=UTC:20190624T060000
DTEND;TZID=UTC:20190930T150000
DTSTAMP:20260425T113956
CREATED:20190624T152927Z
LAST-MODIFIED:20190624T153329Z
UID:16056-1561356000-1569855600@bruaylabuissiere.fr
SUMMARY:Plan canicule
DESCRIPTION:Une vague de chaleur se met progressivement en place. Les températures vont atteindre des niveaux caniculaires. Face à ces conditions\, restez prudent.\nEvitez les efforts physiques et de vous exposer trop longtemps en extérieur et notamment au soleil. Hydratez-vous sans attendre la sensation de soif. \nEn cas de malaise\, appeler le 15 \nPour plus d’informations : 0 800 06 66 66 (appel gratuit)\nwww.solidarites-sante.gouv.fr\nwww.meteo.fr\n#canicule
URL:https://bruaylabuissiere.fr/event/plan-canicule/
CATEGORIES:Enfance,Jeunesse,Séniors
ATTACH;FMTTYPE=image/jpeg:https://bruaylabuissiere.fr/wp-content/uploads/2019/06/Adoptez-les-bons-reflexes.jpg
END:VEVENT
BEGIN:VEVENT
DTSTART;TZID=UTC:20190708T120000
DTEND;TZID=UTC:20190726T170000
DTSTAMP:20260425T113956
CREATED:20190621T092612Z
LAST-MODIFIED:20190716T171622Z
UID:16047-1562587200-1564160400@bruaylabuissiere.fr
SUMMARY:Pars Cours Sport spécial sports de sable
DESCRIPTION:
URL:https://bruaylabuissiere.fr/event/pars-cours-sport-special-sports-de-sable/
CATEGORIES:Enfance,Jeunesse,Séniors,sports
ATTACH;FMTTYPE=image/jpeg:https://bruaylabuissiere.fr/wp-content/uploads/2019/06/PCS-sable.jpg
ORGANIZER;CN="Service des sports":MAILTO:service.sports@bruaylabuissiere.fr
END:VEVENT
BEGIN:VEVENT
DTSTART;TZID=UTC:20190712T180000
DTEND;TZID=UTC:20190818T160000
DTSTAMP:20260425T113956
CREATED:20190625T111938Z
LAST-MODIFIED:20190625T111938Z
UID:16067-1562954400-1566144000@bruaylabuissiere.fr
SUMMARY:L'été avec nous
DESCRIPTION:
URL:https://bruaylabuissiere.fr/event/lete-avec-nous/
CATEGORIES:Arts & Culture,Asso,Chanson française,Concert soul music,Enfance,Hip Hop contemporain,Jeunesse,Séniors,Spectacles & Concerts
ATTACH;FMTTYPE=image/jpeg:https://bruaylabuissiere.fr/wp-content/uploads/2019/06/ETE-2019.jpg
END:VEVENT
BEGIN:VEVENT
DTSTART;TZID=UTC:20190713T080000
DTEND;TZID=UTC:20190722T180000
DTSTAMP:20260425T113956
CREATED:20190625T112257Z
LAST-MODIFIED:20190625T112257Z
UID:16070-1563004800-1563818400@bruaylabuissiere.fr
SUMMARY:Fête foraine
DESCRIPTION:
URL:https://bruaylabuissiere.fr/event/fete-foraine/
LOCATION:Place Marmottan\, Place Marmottan\, Bruay-La-Buissière\, 62700
CATEGORIES:Asso,Enfance,Jeunesse,Séniors
ATTACH;FMTTYPE=image/jpeg:https://bruaylabuissiere.fr/wp-content/uploads/2019/06/FETE-FORAINE.jpg
END:VEVENT
END:VCALENDAR