BEGIN:VCALENDAR
VERSION:2.0
PRODID:-//Ville de Bruay-La-Buissière - ECPv6.9.1//NONSGML v1.0//EN
CALSCALE:GREGORIAN
METHOD:PUBLISH
X-ORIGINAL-URL:https://bruaylabuissiere.fr
X-WR-CALDESC:Évènements pour Ville de Bruay-La-Buissière
REFRESH-INTERVAL;VALUE=DURATION:PT1H
X-Robots-Tag:noindex
X-PUBLISHED-TTL:PT1H
BEGIN:VTIMEZONE
TZID:UTC
BEGIN:STANDARD
TZOFFSETFROM:+0000
TZOFFSETTO:+0000
TZNAME:UTC
DTSTART:20200101T000000
END:STANDARD
END:VTIMEZONE
BEGIN:VEVENT
DTSTART;TZID=UTC:20200923T123000
DTEND;TZID=UTC:20201118T163000
DTSTAMP:20260423T161921
CREATED:20200910T162040Z
LAST-MODIFIED:20200910T162040Z
UID:19876-1600864200-1605717000@bruaylabuissiere.fr
SUMMARY:Les mercredis sportifs
DESCRIPTION:
URL:https://bruaylabuissiere.fr/event/les-mercredis-sportifs-4/
CATEGORIES:sports
ATTACH;FMTTYPE=image/jpeg:https://bruaylabuissiere.fr/wp-content/uploads/2020/09/R-merc-sportifs-sept-oct-2020.jpg
ORGANIZER;CN="Service des sports":MAILTO:service.sports@bruaylabuissiere.fr
END:VEVENT
BEGIN:VEVENT
DTSTART;TZID=UTC:20201007T070000
DTEND;TZID=UTC:20210127T110000
DTSTAMP:20260423T161921
CREATED:20201007T134206Z
LAST-MODIFIED:20201007T134237Z
UID:20050-1602054000-1611745200@bruaylabuissiere.fr
SUMMARY:Découverte et initiation au skateboard
DESCRIPTION:
URL:https://bruaylabuissiere.fr/event/decouverte-et-initiation-au-skateboard/
LOCATION:Skate-park\, rue Vincent Auriol\, Bruay-La-Buissière\, 62700\, France
CATEGORIES:Jeunesse,sports
ATTACH;FMTTYPE=image/jpeg:https://bruaylabuissiere.fr/wp-content/uploads/2020/10/2020-sports-skateboard.jpg
ORGANIZER;CN="Service des sports":MAILTO:service.sports@bruaylabuissiere.fr
END:VEVENT
BEGIN:VEVENT
DTSTART;TZID=UTC:20201030T070000
DTEND;TZID=UTC:20201101T160000
DTSTAMP:20260423T161921
CREATED:20201012T151236Z
LAST-MODIFIED:20201012T151611Z
UID:20122-1604041200-1604246400@bruaylabuissiere.fr
SUMMARY:Bouge-toi pour Louis
DESCRIPTION:L’association a pour but d’accompagner Louis\, polyhandicapé\, de 15 ans\, en aidant ses parents dans l’achat de matériel médical et sportif adapté\, visant à améliorer son confort au quotidien et son cadre de vie. \nL’évènement est organisé du 30/10/2020 au 01/11/2020 dans le Nord Pas de Calais. Chaque participant est invité à se « bouger » au profit de l’association. Marche\, vélo\, course\, trottinette\, rollers… l’important sera de se dépasser.  \nPour répondre aux obligations sanitaires actuelles\, chaque participant partira de chez lui\, aucun rassemblement n’aura lieu. Une participation de 2€ minimum est demandée\, elle sera reversée à l’association. Une grande tombola est prévue pendant l’évènement. \nFacebook et cagnotte Leetchi: Bouge-toi pour Louis\nInscription avant le 28 octobre sur bougetoipourlouis@gmail.com
URL:https://bruaylabuissiere.fr/event/bouge-toi-pour-louis/
CATEGORIES:Asso,sports
ATTACH;FMTTYPE=image/jpeg:https://bruaylabuissiere.fr/wp-content/uploads/2020/10/course-Louis.jpg
END:VEVENT
BEGIN:VEVENT
DTSTART;TZID=UTC:20201125T133000
DTEND;TZID=UTC:20210113T163000
DTSTAMP:20260423T161921
CREATED:20201102T160226Z
LAST-MODIFIED:20201105T102214Z
UID:20324-1606311000-1610555400@bruaylabuissiere.fr
SUMMARY:Mercredis sportifs
DESCRIPTION:
URL:https://bruaylabuissiere.fr/event/mercredis-sportifs-2/
CATEGORIES:sports
ATTACH;FMTTYPE=image/jpeg:https://bruaylabuissiere.fr/wp-content/uploads/2020/11/R-mercredis-sportifs-nov-janv-21.jpg
ORGANIZER;CN="Service des sports":MAILTO:service.sports@bruaylabuissiere.fr
END:VEVENT
END:VCALENDAR