BEGIN:VCALENDAR
VERSION:2.0
PRODID:-//Ville de Bruay-La-Buissière - ECPv6.9.1//NONSGML v1.0//EN
CALSCALE:GREGORIAN
METHOD:PUBLISH
X-ORIGINAL-URL:https://bruaylabuissiere.fr
X-WR-CALDESC:Évènements pour Ville de Bruay-La-Buissière
REFRESH-INTERVAL;VALUE=DURATION:PT1H
X-Robots-Tag:noindex
X-PUBLISHED-TTL:PT1H
BEGIN:VTIMEZONE
TZID:UTC
BEGIN:STANDARD
TZOFFSETFROM:+0000
TZOFFSETTO:+0000
TZNAME:UTC
DTSTART:20210101T000000
END:STANDARD
END:VTIMEZONE
BEGIN:VEVENT
DTSTART;VALUE=DATE:20210914
DTEND;VALUE=DATE:20211021
DTSTAMP:20260421T114811
CREATED:20210923T082046Z
LAST-MODIFIED:20210923T082046Z
UID:22464-1631656800-1634767199@bruaylabuissiere.fr
SUMMARY:Mercredis sportifs septembre/octobre
DESCRIPTION:
URL:https://bruaylabuissiere.fr/event/mercredis-sportifs-septembre-octobre/
CATEGORIES:sports
ATTACH;FMTTYPE=image/jpeg:https://bruaylabuissiere.fr/wp-content/uploads/2021/09/2021-Sports-A5-R-V-mercredis-sportifs-sept-oct-1-copie.jpg
ORGANIZER;CN="Service des sports":MAILTO:service.sports@bruaylabuissiere.fr
END:VEVENT
BEGIN:VEVENT
DTSTART;TZID=UTC:20211017T070000
DTEND;TZID=UTC:20211017T103000
DTSTAMP:20260421T114811
CREATED:20211014T110442Z
LAST-MODIFIED:20211014T110442Z
UID:22721-1634454000-1634466600@bruaylabuissiere.fr
SUMMARY:Course d'orientation VTT
DESCRIPTION:
URL:https://bruaylabuissiere.fr/event/course-dorientation-vtt/
LOCATION:Aire de loisirs de Lavolville\, rue de la Lawe\, Bruay-La-Buissière\, 62700
CATEGORIES:Asso,sports
ATTACH;FMTTYPE=image/jpeg:https://bruaylabuissiere.fr/wp-content/uploads/2021/10/affiche-CO-VTT.jpg
END:VEVENT
BEGIN:VEVENT
DTSTART;VALUE=DATE:20211019
DTEND;VALUE=DATE:20220101
DTSTAMP:20260421T114811
CREATED:20211019T164617Z
LAST-MODIFIED:20211019T164617Z
UID:22773-1634680800-1640991599@bruaylabuissiere.fr
SUMMARY:Portes ouvertes Artois Athlétisme
DESCRIPTION:
URL:https://bruaylabuissiere.fr/event/portes-ouvertes-artois-athletisme/
LOCATION:Stade parc\, 429 rue Roger Salengro\, Bruay-La-Buissière\, 62700
CATEGORIES:Asso,sports
ATTACH;FMTTYPE=image/jpeg:https://bruaylabuissiere.fr/wp-content/uploads/2021/10/Portes-ouvertes-AA.jpg
END:VEVENT
BEGIN:VEVENT
DTSTART;TZID=UTC:20211025T073000
DTEND;TZID=UTC:20211029T153000
DTSTAMP:20260421T114811
CREATED:20211019T085228Z
LAST-MODIFIED:20211019T085228Z
UID:22753-1635147000-1635521400@bruaylabuissiere.fr
SUMMARY:Parcours multisports
DESCRIPTION:
URL:https://bruaylabuissiere.fr/event/parcours-multisports/
LOCATION:Stade parc\, 429 rue Roger Salengro\, Bruay-La-Buissière\, 62700
CATEGORIES:sports
ATTACH;FMTTYPE=image/jpeg:https://bruaylabuissiere.fr/wp-content/uploads/2021/10/2021-sports-parcoursmultisports.jpg
ORGANIZER;CN="Service des sports":MAILTO:service.sports@bruaylabuissiere.fr
END:VEVENT
BEGIN:VEVENT
DTSTART;TZID=UTC:20211030T183000
DTEND;TZID=UTC:20211030T183000
DTSTAMP:20260421T114811
CREATED:20211019T161015Z
LAST-MODIFIED:20211019T161015Z
UID:22766-1635618600-1635618600@bruaylabuissiere.fr
SUMMARY:Basket : match de championnat national 3
DESCRIPTION:
URL:https://bruaylabuissiere.fr/event/basket-match-de-championnat-national-3/
LOCATION:Complexe sportif Léo Lagrange\, cours Kennedy\, Bruay-la-buissière\, 62700
CATEGORIES:sports
ATTACH;FMTTYPE=image/jpeg:https://bruaylabuissiere.fr/wp-content/uploads/2021/10/Basket-30-octobre.jpg
END:VEVENT
END:VCALENDAR