BEGIN:VCALENDAR
VERSION:2.0
PRODID:-//Ville de Bruay-La-Buissière - ECPv6.9.1//NONSGML v1.0//EN
CALSCALE:GREGORIAN
METHOD:PUBLISH
X-WR-CALNAME:Ville de Bruay-La-Buissière
X-ORIGINAL-URL:https://bruaylabuissiere.fr
X-WR-CALDESC:Évènements pour Ville de Bruay-La-Buissière
REFRESH-INTERVAL;VALUE=DURATION:PT1H
X-Robots-Tag:noindex
X-PUBLISHED-TTL:PT1H
BEGIN:VTIMEZONE
TZID:UTC
BEGIN:STANDARD
TZOFFSETFROM:+0000
TZOFFSETTO:+0000
TZNAME:UTC
DTSTART:20190101T000000
END:STANDARD
END:VTIMEZONE
BEGIN:VEVENT
DTSTART;TZID=UTC:20191106T140000
DTEND;TZID=UTC:20191106T150000
DTSTAMP:20260419T164500
CREATED:20190724T105929Z
LAST-MODIFIED:20190724T110042Z
UID:16678-1573048800-1573052400@bruaylabuissiere.fr
SUMMARY:La Mangeuse De Terre
DESCRIPTION:Cie de Fil et d’Os \nLa célèbre tireuse de cartes\, Pilar Ternéra\, nous ouvre son cabinet. Certaines cartes nous renvoient parfois à une histoire\, à notre passé… Celui de Pilar restera marqué par sa rencontre avec cette petite « mangeuse de terre » arrivée au village avec\, pour seul bagage\, une sacoche contenant des ossements. Des os qui continuent inlassablement de claquer sur sa vie.\nOn pourrait s’attendre à une histoire triste si elle n’était pas inspirée de Gabriel Garcia Marquèz et de son réalisme magique. De la peur de l’oubli à l’acceptation\, par quelle folie faut-il passer pour se séparer de nos morts et exister soi-même ? \nArtistes : Julie Canadas et Anne Sophie Dhulu\nMise en scène : Amalia Modica\nCréation musicale : Simon Demouveaux\nCréation lumière : Juliette Delfosse\nRégie : Juliette Delfosse ou Laure Andurand\nDécor et accessoires : Philippe Martini\nCostumes : Vaïssa Favereau\nVisuel et peintures : Aurélie Pascal\nSon : Jérémy Morelle\n \n\n\n\n\nDès 8 ans \n1h10\nThéâtre \nCatégorie C \nTP : 8€ / TR : 5€ déCouv’art : 3€
URL:https://bruaylabuissiere.fr/event/la-mangeuse-de-terre/
LOCATION:Le Temple\, 125 Rue Henri Hermant\, Bruay-La-Buissière\, 62700
CATEGORIES:Arts & Culture,Théâtre,Théatre d'objets
ATTACH;FMTTYPE=image/jpeg:https://bruaylabuissiere.fr/wp-content/uploads/2019/07/La-mangeuse-de-terre.jpg
END:VEVENT
BEGIN:VEVENT
DTSTART;TZID=UTC:20191115T190000
DTEND;TZID=UTC:20191115T200000
DTSTAMP:20260419T164500
CREATED:20190724T131345Z
LAST-MODIFIED:20190724T133004Z
UID:16689-1573844400-1573848000@bruaylabuissiere.fr
SUMMARY:Jo & Léo
DESCRIPTION:Collectif La Cavale \n\n\n\n\nDeux adolescentes.\nJo\, tornade bavarde et solaire. Léo\, sauvage\, écorchée et sensuelle. Jo et Léo vont se toiser\, se tourner autour\, se lier d’amitié et finalement se reconnaître. L’histoire qui se joue sous nos yeux\, est la naissance d’un sentiment amoureux\, au microscope. Comme une dissection de grenouille en cours de SVT.\nL’éclosion d’un sentiment et sa répercussion sur les deux êtres touchés par ses flèches. Des bulles de vie qu’on attrape\, des concentrés de discussions fondamentales\, des rires partagés\, des premières fois\, des regards\, des frôlements\, des non-dits. Nous observons ces deux cœurs frémir et peu à peu se révéler. Fréquence cardiaque. Emportements. Tempête sous les sweats à capuches. \n\n\n\n\nArtistes : Céline Dély et Chloé Simoneau \n\n\n\n\nDès 12 ans \n1h\nThéâtre \nCatégorie C \nTP : 8€ / TR : 5€ déCouv’art : 3€
URL:https://bruaylabuissiere.fr/event/jo-leo/
LOCATION:Le Temple\, 125 Rue Henri Hermant\, Bruay-La-Buissière\, 62700
CATEGORIES:Arts & Culture,Théâtre
ATTACH;FMTTYPE=image/jpeg:https://bruaylabuissiere.fr/wp-content/uploads/2019/07/Jo-et-Léo.jpg
END:VEVENT
BEGIN:VEVENT
DTSTART;TZID=UTC:20191116T183000
DTEND;TZID=UTC:20191129T190000
DTSTAMP:20260419T164500
CREATED:20191028T134443Z
LAST-MODIFIED:20191028T134443Z
UID:17611-1573929000-1575054000@bruaylabuissiere.fr
SUMMARY:Un Autre Regard
DESCRIPTION:OUVERTURE DU FESTIVAL\nMardi 19 novembre\, 19h30\nEspace Culturel Grossemy \nEXPOSITIONS\ndu 16 au 29 novembre\n”Pour une Poignée de Degrés” Maison Régionale de l’Environnement et des Solidarités\nMédiathèque Marcel Wacheux \n\n\n\n\nDu 16 au 28 novembre\n”Écrivains et Engagements” Réseau régional des maisons d’écrivain et patrimoine littéraire\nMédiathèque Marcel Wacheux \nDOCUMENTAIRES\n\nDu 20 au 29 novembre\n“Filles de Mai\, Voix de Femmes de 1968 au Féminisme” \nMercredi 20 novembre\, 20h\n“Depuis Médiapart” \nMercredi 27 novembre\, 18h30\n“Le Cercle des petits Philosophes”\nCinéma Les Étoiles \nLECTURE ET THÉÂTRE \nVendredi 22 novembre\, 19h30 et 20h45\n“Passeurs de Mots” Cie Les Durs à Queer\nLe Temple \nMardi 26 novembre\, 20h\n “Demandons l’impossible” Cie Sens Ascensionnels\nEspace Culturel Grossemy \nCLÔTURE DU FESTIVAL\nVendredi 29 novembre\, 20h\n“Pride”\nCinéma Les Étoiles \nPOUR TERMINER…\nMardi 10 décembre\, 19h30\n“Quand je veux\, si je veux”\nCinéma Les Étoiles \n>> Réservation Espace Billetterie 03 59 41 34 00 \n>> Cinéma Les Étoiles 03 21 01 75 25 \n>> Médiathèque Marcel Wacheux 03 21 61 81 91 \n  \n\nTéléchargez la plaquette de l’évènement pour le programme détaillé
URL:https://bruaylabuissiere.fr/event/un-autre-regard/
CATEGORIES:Arts & Culture,Cinéma,Exposition,Théâtre
ATTACH;FMTTYPE=image/jpeg:https://bruaylabuissiere.fr/wp-content/uploads/2019/10/AFFICHE-UN-AUTRE-REGARD-2019.jpg
END:VEVENT
BEGIN:VEVENT
DTSTART;TZID=UTC:20191122T183000
DTEND;TZID=UTC:20191122T193000
DTSTAMP:20260419T164500
CREATED:20190724T145750Z
LAST-MODIFIED:20190802T103811Z
UID:16698-1574447400-1574451000@bruaylabuissiere.fr
SUMMARY:Passeurs De Mots – Festival Un Autre Regard
DESCRIPTION:Cie Les Durs à Queer \n> Festival Un Autre Regard \nCe projet consiste simplement à remettre au gout des lèvres et au creux des oreilles\, la magie et toute la force imaginaire des mots\, des phrases\, des textes… des histoires.\nÀ partir d’un thème\, ici l’engagement\, nous allons chercher dans tous les supports et tous les styles d’écriture\, de quoi sustenter votre curiosité\, votre émerveillement et votre imagination. De quoi se réconcilier avec les mots ou retrouver toute leur saveur.\nQu’ils soient scienti ques\, spéci ques\, poétiques\, romanesques\, qu’ils soient blagues\, jeux de mots\, citations\, extraits de contes\, de discours\, de romans\, nouvelles\, du cinéma ou même de la presse\, les mots seront au service d’un moment simple\, doux\, convivial\, zen\, drôle\, émouvant et servis dans un cadre cosy\, chaleureux\, bienveillant.\nAlors ouvrez grand vos oreilles ! Les mots vont bientôt passer par là… \nUne petite collation surprise fait aussi partie de la soirée. \n\n\n\n\nTout public \n50 minutes\nLectures \nHors abonnement \nEntrée « livre » sur réservation
URL:https://bruaylabuissiere.fr/event/passeurs-de-mots/
LOCATION:Le Temple\, 125 Rue Henri Hermant\, Bruay-La-Buissière\, 62700
CATEGORIES:Arts & Culture,Echanges/rencontres,Festival,Théâtre
ATTACH;FMTTYPE=image/jpeg:https://bruaylabuissiere.fr/wp-content/uploads/2019/07/Passeurs-de-mots.jpg
END:VEVENT
BEGIN:VEVENT
DTSTART;TZID=UTC:20191122T194500
DTEND;TZID=UTC:20191122T203500
DTSTAMP:20260419T164500
CREATED:20190724T150346Z
LAST-MODIFIED:20190802T103839Z
UID:16701-1574451900-1574454900@bruaylabuissiere.fr
SUMMARY:Passeurs De Mots – Festival Un Autre Regard
DESCRIPTION:Cie Les Durs à Queer \n> Festival Un Autre Regard \nCe projet consiste simplement à remettre au gout des lèvres et au creux des oreilles\, la magie et toute la force imaginaire des mots\, des phrases\, des textes… des histoires.\nÀ partir d’un thème\, ici l’engagement\, nous allons chercher dans tous les supports et tous les styles d’écriture\, de quoi sustenter votre curiosité\, votre émerveillement et votre imagination. De quoi se réconcilier avec les mots ou retrouver toute leur saveur.\nQu’ils soient scienti ques\, spéci ques\, poétiques\, romanesques\, qu’ils soient blagues\, jeux de mots\, citations\, extraits de contes\, de discours\, de romans\, nouvelles\, du cinéma ou même de la presse\, les mots seront au service d’un moment simple\, doux\, convivial\, zen\, drôle\, émouvant et servis dans un cadre cosy\, chaleureux\, bienveillant.\nAlors ouvrez grand vos oreilles ! Les mots vont bientôt passer par là… \nUne petite collation surprise fait aussi partie de la soirée. \n\n\n\n\nTout public \n50 minutes\nLectures \nHors abonnement \nEntrée « livre » sur réservation
URL:https://bruaylabuissiere.fr/event/passeurs-de-mots-2/
LOCATION:Espace Culturel Grossemy\, Cours Kennedy\, Bruay-La-Buissière\, 62700
CATEGORIES:Arts & Culture,Echanges/rencontres,Festival,Théâtre
ATTACH;FMTTYPE=image/jpeg:https://bruaylabuissiere.fr/wp-content/uploads/2019/07/Passeurs-de-mots.jpg
END:VEVENT
BEGIN:VEVENT
DTSTART;TZID=UTC:20191126T190000
DTEND;TZID=UTC:20191126T203500
DTSTAMP:20260419T164500
CREATED:20190729T113100Z
LAST-MODIFIED:20190802T103907Z
UID:16733-1574794800-1574800500@bruaylabuissiere.fr
SUMMARY:Demandons L'Impossible – Festival Un Autre Regard
DESCRIPTION:Cie Sens Ascensionnels \n\n\nMai 68\, Moulinex et Dim veillent sur Mélina. Contre toute attente\, cette mère de famille va quitter sa cuisine équipée pour voir et comprendre ce que vivent ses enfants sur les barricades\, son mari cheminot devenu contremaître et ses beaux-frères : patron de bistrot gaulliste et prêtre-ouvrier. \nSa révolution à elle mais sans pavés. 5 comédiens\, 30 personnages pour une plongée par l’intime au cœur d’une société qui éprouve la nécessité de se changer… \nMise en scène : Christophe Moyer\, assisté de Céline Dupuis\nDistribution : Sophie Descamps\, Sarah Lecarpentier\, Cyril Brisse\, Fabrice Gaillard\, David Lacomblez\nVidéos : Eric Bézy\nCréation musicale : Benjamin Collier \n\n\n\n\nDès 12 ans \n1h35\nThéâtre \nCatégorie C \nTP : 8€ / TR : 5€ / déCouv’art : 3€ ciné-théâtre : 6€
URL:https://bruaylabuissiere.fr/event/demandons-limpossible/
LOCATION:Espace Culturel Grossemy\, Cours Kennedy\, Bruay-La-Buissière\, 62700
CATEGORIES:Arts & Culture,Festival,Théâtre
ATTACH;FMTTYPE=image/jpeg:https://bruaylabuissiere.fr/wp-content/uploads/2019/07/Demandons-LImpossible.jpg
END:VEVENT
END:VCALENDAR