BEGIN:VCALENDAR
VERSION:2.0
PRODID:-//Ville de Bruay-La-Buissière - ECPv6.9.1//NONSGML v1.0//EN
CALSCALE:GREGORIAN
METHOD:PUBLISH
X-WR-CALNAME:Ville de Bruay-La-Buissière
X-ORIGINAL-URL:https://bruaylabuissiere.fr
X-WR-CALDESC:Évènements pour Ville de Bruay-La-Buissière
REFRESH-INTERVAL;VALUE=DURATION:PT1H
X-Robots-Tag:noindex
X-PUBLISHED-TTL:PT1H
BEGIN:VTIMEZONE
TZID:UTC
BEGIN:STANDARD
TZOFFSETFROM:+0000
TZOFFSETTO:+0000
TZNAME:UTC
DTSTART:20190101T000000
END:STANDARD
END:VTIMEZONE
BEGIN:VEVENT
DTSTART;TZID=UTC:20191004T080000
DTEND;TZID=UTC:20191018T190000
DTSTAMP:20260419T201955
CREATED:20190715T162532Z
LAST-MODIFIED:20190716T153035Z
UID:16491-1570176000-1571425200@bruaylabuissiere.fr
SUMMARY:L'A.B.C en 40 ans
DESCRIPTION:L’Association Bruaysienne pour la Culture fête : \n40 années de théâtre\, de musique\, d’expositions\, de sorties\, de projets et de fêtes\n40 années d’engagement associatif à travers ses membres actuels mais aussi tous ceux qui les ont précédés\n40 années de collaboration intelligente et amicale avec le Pôle Culturel de la Ville\n40 ans de partage avec le public\, d’amitié avec ses membres et de soutien aux autres associations et habitants\n40 années d’activités culturelles mises à l’honneur en octobre \nExposition / Peintures de Jean Morel\, ancien Président de l’A.B.C et Adjoint à la Culture.\nEspace Bully-Brias\, du 4 au 10 octobre (Inauguration le samedi 5 octobre à 18h30) \nExposition / « Jean-Pierre Marszalek »\nMarché Fret – Du 4 au 10 octobre (Inauguration le samedi 5 octobre à 18h30)\nCet artiste plasticien-peintre bruaysien habillera le marché Fret de la gare\, avec ses œuvres \nThéâtre / « Huit Femmes ou presque »\nEspace Culturel Grossemy – Samedi 12 octobre à 20h en séance tout-public\nUne comédie policière par la nouvelle compagnie Les Durs à Queer de Bruay-La-Buissière \nCiné-Rétro / « l’A.B.C en 40 ans »\nCinéma Les Étoiles – Mardi 15 octobre à 20h\nFilm documentaire réalisé par le vidéaste Boris Kolota sur l’histoire de l’A.B.C \nBal Kubiak\nSalle Léo Lagrange – Vendredi 18 octobre à 19h30\nUne soirée festive\, dansante et folle pour clôturer dans la bonne humeur cette quinzaine consacrée aux 40 ans de l’A.B.C \n\n\n\n  \n\nPour info : \n\n\n\n\nLa carte A.B.C est une carte strictement individuelle au prix annuel de 6€. Elle permet l’obtention de tarifs privilégiés sur toute la programmation de la Ville et des activités de l’association \nCette année la carte servira d’invitation gratuite pour assister à la création\n« Huit femmes ou presque » le 11 octobre à 20h à l’Espace Culturel Grossemy
URL:https://bruaylabuissiere.fr/event/la-b-c-en-40-ans/
CATEGORIES:Arts & Culture,Cabaret,Cinéma,Exposition,Jeunesse,Séniors,Théâtre
ATTACH;FMTTYPE=image/jpeg:https://bruaylabuissiere.fr/wp-content/uploads/2019/07/40-ans-ABC.jpg
END:VEVENT
BEGIN:VEVENT
DTSTART;TZID=UTC:20191007T150000
DTEND;TZID=UTC:20191029T160000
DTSTAMP:20260419T201955
CREATED:20190715T173131Z
LAST-MODIFIED:20190716T153856Z
UID:16495-1570460400-1572364800@bruaylabuissiere.fr
SUMMARY:100 ans de polonité dans le bassin minier
DESCRIPTION:Théâtre / « Stanis le Polak »\nDimanche 7 octobre – 17h\nLe Temple / Tout-public / Partenariat Culture-Seniors \nFilm / « L’Homme du peuple »\nMardi 8 octobre – 20h – Film d’Andrzej Wajda\nCinéma Les Etoiles / Durée : 2h08 \nConférence / « L’appel de la main d’œuvre polonaise en 1919 » de Jacques Kmieciak\nJeudi 10 octobre – 18h30\nCinéma Les Etoiles \nCiné-théâtre / « Le Congrès »\nVendredi 11 octobre – 20h – Film de A. Folm\, inspiré de l’œuvre de Stanislas Lem\, auteur polonais de science- fiction\nCinéma Les Étoiles / Durée : 2h03 \nExposition / « La petite Princesse Polonaise »\nDu 12 au 26 octobre – Planches illustrées tirées de l’ouvrage d’Anne-Marie Wisniewski (auteure) et de Joanna Swiatek (illustratrice) aux éditions Nord-Avril\nMédiathèque Marcel Wacheux \nVernissage le 12 octobre – 18h30\nsuivi du concert de « Jas & Kat » (Kasia Rózycka et Jason Roszak – 20 et 24 ans) dont plusieurs titres en polonais \n« Journée Polonaise »\nDimanche 13 octobre – Bruay-La-Buissière Initiative\nArtisanat et spectacle folklorique KALINA\nSalle Marmottan / Dès 13h30 / Tarif : 6€ \nCiné-goûter / « Minopolska »\nMercredi 16 octobre – 14h30 (+ scolaires du 16 au 18) Cinq courts-métrages d’animation polonaise\nCinéma Les Étoiles / Dès 3 ans / Durée : 45 mn \n« Bal Kubiak »\nVendredi 18 octobre – Clôture des 40 ans de l’Association Bruaysienne pour la Culture \nConte / « Le dragon de Cracovie et autres contes polonais »\nMercredi 23 et mercredi 29 octobre – Conte musical tout public à partir de 6 ans par la compagnie SlaviCarib\nMédiathèque Marcel Wacheux
URL:https://bruaylabuissiere.fr/event/100-ans-de-polonite-dans-le-bassin-minier/
CATEGORIES:Arts & Culture,Asso,Cabaret,Ciné-théâtre,Conférence,Danse,Echanges/rencontres,Enfance,Exposition,Jeunesse,Séniors,Théâtre
ATTACH;FMTTYPE=image/jpeg:https://bruaylabuissiere.fr/wp-content/uploads/2019/07/fille-polonaise.jpg
END:VEVENT
END:VCALENDAR