BEGIN:VCALENDAR
VERSION:2.0
PRODID:-//Ville de Bruay-La-Buissière - ECPv6.9.1//NONSGML v1.0//EN
CALSCALE:GREGORIAN
METHOD:PUBLISH
X-ORIGINAL-URL:https://bruaylabuissiere.fr
X-WR-CALDESC:Évènements pour Ville de Bruay-La-Buissière
REFRESH-INTERVAL;VALUE=DURATION:PT1H
X-Robots-Tag:noindex
X-PUBLISHED-TTL:PT1H
BEGIN:VTIMEZONE
TZID:UTC
BEGIN:STANDARD
TZOFFSETFROM:+0000
TZOFFSETTO:+0000
TZNAME:UTC
DTSTART:20190101T000000
END:STANDARD
END:VTIMEZONE
BEGIN:VEVENT
DTSTART;TZID=UTC:20191106T140000
DTEND;TZID=UTC:20191106T150000
DTSTAMP:20260419T183403
CREATED:20190724T105929Z
LAST-MODIFIED:20190724T110042Z
UID:16678-1573048800-1573052400@bruaylabuissiere.fr
SUMMARY:La Mangeuse De Terre
DESCRIPTION:Cie de Fil et d’Os \nLa célèbre tireuse de cartes\, Pilar Ternéra\, nous ouvre son cabinet. Certaines cartes nous renvoient parfois à une histoire\, à notre passé… Celui de Pilar restera marqué par sa rencontre avec cette petite « mangeuse de terre » arrivée au village avec\, pour seul bagage\, une sacoche contenant des ossements. Des os qui continuent inlassablement de claquer sur sa vie.\nOn pourrait s’attendre à une histoire triste si elle n’était pas inspirée de Gabriel Garcia Marquèz et de son réalisme magique. De la peur de l’oubli à l’acceptation\, par quelle folie faut-il passer pour se séparer de nos morts et exister soi-même ? \nArtistes : Julie Canadas et Anne Sophie Dhulu\nMise en scène : Amalia Modica\nCréation musicale : Simon Demouveaux\nCréation lumière : Juliette Delfosse\nRégie : Juliette Delfosse ou Laure Andurand\nDécor et accessoires : Philippe Martini\nCostumes : Vaïssa Favereau\nVisuel et peintures : Aurélie Pascal\nSon : Jérémy Morelle\n \n\n\n\n\nDès 8 ans \n1h10\nThéâtre \nCatégorie C \nTP : 8€ / TR : 5€ déCouv’art : 3€
URL:https://bruaylabuissiere.fr/event/la-mangeuse-de-terre/
LOCATION:Le Temple\, 125 Rue Henri Hermant\, Bruay-La-Buissière\, 62700
CATEGORIES:Arts & Culture,Théâtre,Théatre d'objets
ATTACH;FMTTYPE=image/jpeg:https://bruaylabuissiere.fr/wp-content/uploads/2019/07/La-mangeuse-de-terre.jpg
END:VEVENT
END:VCALENDAR