BEGIN:VCALENDAR
VERSION:2.0
PRODID:-//Ville de Bruay-La-Buissière - ECPv6.9.1//NONSGML v1.0//EN
CALSCALE:GREGORIAN
METHOD:PUBLISH
X-ORIGINAL-URL:https://bruaylabuissiere.fr
X-WR-CALDESC:Évènements pour Ville de Bruay-La-Buissière
REFRESH-INTERVAL;VALUE=DURATION:PT1H
X-Robots-Tag:noindex
X-PUBLISHED-TTL:PT1H
BEGIN:VTIMEZONE
TZID:UTC
BEGIN:STANDARD
TZOFFSETFROM:+0000
TZOFFSETTO:+0000
TZNAME:UTC
DTSTART:20240101T000000
END:STANDARD
END:VTIMEZONE
BEGIN:VEVENT
DTSTART;TZID=UTC:20240914T093000
DTEND;TZID=UTC:20241109T103000
DTSTAMP:20260422T160807
CREATED:20240828T083153Z
LAST-MODIFIED:20240828T083153Z
UID:30269-1726306200-1731148200@bruaylabuissiere.fr
SUMMARY:Atelier des petits
DESCRIPTION:
URL:https://bruaylabuissiere.fr/event/atelier-des-petits-4/
LOCATION:Médiathèque Marcel Wacheux\, 82 rue du Périgord\, Bruay-La-Buissière\, 62700
CATEGORIES:Arts & Culture,Atelier,Enfance
ATTACH;FMTTYPE=image/jpeg:https://bruaylabuissiere.fr/wp-content/uploads/2024/08/2024-mediatheque-ATELIERS-DES-PETITS.jpg
END:VEVENT
BEGIN:VEVENT
DTSTART;TZID=UTC:20240918T143000
DTEND;TZID=UTC:20241211T170000
DTSTAMP:20260422T160807
CREATED:20240828T094546Z
LAST-MODIFIED:20240828T094546Z
UID:30272-1726669800-1733936400@bruaylabuissiere.fr
SUMMARY:Karaokés
DESCRIPTION:
URL:https://bruaylabuissiere.fr/event/karaokes/
LOCATION:Médiathèque Marcel Wacheux\, 82 rue du Périgord\, Bruay-La-Buissière\, 62700
CATEGORIES:Arts & Culture,Intergénérationnel
ATTACH;FMTTYPE=image/jpeg:https://bruaylabuissiere.fr/wp-content/uploads/2024/08/2024-mediatheque-KARAOKE.jpg
END:VEVENT
BEGIN:VEVENT
DTSTART;TZID=UTC:20241002T150000
DTEND;TZID=UTC:20241218T170000
DTSTAMP:20260422T160807
CREATED:20241002T132226Z
LAST-MODIFIED:20241002T132226Z
UID:30456-1727881200-1734541200@bruaylabuissiere.fr
SUMMARY:L'heure du conte - Spectacle de contes
DESCRIPTION:
URL:https://bruaylabuissiere.fr/event/lheure-du-conte-spectacle-de-contes/
LOCATION:Médiathèque Marcel Wacheux\, 82 rue du Périgord\, Bruay-La-Buissière\, 62700
CATEGORIES:Arts & Culture,Enfance,Jeunesse,Spectacles & Concerts
ATTACH;FMTTYPE=image/jpeg:https://bruaylabuissiere.fr/wp-content/uploads/2024/10/2024-Mediatheque-CONTES.jpg
END:VEVENT
BEGIN:VEVENT
DTSTART;TZID=UTC:20241004T123000
DTEND;TZID=UTC:20241206T133000
DTSTAMP:20260422T160807
CREATED:20241002T144333Z
LAST-MODIFIED:20241002T144413Z
UID:30487-1728045000-1733491800@bruaylabuissiere.fr
SUMMARY:Siestes musicales
DESCRIPTION:
URL:https://bruaylabuissiere.fr/event/siestes-musicales-2/
LOCATION:Médiathèque Marcel Wacheux\, 82 rue du Périgord\, Bruay-La-Buissière\, 62700
CATEGORIES:Arts & Culture,Siestes musicales
ATTACH;FMTTYPE=image/jpeg:https://bruaylabuissiere.fr/wp-content/uploads/2024/10/2024-Mediatheque-SIESTE-MUSICALE.jpg
END:VEVENT
BEGIN:VEVENT
DTSTART;TZID=UTC:20241009T140000
DTEND;TZID=UTC:20250131T153000
DTSTAMP:20260422T160807
CREATED:20241009T130043Z
LAST-MODIFIED:20241009T130043Z
UID:30506-1728482400-1738337400@bruaylabuissiere.fr
SUMMARY:Jeux traditionnels
DESCRIPTION:
URL:https://bruaylabuissiere.fr/event/jeux-traditionnels/
CATEGORIES:Jeu
ATTACH;FMTTYPE=image/jpeg:https://bruaylabuissiere.fr/wp-content/uploads/2024/10/Sports-anciens-modif.jpg
ORGANIZER;CN="Service des sports":MAILTO:service.sports@bruaylabuissiere.fr
END:VEVENT
BEGIN:VEVENT
DTSTART;TZID=UTC:20241011T180000
DTEND;TZID=UTC:20241206T180000
DTSTAMP:20260422T160807
CREATED:20241002T143958Z
LAST-MODIFIED:20241002T143958Z
UID:30481-1728669600-1733508000@bruaylabuissiere.fr
SUMMARY:Ateliers philo
DESCRIPTION:
URL:https://bruaylabuissiere.fr/event/ateliers-philo-4/
LOCATION:Médiathèque Marcel Wacheux\, 82 rue du Périgord\, Bruay-La-Buissière\, 62700
CATEGORIES:Arts & Culture,Atelier
ATTACH;FMTTYPE=image/jpeg:https://bruaylabuissiere.fr/wp-content/uploads/2024/10/2024-mediatheque-PHILO.jpg
END:VEVENT
BEGIN:VEVENT
DTSTART;TZID=UTC:20241012T143000
DTEND;TZID=UTC:20241221T143000
DTSTAMP:20260422T160807
CREATED:20241002T143621Z
LAST-MODIFIED:20241002T143621Z
UID:30474-1728743400-1734791400@bruaylabuissiere.fr
SUMMARY:Ateliers grainothèque + création de Noël
DESCRIPTION:
URL:https://bruaylabuissiere.fr/event/ateliers-grainotheque-creation-de-noel/
LOCATION:Médiathèque Marcel Wacheux\, 82 rue du Périgord\, Bruay-La-Buissière\, 62700
CATEGORIES:Arts & Culture,Atelier
ATTACH;FMTTYPE=image/jpeg:https://bruaylabuissiere.fr/wp-content/uploads/2024/10/2024-mediatheque-GRANOTHEQUE.jpg
END:VEVENT
BEGIN:VEVENT
DTSTART;TZID=UTC:20241018T180000
DTEND;TZID=UTC:20241220T180000
DTSTAMP:20260422T160807
CREATED:20241002T144535Z
LAST-MODIFIED:20241002T144535Z
UID:30490-1729274400-1734717600@bruaylabuissiere.fr
SUMMARY:Soirée jeux
DESCRIPTION:
URL:https://bruaylabuissiere.fr/event/soiree-jeux-7/
LOCATION:Médiathèque Marcel Wacheux\, 82 rue du Périgord\, Bruay-La-Buissière\, 62700
CATEGORIES:Arts & Culture,Jeu
ATTACH;FMTTYPE=image/jpeg:https://bruaylabuissiere.fr/wp-content/uploads/2024/10/2024-mediatheque-SOIREE-JEUX.jpg
END:VEVENT
BEGIN:VEVENT
DTSTART;TZID=UTC:20241022T140000
DTEND;TZID=UTC:20241113T170000
DTSTAMP:20260422T160807
CREATED:20241002T143148Z
LAST-MODIFIED:20241002T143148Z
UID:30468-1729605600-1731517200@bruaylabuissiere.fr
SUMMARY:Atelier création d'un conte et restitution
DESCRIPTION:
URL:https://bruaylabuissiere.fr/event/atelier-creation-dun-conte-et-restitution/
LOCATION:Médiathèque Marcel Wacheux\, 82 rue du Périgord\, Bruay-La-Buissière\, 62700
CATEGORIES:Arts & Culture,Atelier
ATTACH;FMTTYPE=image/jpeg:https://bruaylabuissiere.fr/wp-content/uploads/2024/10/2024-Mediatheque-ATELIER-CONTE.jpg
END:VEVENT
BEGIN:VEVENT
DTSTART;TZID=UTC:20241026T143000
DTEND;TZID=UTC:20241123T143000
DTSTAMP:20260422T160807
CREATED:20241002T144149Z
LAST-MODIFIED:20241002T144149Z
UID:30484-1729953000-1732372200@bruaylabuissiere.fr
SUMMARY:Atelier "Des ramages contrôlés"
DESCRIPTION:
URL:https://bruaylabuissiere.fr/event/atelier-des-ramages-controles/
LOCATION:Médiathèque Marcel Wacheux\, 82 rue du Périgord\, Bruay-La-Buissière\, 62700
CATEGORIES:Arts & Culture,Atelier
ATTACH;FMTTYPE=image/jpeg:https://bruaylabuissiere.fr/wp-content/uploads/2024/10/2024-mediatheque-RAMAGES-CONTROLES.jpg
END:VEVENT
BEGIN:VEVENT
DTSTART;VALUE=DATE:20241101
DTEND;VALUE=DATE:20250101
DTSTAMP:20260422T160807
CREATED:20241031T095720Z
LAST-MODIFIED:20241106T081743Z
UID:30571-1730419200-1735689599@bruaylabuissiere.fr
SUMMARY:Grand jeu de Noël
DESCRIPTION:>> Règlement du concours
URL:https://bruaylabuissiere.fr/event/grand-jeu-de-noel/
CATEGORIES:Asso,Jeu
ATTACH;FMTTYPE=image/jpeg:https://bruaylabuissiere.fr/wp-content/uploads/2024/10/Affiche-voyage-a-gagner-Boutiques-Centre-Ville-1-scaled.jpg
END:VEVENT
BEGIN:VEVENT
DTSTART;TZID=UTC:20241102T120000
DTEND;TZID=UTC:20241104T183000
DTSTAMP:20260422T160807
CREATED:20240828T123121Z
LAST-MODIFIED:20240828T123121Z
UID:30275-1730548800-1730745000@bruaylabuissiere.fr
SUMMARY:Repas spectacle
DESCRIPTION:
URL:https://bruaylabuissiere.fr/event/repas-spectacle-3/
LOCATION:Complexe sportif Léo Lagrange\, cours Kennedy\, Bruay-la-buissière\, 62700
CATEGORIES:Séniors
ATTACH;FMTTYPE=image/jpeg:https://bruaylabuissiere.fr/wp-content/uploads/2024/08/Affiche-repas-2024-scaled.jpg
END:VEVENT
BEGIN:VEVENT
DTSTART;TZID=UTC:20241106T083000
DTEND;TZID=UTC:20241106T120000
DTSTAMP:20260422T160807
CREATED:20240617T143612Z
LAST-MODIFIED:20240617T143612Z
UID:29661-1730881800-1730894400@bruaylabuissiere.fr
SUMMARY:Bourse aux vêtements
DESCRIPTION:
URL:https://bruaylabuissiere.fr/event/bourse-aux-vetements-13/
LOCATION:Salle du Temps Libre\, rue des états-unis\, Bruay-la-buissière\, 62700
CATEGORIES:Asso,Bourse
ATTACH;FMTTYPE=image/png:https://bruaylabuissiere.fr/wp-content/uploads/2024/06/Affiche-Bourse-aux-vetements-06-11-24.png
END:VEVENT
BEGIN:VEVENT
DTSTART;TZID=UTC:20241108T180000
DTEND;TZID=UTC:20241108T180000
DTSTAMP:20260422T160807
CREATED:20241018T094641Z
LAST-MODIFIED:20241018T094641Z
UID:30546-1731088800-1731088800@bruaylabuissiere.fr
SUMMARY:Spectacle de contes "On aurait dû fêter nos 10 ans"
DESCRIPTION:
URL:https://bruaylabuissiere.fr/event/spectacle-de-contes-on-aurait-du-feter-nos-10-ans/
LOCATION:Médiathèque Marcel Wacheux\, 82 rue du Périgord\, Bruay-La-Buissière\, 62700
CATEGORIES:Arts & Culture,Comédie musicale,Concert,Spectacles & Concerts
ATTACH;FMTTYPE=image/jpeg:https://bruaylabuissiere.fr/wp-content/uploads/2024/10/2024-Mediatheque-SPECTACLE-DE-CONTES.jpg
END:VEVENT
BEGIN:VEVENT
DTSTART;TZID=UTC:20241109T143000
DTEND;TZID=UTC:20241109T193000
DTSTAMP:20260422T160807
CREATED:20240826T121648Z
LAST-MODIFIED:20240826T121701Z
UID:30251-1731162600-1731180600@bruaylabuissiere.fr
SUMMARY:Thé dansant
DESCRIPTION:
URL:https://bruaylabuissiere.fr/event/the-dansant-21/
LOCATION:Salle Georges Hurtrel\, Place du Rietz\, Bruay-la-buissière\, 62700
CATEGORIES:Asso,Danse,Séniors
ATTACH;FMTTYPE=image/jpeg:https://bruaylabuissiere.fr/wp-content/uploads/2024/08/the-dansant-musiciens-en-fete-scaled.jpg
ORGANIZER;CN="Les musiciens en f%C3%AAte":MAILTO:orchestra.yskras@gmail.fr
END:VEVENT
BEGIN:VEVENT
DTSTART;TZID=UTC:20241115T180000
DTEND;TZID=UTC:20241220T180000
DTSTAMP:20260422T160807
CREATED:20241002T132455Z
LAST-MODIFIED:20241002T132455Z
UID:30459-1731693600-1734717600@bruaylabuissiere.fr
SUMMARY:Club lecture
DESCRIPTION:
URL:https://bruaylabuissiere.fr/event/club-lecture-17/
LOCATION:Médiathèque Marcel Wacheux\, 82 rue du Périgord\, Bruay-La-Buissière\, 62700
CATEGORIES:Arts & Culture
ATTACH;FMTTYPE=image/jpeg:https://bruaylabuissiere.fr/wp-content/uploads/2024/10/2024-mediatheque-LECTURE.jpg
END:VEVENT
BEGIN:VEVENT
DTSTART;VALUE=DATE:20241120
DTEND;VALUE=DATE:20241201
DTSTAMP:20260422T160807
CREATED:20241018T094311Z
LAST-MODIFIED:20241018T094311Z
UID:30540-1732060800-1733011199@bruaylabuissiere.fr
SUMMARY:C'est magique !
DESCRIPTION:
URL:https://bruaylabuissiere.fr/event/cest-magique/
LOCATION:Médiathèque Marcel Wacheux\, 82 rue du Périgord\, Bruay-La-Buissière\, 62700
CATEGORIES:Arts & Culture,Atelier,Jeu
ATTACH;FMTTYPE=image/jpeg:https://bruaylabuissiere.fr/wp-content/uploads/2024/10/2024-mediatheque-CEST-MAGIQUE-.jpg
END:VEVENT
BEGIN:VEVENT
DTSTART;TZID=UTC:20241130T140000
DTEND;TZID=UTC:20241130T140000
DTSTAMP:20260422T160807
CREATED:20241018T094439Z
LAST-MODIFIED:20241018T094439Z
UID:30543-1732975200-1732975200@bruaylabuissiere.fr
SUMMARY:Atelier créatif de Noël
DESCRIPTION:
URL:https://bruaylabuissiere.fr/event/atelier-creatif-de-noel/
LOCATION:Médiathèque Marcel Wacheux\, 82 rue du Périgord\, Bruay-La-Buissière\, 62700
CATEGORIES:Arts & Culture,Atelier
ATTACH;FMTTYPE=image/jpeg:https://bruaylabuissiere.fr/wp-content/uploads/2024/10/2024-mediatheque-PHOTOPHORES.jpg
END:VEVENT
BEGIN:VEVENT
DTSTART;TZID=UTC:20241130T190000
DTEND;TZID=UTC:20241130T190000
DTSTAMP:20260422T160807
CREATED:20240619T073658Z
LAST-MODIFIED:20240619T073658Z
UID:29757-1732993200-1732993200@bruaylabuissiere.fr
SUMMARY:Festival Aütfëst
DESCRIPTION:
URL:https://bruaylabuissiere.fr/event/festival-autfest/
LOCATION:Espace Culturel Grossemy\, Cours Kennedy\, Bruay-La-Buissière\, 62700
CATEGORIES:Arts & Culture,Asso,Concert rock,Festival,Spectacles & Concerts
ATTACH;FMTTYPE=image/jpeg:https://bruaylabuissiere.fr/wp-content/uploads/2024/06/autfest2-scaled.jpg
END:VEVENT
END:VCALENDAR