BEGIN:VCALENDAR
VERSION:2.0
PRODID:-//Ville de Bruay-La-Buissière - ECPv6.9.1//NONSGML v1.0//EN
CALSCALE:GREGORIAN
METHOD:PUBLISH
X-WR-CALNAME:Ville de Bruay-La-Buissière
X-ORIGINAL-URL:https://bruaylabuissiere.fr
X-WR-CALDESC:Évènements pour Ville de Bruay-La-Buissière
REFRESH-INTERVAL;VALUE=DURATION:PT1H
X-Robots-Tag:noindex
X-PUBLISHED-TTL:PT1H
BEGIN:VTIMEZONE
TZID:UTC
BEGIN:STANDARD
TZOFFSETFROM:+0000
TZOFFSETTO:+0000
TZNAME:UTC
DTSTART:20250101T000000
END:STANDARD
END:VTIMEZONE
BEGIN:VEVENT
DTSTART;TZID=UTC:20250405T100000
DTEND;TZID=UTC:20250406T180000
DTSTAMP:20260422T084909
CREATED:20250326T134221Z
LAST-MODIFIED:20250326T134221Z
UID:31465-1743847200-1743962400@bruaylabuissiere.fr
SUMMARY:Salon du bien-être et des créateurs
DESCRIPTION:
URL:https://bruaylabuissiere.fr/event/salon-du-bien-etre-et-des-createurs-2/
LOCATION:Salle Marmottan\, Place Marmottan\, Bruay-la-buissière\, 62700
CATEGORIES:Asso
ATTACH;FMTTYPE=image/png:https://bruaylabuissiere.fr/wp-content/uploads/2025/03/05-et-06-04-2025-Salon-du-bien-etre.png
END:VEVENT
BEGIN:VEVENT
DTSTART;TZID=UTC:20250405T100000
DTEND;TZID=UTC:20250419T180000
DTSTAMP:20260422T084909
CREATED:20250218T104646Z
LAST-MODIFIED:20250218T104646Z
UID:31306-1743847200-1745085600@bruaylabuissiere.fr
SUMMARY:Quinzaine du vinyle
DESCRIPTION:
URL:https://bruaylabuissiere.fr/event/quinzaine-du-vinyle/
LOCATION:Médiathèque Marcel Wacheux\, 82 rue du Périgord\, Bruay-La-Buissière\, 62700
CATEGORIES:Arts & Culture,Atelier,Echanges/rencontres,Exposition,Spectacles & Concerts
ATTACH;FMTTYPE=image/jpeg:https://bruaylabuissiere.fr/wp-content/uploads/2025/02/2025-mediatheque-VINYLE.jpg
END:VEVENT
BEGIN:VEVENT
DTSTART;TZID=UTC:20250405T180000
DTEND;TZID=UTC:20250405T180000
DTSTAMP:20260422T084909
CREATED:20250218T103846Z
LAST-MODIFIED:20250218T103846Z
UID:31294-1743876000-1743876000@bruaylabuissiere.fr
SUMMARY:Apéro-mix par Clo
DESCRIPTION:
URL:https://bruaylabuissiere.fr/event/apero-mix-par-clo/
LOCATION:Médiathèque Marcel Wacheux\, 82 rue du Périgord\, Bruay-La-Buissière\, 62700
CATEGORIES:Arts & Culture,Concert
ATTACH;FMTTYPE=image/jpeg:https://bruaylabuissiere.fr/wp-content/uploads/2025/02/2025-Mediatheque-APERO-CLO.jpg
END:VEVENT
BEGIN:VEVENT
DTSTART;TZID=UTC:20250406T160000
DTEND;TZID=UTC:20250406T160000
DTSTAMP:20260422T084909
CREATED:20250213T085044Z
LAST-MODIFIED:20250213T085054Z
UID:31258-1743955200-1743955200@bruaylabuissiere.fr
SUMMARY:Frédéric François
DESCRIPTION:
URL:https://bruaylabuissiere.fr/event/frederic-francois/
LOCATION:Espace Culturel Grossemy\, Cours Kennedy\, Bruay-La-Buissière\, 62700
CATEGORIES:Arts & Culture,Chanson française,Concert,Séniors,Spectacles & Concerts
ATTACH;FMTTYPE=image/jpeg:https://bruaylabuissiere.fr/wp-content/uploads/2025/02/FRANCOIS-copie.jpg
END:VEVENT
BEGIN:VEVENT
DTSTART;TZID=UTC:20250408T140000
DTEND;TZID=UTC:20250410T160000
DTSTAMP:20260422T084909
CREATED:20250218T104431Z
LAST-MODIFIED:20250218T104431Z
UID:31303-1744120800-1744300800@bruaylabuissiere.fr
SUMMARY:Semaine playmobil
DESCRIPTION:
URL:https://bruaylabuissiere.fr/event/semaine-playmobil-3/
LOCATION:Médiathèque Marcel Wacheux\, 82 rue du Périgord\, Bruay-La-Buissière\, 62700
CATEGORIES:Arts & Culture,Enfance,Jeu,Jeunesse
ATTACH;FMTTYPE=image/jpeg:https://bruaylabuissiere.fr/wp-content/uploads/2025/02/2025-Mediatheque-PLAYMOBIL.jpg
END:VEVENT
BEGIN:VEVENT
DTSTART;TZID=UTC:20250412T200000
DTEND;TZID=UTC:20250412T200000
DTSTAMP:20260422T084909
CREATED:20250122T132748Z
LAST-MODIFIED:20250122T132800Z
UID:31143-1744488000-1744488000@bruaylabuissiere.fr
SUMMARY:Soirée année 80 à nos jours
DESCRIPTION:
URL:https://bruaylabuissiere.fr/event/soiree-annee-80-a-nos-jours/
LOCATION:Salle Marmottan\, Place Marmottan\, Bruay-la-buissière\, 62700
CATEGORIES:Asso
ATTACH;FMTTYPE=image/png:https://bruaylabuissiere.fr/wp-content/uploads/2025/01/Affiche-soiree-annees-1980-a-nos-jours.png
END:VEVENT
BEGIN:VEVENT
DTSTART;TZID=UTC:20250413T090000
DTEND;TZID=UTC:20250413T180000
DTSTAMP:20260422T084909
CREATED:20250402T062058Z
LAST-MODIFIED:20250402T062058Z
UID:31603-1744534800-1744567200@bruaylabuissiere.fr
SUMMARY:Vide grenier
DESCRIPTION:
URL:https://bruaylabuissiere.fr/event/vide-grenier-87/
CATEGORIES:Asso,Vide grenier
ATTACH;FMTTYPE=image/png:https://bruaylabuissiere.fr/wp-content/uploads/2025/04/Vide-Grenier-13-04-25-Comite-AQ-Terrasses.png
END:VEVENT
BEGIN:VEVENT
DTSTART;TZID=UTC:20250413T150000
DTEND;TZID=UTC:20250413T150000
DTSTAMP:20260422T084910
CREATED:20250122T133918Z
LAST-MODIFIED:20250122T133918Z
UID:31149-1744556400-1744556400@bruaylabuissiere.fr
SUMMARY:Super loto
DESCRIPTION:
URL:https://bruaylabuissiere.fr/event/super-loto-2/
LOCATION:Salle Marmottan\, Place Marmottan\, Bruay-la-buissière\, 62700
CATEGORIES:Asso,Loto
ATTACH;FMTTYPE=image/png:https://bruaylabuissiere.fr/wp-content/uploads/2025/01/Affiche-super-loto.png
END:VEVENT
BEGIN:VEVENT
DTSTART;TZID=UTC:20250416T143000
DTEND;TZID=UTC:20250416T143000
DTSTAMP:20260422T084910
CREATED:20250218T104027Z
LAST-MODIFIED:20250218T104054Z
UID:31297-1744813800-1744813800@bruaylabuissiere.fr
SUMMARY:Atelier de dessin en BD
DESCRIPTION:
URL:https://bruaylabuissiere.fr/event/atelier-de-dessin-en-bd/
LOCATION:Médiathèque Marcel Wacheux\, 82 rue du Périgord\, Bruay-La-Buissière\, 62700
CATEGORIES:Arts & Culture,Atelier
ATTACH;FMTTYPE=image/jpeg:https://bruaylabuissiere.fr/wp-content/uploads/2025/02/2025-Mediatheque-BD.jpg
END:VEVENT
BEGIN:VEVENT
DTSTART;VALUE=DATE:20250419
DTEND;VALUE=DATE:20250420
DTSTAMP:20260422T084910
CREATED:20250113T130750Z
LAST-MODIFIED:20250113T130750Z
UID:31058-1745020800-1745107199@bruaylabuissiere.fr
SUMMARY:Sortie aux Grottes de Han
DESCRIPTION:
URL:https://bruaylabuissiere.fr/event/sortie-aux-grottes-de-han/
CATEGORIES:Asso
ATTACH;FMTTYPE=image/jpeg:https://bruaylabuissiere.fr/wp-content/uploads/2025/01/01-grottes-de-han-04-2025-scaled.jpg
END:VEVENT
BEGIN:VEVENT
DTSTART;TZID=UTC:20250419T080000
DTEND;TZID=UTC:20250419T180000
DTSTAMP:20260422T084910
CREATED:20250213T084521Z
LAST-MODIFIED:20250402T062427Z
UID:31252-1745049600-1745085600@bruaylabuissiere.fr
SUMMARY:Vide grenier
DESCRIPTION:
URL:https://bruaylabuissiere.fr/event/tribute-calogero/
CATEGORIES:Asso,Vide grenier
ATTACH;FMTTYPE=image/png:https://bruaylabuissiere.fr/wp-content/uploads/2025/04/Vide-Grenier-LGBT-Bruay-19-04-25.png
END:VEVENT
BEGIN:VEVENT
DTSTART;TZID=UTC:20250419T200000
DTEND;TZID=UTC:20250419T200000
DTSTAMP:20260422T084910
CREATED:20250402T061612Z
LAST-MODIFIED:20250402T061612Z
UID:31597-1745092800-1745092800@bruaylabuissiere.fr
SUMMARY:Tribute Calogero
DESCRIPTION:
URL:https://bruaylabuissiere.fr/event/tribute-calogero-2/
LOCATION:Espace Culturel Grossemy\, Cours Kennedy\, Bruay-La-Buissière\, 62700
CATEGORIES:Arts & Culture,Chanson française,Concert,Spectacles & Concerts
ATTACH;FMTTYPE=image/jpeg:https://bruaylabuissiere.fr/wp-content/uploads/2025/04/CALO-copie.jpg
END:VEVENT
BEGIN:VEVENT
DTSTART;TZID=UTC:20250425T100000
DTEND;TZID=UTC:20250427T180000
DTSTAMP:20260422T084910
CREATED:20250404T064241Z
LAST-MODIFIED:20250404T064241Z
UID:31649-1745575200-1745776800@bruaylabuissiere.fr
SUMMARY:Exposition de peintures
DESCRIPTION:
URL:https://bruaylabuissiere.fr/event/exposition-de-peintures-2/
LOCATION:Espace Bully-Brias\, Place Bodelot\, Bruay-La-Buissière\, 62700\, France
CATEGORIES:Arts & Culture,Exposition
ATTACH;FMTTYPE=image/jpeg:https://bruaylabuissiere.fr/wp-content/uploads/2025/04/A3-PEINTURES-CHANTAL-copie.jpg
END:VEVENT
BEGIN:VEVENT
DTSTART;VALUE=DATE:20250426
DTEND;VALUE=DATE:20250505
DTSTAMP:20260422T084910
CREATED:20250416T093707Z
LAST-MODIFIED:20250416T093707Z
UID:31739-1745625600-1746403199@bruaylabuissiere.fr
SUMMARY:Fête foraine
DESCRIPTION:
URL:https://bruaylabuissiere.fr/event/fete-foraine-6/
LOCATION:Parc de la Lawe\, Rue de la république\, Bruay-la-Buissière\, 62700
CATEGORIES:Asso,Fête foraine
ATTACH;FMTTYPE=image/jpeg:https://bruaylabuissiere.fr/wp-content/uploads/2025/04/A4-Fete-Foraine-Carrefour-Lemoine-2025-scaled.jpg
END:VEVENT
BEGIN:VEVENT
DTSTART;TZID=UTC:20250426T143000
DTEND;TZID=UTC:20250628T093000
DTSTAMP:20260422T084910
CREATED:20250218T104233Z
LAST-MODIFIED:20250218T104233Z
UID:31300-1745677800-1751103000@bruaylabuissiere.fr
SUMMARY:Ateliers grainothèque
DESCRIPTION:
URL:https://bruaylabuissiere.fr/event/ateliers-grainotheque/
LOCATION:Médiathèque Marcel Wacheux\, 82 rue du Périgord\, Bruay-La-Buissière\, 62700
CATEGORIES:Arts & Culture,Atelier
ATTACH;FMTTYPE=image/jpeg:https://bruaylabuissiere.fr/wp-content/uploads/2025/02/2025-mediatheque-GRAINOTHEQUE.jpg
END:VEVENT
BEGIN:VEVENT
DTSTART;TZID=UTC:20250427T090000
DTEND;TZID=UTC:20250427T120000
DTSTAMP:20260422T084910
CREATED:20250404T063143Z
LAST-MODIFIED:20250404T063409Z
UID:31643-1745744400-1745755200@bruaylabuissiere.fr
SUMMARY:Foulées du Bruaysis
DESCRIPTION:Téléchargez le programme des Foulées du Bruaysis 2025 !\n>> Cliquez ici pour vous inscrire <<
URL:https://bruaylabuissiere.fr/event/foulees-du-bruaysis-4/
LOCATION:Hôtel de Ville\, Place Henri Cadot\, 62700\, France
CATEGORIES:sports
ATTACH;FMTTYPE=image/jpeg:https://bruaylabuissiere.fr/wp-content/uploads/2025/04/2025-A4-Foulees-scaled.jpg
ORGANIZER;CN="Service des sports":MAILTO:service.sports@bruaylabuissiere.fr
END:VEVENT
BEGIN:VEVENT
DTSTART;TZID=UTC:20250430T100000
DTEND;TZID=UTC:20250501T170000
DTSTAMP:20260422T084910
CREATED:20250407T115241Z
LAST-MODIFIED:20250407T115241Z
UID:31678-1746007200-1746118800@bruaylabuissiere.fr
SUMMARY:49e Fête de la moto
DESCRIPTION:
URL:https://bruaylabuissiere.fr/event/49e-fete-de-la-moto/
CATEGORIES:Asso,Concert,Concert rock,Exposition
ATTACH;FMTTYPE=image/png:https://bruaylabuissiere.fr/wp-content/uploads/2025/04/30-04-et-1-05-Fete-de-la-moto-Union-du-carrefour-lemoine.png
END:VEVENT
END:VCALENDAR