BEGIN:VCALENDAR
VERSION:2.0
PRODID:-//Ville de Bruay-La-Buissière - ECPv6.9.1//NONSGML v1.0//EN
CALSCALE:GREGORIAN
METHOD:PUBLISH
X-ORIGINAL-URL:https://bruaylabuissiere.fr
X-WR-CALDESC:Évènements pour Ville de Bruay-La-Buissière
REFRESH-INTERVAL;VALUE=DURATION:PT1H
X-Robots-Tag:noindex
X-PUBLISHED-TTL:PT1H
BEGIN:VTIMEZONE
TZID:UTC
BEGIN:STANDARD
TZOFFSETFROM:+0000
TZOFFSETTO:+0000
TZNAME:UTC
DTSTART:20250101T000000
END:STANDARD
END:VTIMEZONE
BEGIN:VEVENT
DTSTART;TZID=UTC:20250426T143000
DTEND;TZID=UTC:20250628T093000
DTSTAMP:20260422T052727
CREATED:20250218T104233Z
LAST-MODIFIED:20250218T104233Z
UID:31300-1745677800-1751103000@bruaylabuissiere.fr
SUMMARY:Ateliers grainothèque
DESCRIPTION:
URL:https://bruaylabuissiere.fr/event/ateliers-grainotheque/
LOCATION:Médiathèque Marcel Wacheux\, 82 rue du Périgord\, Bruay-La-Buissière\, 62700
CATEGORIES:Arts & Culture,Atelier
ATTACH;FMTTYPE=image/jpeg:https://bruaylabuissiere.fr/wp-content/uploads/2025/02/2025-mediatheque-GRAINOTHEQUE.jpg
END:VEVENT
BEGIN:VEVENT
DTSTART;TZID=UTC:20250515T133000
DTEND;TZID=UTC:20250703T160000
DTSTAMP:20260422T052727
CREATED:20250429T140420Z
LAST-MODIFIED:20250429T140420Z
UID:31878-1747315800-1751558400@bruaylabuissiere.fr
SUMMARY:Sorties VTT
DESCRIPTION:
URL:https://bruaylabuissiere.fr/event/sorties-vtt/
LOCATION:Complexe sportif Léo Lagrange\, cours Kennedy\, Bruay-la-buissière\, 62700
CATEGORIES:sports
ATTACH;FMTTYPE=image/jpeg:https://bruaylabuissiere.fr/wp-content/uploads/2025/04/A4-sports-VTT-scaled.jpg
ORGANIZER;CN="Service des sports":MAILTO:service.sports@bruaylabuissiere.fr
END:VEVENT
BEGIN:VEVENT
DTSTART;TZID=UTC:20250604T093000
DTEND;TZID=UTC:20250604T163000
DTSTAMP:20260422T052727
CREATED:20250528T065721Z
LAST-MODIFIED:20250528T065721Z
UID:32101-1749029400-1749054600@bruaylabuissiere.fr
SUMMARY:Semaine du logement des jeunes
DESCRIPTION:
URL:https://bruaylabuissiere.fr/event/semaine-du-logement-des-jeunes/
LOCATION:Résidence Habitats Jeunes\, 122 rue de l'Argentine\, Bruay-La-Buissière\, 62700
CATEGORIES:Echanges/rencontres,Jeunesse
ATTACH;FMTTYPE=image/jpeg:https://bruaylabuissiere.fr/wp-content/uploads/2025/05/FORUM-HABITAT-JEUNES.jpg
END:VEVENT
BEGIN:VEVENT
DTSTART;TZID=UTC:20250607T143000
DTEND;TZID=UTC:20250607T143000
DTSTAMP:20260422T052727
CREATED:20250414T092432Z
LAST-MODIFIED:20250414T092432Z
UID:31734-1749306600-1749306600@bruaylabuissiere.fr
SUMMARY:Super loto
DESCRIPTION:
URL:https://bruaylabuissiere.fr/event/super-loto-3/
LOCATION:Salle du Temps Libre\, rue des états-unis\, Bruay-la-buissière\, 62700
CATEGORIES:Asso,Loto
ATTACH;FMTTYPE=image/png:https://bruaylabuissiere.fr/wp-content/uploads/2025/04/07-06-25-Loto-Comite-des-Fetes-Basly.png
END:VEVENT
BEGIN:VEVENT
DTSTART;TZID=UTC:20250607T190000
DTEND;TZID=UTC:20250608T010000
DTSTAMP:20260422T052727
CREATED:20250407T113744Z
LAST-MODIFIED:20250407T113744Z
UID:31662-1749322800-1749344400@bruaylabuissiere.fr
SUMMARY:Bal country
DESCRIPTION:
URL:https://bruaylabuissiere.fr/event/bal-country-3/
LOCATION:Salle Georges Hurtrel\, Place du Rietz\, Bruay-la-buissière\, 62700
CATEGORIES:Asso,Danse
ATTACH;FMTTYPE=image/png:https://bruaylabuissiere.fr/wp-content/uploads/2025/04/07-06-25-Bal-Country-Love-Danse-Country.png
END:VEVENT
BEGIN:VEVENT
DTSTART;TZID=UTC:20250609T143000
DTEND;TZID=UTC:20250609T143000
DTSTAMP:20260422T052727
CREATED:20250418T065646Z
LAST-MODIFIED:20250418T070620Z
UID:31761-1749479400-1749479400@bruaylabuissiere.fr
SUMMARY:Super loto
DESCRIPTION:
URL:https://bruaylabuissiere.fr/event/super-loto-4/
LOCATION:Salle Marmottan\, Place Marmottan\, Bruay-la-buissière\, 62700
CATEGORIES:Asso,Loto
ATTACH;FMTTYPE=image/jpeg:https://bruaylabuissiere.fr/wp-content/uploads/2025/04/19-06-2025-Affiche-loto-Lavolville-scaled.jpg
END:VEVENT
BEGIN:VEVENT
DTSTART;TZID=UTC:20250613T190000
DTEND;TZID=UTC:20250613T190000
DTSTAMP:20260422T052727
CREATED:20250113T124607Z
LAST-MODIFIED:20250113T124607Z
UID:31041-1749841200-1749841200@bruaylabuissiere.fr
SUMMARY:Karaoké
DESCRIPTION:
URL:https://bruaylabuissiere.fr/event/karaoke-7/
LOCATION:Salle Marmottan\, Place Marmottan\, Bruay-la-buissière\, 62700
CATEGORIES:Arts & Culture,Asso
ATTACH;FMTTYPE=image/jpeg:https://bruaylabuissiere.fr/wp-content/uploads/2025/01/Karaoke-scaled.jpg
END:VEVENT
BEGIN:VEVENT
DTSTART;TZID=UTC:20250615T080000
DTEND;TZID=UTC:20250615T180000
DTSTAMP:20260422T052727
CREATED:20250402T061904Z
LAST-MODIFIED:20250402T061904Z
UID:31600-1749974400-1750010400@bruaylabuissiere.fr
SUMMARY:Vide grenier
DESCRIPTION:
URL:https://bruaylabuissiere.fr/event/vide-grenier-86/
CATEGORIES:Asso,Vide grenier
ATTACH;FMTTYPE=image/png:https://bruaylabuissiere.fr/wp-content/uploads/2025/04/Les-mamans-en-action-Vide-Grenier-15-06-25.png
END:VEVENT
BEGIN:VEVENT
DTSTART;TZID=UTC:20250619T193000
DTEND;TZID=UTC:20250619T193000
DTSTAMP:20260422T052727
CREATED:20250512T100013Z
LAST-MODIFIED:20250512T100013Z
UID:31970-1750361400-1750361400@bruaylabuissiere.fr
SUMMARY:Concert de l'Orchestre Symphonique
DESCRIPTION:
URL:https://bruaylabuissiere.fr/event/concert-de-lorchestre-symphonique-4/
LOCATION:place Bodelot\, rue Louis Dussart\, Bruay-La-Buissière\, 62700\, France
CATEGORIES:Arts & Culture,Concert,Concert classique,Spectacles & Concerts
ATTACH;FMTTYPE=image/jpeg:https://bruaylabuissiere.fr/wp-content/uploads/2025/05/A3-CONCERT-ORCH-SYMPH-2025-copie.jpg
ORGANIZER;CN="Orchestre synphonique de Bruay-La-Buissi%C3%A8re":MAILTO:os.inforesa22@gmail.com
END:VEVENT
BEGIN:VEVENT
DTSTART;TZID=UTC:20250620T200000
DTEND;TZID=UTC:20250621T223000
DTSTAMP:20260422T052727
CREATED:20250522T150632Z
LAST-MODIFIED:20250604T093410Z
UID:32070-1750449600-1750545000@bruaylabuissiere.fr
SUMMARY:Zik en bar
DESCRIPTION:
URL:https://bruaylabuissiere.fr/event/zik-en-bar-3/
LOCATION:Bruay La Buissière
CATEGORIES:Arts & Culture,Chanson du monde,Chanson française,Concert,Concert rock,Concert soul music,Spectacles & Concerts
ATTACH;FMTTYPE=image/jpeg:https://bruaylabuissiere.fr/wp-content/uploads/2025/05/2025-Affiche-Zik-en-bar-modif-scaled.jpg
END:VEVENT
BEGIN:VEVENT
DTSTART;TZID=UTC:20250621T203000
DTEND;TZID=UTC:20250621T203000
DTSTAMP:20260422T052727
CREATED:20250520T124001Z
LAST-MODIFIED:20250520T124001Z
UID:32015-1750537800-1750537800@bruaylabuissiere.fr
SUMMARY:Fête de la musique
DESCRIPTION:
URL:https://bruaylabuissiere.fr/event/fete-de-la-musique-5/
LOCATION:Place Marmottan\, Place Marmottan\, Bruay-La-Buissière\, 62700
CATEGORIES:Arts & Culture,Chanson française,Concert,Concert rock,Concert soul music,Rock alternatif,Spectacles & Concerts
ATTACH;FMTTYPE=image/jpeg:https://bruaylabuissiere.fr/wp-content/uploads/2025/05/2025-A4-Fete-de-la-musique-nouvelle-scaled.jpg
END:VEVENT
BEGIN:VEVENT
DTSTART;TZID=UTC:20250628T130000
DTEND;TZID=UTC:20250629T180000
DTSTAMP:20260422T052727
CREATED:20250520T101014Z
LAST-MODIFIED:20250520T101100Z
UID:32010-1751115600-1751220000@bruaylabuissiere.fr
SUMMARY:Fête Médiévale & Fantastique
DESCRIPTION:>> Retrouvez tout le programme de la plaquette ici
URL:https://bruaylabuissiere.fr/event/fete-medievale-fantastique-2/
LOCATION:Donjon de Labuissière\, Allée du château\, Bruay-La-Buissière\, 62700
CATEGORIES:Arts & Culture,Atelier,Commerce,Echanges/rencontres,Enfance,Festival,Intergénérationnel,Jeunesse,Séniors,Spectacles & Concerts
ATTACH;FMTTYPE=image/jpeg:https://bruaylabuissiere.fr/wp-content/uploads/2025/05/2025-Protocole-Fete-Medievale-scaled.jpg
END:VEVENT
END:VCALENDAR