BEGIN:VCALENDAR
VERSION:2.0
PRODID:-//Ville de Bruay-La-Buissière - ECPv6.9.1//NONSGML v1.0//EN
CALSCALE:GREGORIAN
METHOD:PUBLISH
X-ORIGINAL-URL:https://bruaylabuissiere.fr
X-WR-CALDESC:Évènements pour Ville de Bruay-La-Buissière
REFRESH-INTERVAL;VALUE=DURATION:PT1H
X-Robots-Tag:noindex
X-PUBLISHED-TTL:PT1H
BEGIN:VTIMEZONE
TZID:UTC
BEGIN:STANDARD
TZOFFSETFROM:+0000
TZOFFSETTO:+0000
TZNAME:UTC
DTSTART:20260101T000000
END:STANDARD
END:VTIMEZONE
BEGIN:VEVENT
DTSTART;TZID=UTC:20260203T143000
DTEND;TZID=UTC:20260203T143000
DTSTAMP:20260421T160020
CREATED:20260122T093226Z
LAST-MODIFIED:20260122T093226Z
UID:33699-1770129000-1770129000@bruaylabuissiere.fr
SUMMARY:Ateliers d'écriture
DESCRIPTION:
URL:https://bruaylabuissiere.fr/event/ateliers-decriture/
LOCATION:Médiathèque Marcel Wacheux\, 82 rue du Périgord\, Bruay-La-Buissière\, 62700
CATEGORIES:Arts & Culture,Atelier
ATTACH;FMTTYPE=image/jpeg:https://bruaylabuissiere.fr/wp-content/uploads/2026/01/2025-mediatheque-Atelier-decriture.jpg
END:VEVENT
BEGIN:VEVENT
DTSTART;TZID=UTC:20260204T154500
DTEND;TZID=UTC:20260204T164500
DTSTAMP:20260421T160020
CREATED:20260126T141117Z
LAST-MODIFIED:20260126T142507Z
UID:33792-1770219900-1770223500@bruaylabuissiere.fr
SUMMARY:L'heure du conte
DESCRIPTION:
URL:https://bruaylabuissiere.fr/event/lheure-du-conte-12/
LOCATION:Médiathèque Marcel Wacheux\, 82 rue du Périgord\, Bruay-La-Buissière\, 62700
CATEGORIES:Arts & Culture,Enfance,Lecture musicale
ATTACH;FMTTYPE=image/jpeg:https://bruaylabuissiere.fr/wp-content/uploads/2026/01/2025-mediatheque-Lheure-du-conte-et-spectacles.jpg
END:VEVENT
BEGIN:VEVENT
DTSTART;TZID=UTC:20260205T143000
DTEND;TZID=UTC:20260205T143000
DTSTAMP:20260421T160020
CREATED:20260126T143303Z
LAST-MODIFIED:20260126T143303Z
UID:33813-1770301800-1770301800@bruaylabuissiere.fr
SUMMARY:Atelier "lire et écrire en territoire"
DESCRIPTION:
URL:https://bruaylabuissiere.fr/event/atelier-lire-et-ecrire-en-territoire/
LOCATION:Médiathèque Marcel Wacheux\, 82 rue du Périgord\, Bruay-La-Buissière\, 62700
CATEGORIES:Arts & Culture,Atelier
ATTACH;FMTTYPE=image/jpeg:https://bruaylabuissiere.fr/wp-content/uploads/2026/01/2025-mediatheque-LIRE-ET-ECRIRE.jpg
END:VEVENT
BEGIN:VEVENT
DTSTART;TZID=UTC:20260206T124500
DTEND;TZID=UTC:20260206T133000
DTSTAMP:20260421T160020
CREATED:20260126T144322Z
LAST-MODIFIED:20260126T144322Z
UID:33831-1770381900-1770384600@bruaylabuissiere.fr
SUMMARY:Sieste musicale
DESCRIPTION:
URL:https://bruaylabuissiere.fr/event/sieste-musicale-13/
LOCATION:Médiathèque Marcel Wacheux\, 82 rue du Périgord\, Bruay-La-Buissière\, 62700
CATEGORIES:Arts & Culture,Siestes musicales
ATTACH;FMTTYPE=image/jpeg:https://bruaylabuissiere.fr/wp-content/uploads/2026/01/2025-mediatheque-SIESTE-MUSICALE.jpg
END:VEVENT
BEGIN:VEVENT
DTSTART;VALUE=DATE:20260207
DTEND;VALUE=DATE:20260216
DTSTAMP:20260421T160020
CREATED:20260127T091545Z
LAST-MODIFIED:20260130T145352Z
UID:33864-1770422400-1771199999@bruaylabuissiere.fr
SUMMARY:Exposition Dinosaures Parc
DESCRIPTION:
URL:https://bruaylabuissiere.fr/event/exposition-dinosaures-parc/
LOCATION:Place Marmottan\, Place Marmottan\, Bruay-La-Buissière\, 62700
CATEGORIES:Asso,Exposition
ATTACH;FMTTYPE=image/png:https://bruaylabuissiere.fr/wp-content/uploads/2026/01/07-02-26-Affiche-expo-dinosaures-1.png
END:VEVENT
BEGIN:VEVENT
DTSTART;TZID=UTC:20260207T100000
DTEND;TZID=UTC:20260207T110000
DTSTAMP:20260421T160020
CREATED:20260126T135924Z
LAST-MODIFIED:20260126T142604Z
UID:33778-1770458400-1770462000@bruaylabuissiere.fr
SUMMARY:Éveil musical
DESCRIPTION:
URL:https://bruaylabuissiere.fr/event/eveil-musical-5/
LOCATION:Médiathèque Marcel Wacheux\, 82 rue du Périgord\, Bruay-La-Buissière\, 62700
CATEGORIES:Arts & Culture,Enfance,Lecture musicale
ATTACH;FMTTYPE=image/jpeg:https://bruaylabuissiere.fr/wp-content/uploads/2026/01/2025-mediatheque-EVEIL-MUSICAL.jpg
END:VEVENT
BEGIN:VEVENT
DTSTART;TZID=UTC:20260207T140000
DTEND;TZID=UTC:20260207T170000
DTSTAMP:20260421T160020
CREATED:20260122T093755Z
LAST-MODIFIED:20260122T093755Z
UID:33707-1770472800-1770483600@bruaylabuissiere.fr
SUMMARY:Atelier vocal
DESCRIPTION:
URL:https://bruaylabuissiere.fr/event/atelier-vocal/
LOCATION:Médiathèque Marcel Wacheux\, 82 rue du Périgord\, Bruay-La-Buissière\, 62700
CATEGORIES:Arts & Culture,Atelier
ATTACH;FMTTYPE=image/jpeg:https://bruaylabuissiere.fr/wp-content/uploads/2026/01/2025-mediatheque-Atelier-vocal.jpg
END:VEVENT
BEGIN:VEVENT
DTSTART;TZID=UTC:20260207T200000
DTEND;TZID=UTC:20260207T200000
DTSTAMP:20260421T160020
CREATED:20251118T131533Z
LAST-MODIFIED:20251118T131533Z
UID:33383-1770494400-1770494400@bruaylabuissiere.fr
SUMMARY:Les acteurs TV en concert
DESCRIPTION:
URL:https://bruaylabuissiere.fr/event/les-acteurs-tv-en-concert/
LOCATION:Espace Culturel Grossemy\, Cours Kennedy\, Bruay-La-Buissière\, 62700
CATEGORIES:Arts & Culture,Chanson du monde,Chanson française,Concert,Spectacles & Concerts
ATTACH;FMTTYPE=image/jpeg:https://bruaylabuissiere.fr/wp-content/uploads/2025/11/ACTEURS-TV.jpg
END:VEVENT
BEGIN:VEVENT
DTSTART;TZID=UTC:20260207T200000
DTEND;TZID=UTC:20260208T010000
DTSTAMP:20260421T160020
CREATED:20260113T132334Z
LAST-MODIFIED:20260113T132334Z
UID:33629-1770494400-1770512400@bruaylabuissiere.fr
SUMMARY:Soirée dansante
DESCRIPTION:
URL:https://bruaylabuissiere.fr/event/soiree-dansante/
LOCATION:Salle Marmottan\, Place Marmottan\, Bruay-la-buissière\, 62700
CATEGORIES:Asso
ATTACH;FMTTYPE=image/png:https://bruaylabuissiere.fr/wp-content/uploads/2026/01/07-02-2026-Harmonie-municipale-Soiree-8090s-2026.png
END:VEVENT
BEGIN:VEVENT
DTSTART;TZID=UTC:20260211T180000
DTEND;TZID=UTC:20260211T180000
DTSTAMP:20260421T160020
CREATED:20260126T143648Z
LAST-MODIFIED:20260126T143648Z
UID:33824-1770832800-1770832800@bruaylabuissiere.fr
SUMMARY:Apéro littéraire
DESCRIPTION:
URL:https://bruaylabuissiere.fr/event/apero-litteraire/
LOCATION:Médiathèque Marcel Wacheux\, 82 rue du Périgord\, Bruay-La-Buissière\, 62700
CATEGORIES:Arts & Culture
ATTACH;FMTTYPE=image/jpeg:https://bruaylabuissiere.fr/wp-content/uploads/2026/01/2025-mediatheque-LIRE-ET-ECRIRE.jpg
END:VEVENT
BEGIN:VEVENT
DTSTART;VALUE=DATE:20260213
DTEND;VALUE=DATE:20260301
DTSTAMP:20260421T160020
CREATED:20260113T132559Z
LAST-MODIFIED:20260113T132559Z
UID:33632-1770940800-1772323199@bruaylabuissiere.fr
SUMMARY:Fête foraine d'hiver
DESCRIPTION:
URL:https://bruaylabuissiere.fr/event/fete-foraine-dhiver/
LOCATION:place Bodelot\, rue Louis Dussart\, Bruay-La-Buissière\, 62700\, France
CATEGORIES:Asso,Fête foraine
ATTACH;FMTTYPE=image/png:https://bruaylabuissiere.fr/wp-content/uploads/2026/01/13-au-28-02-2026-fete-foraine-dhiver.png
END:VEVENT
BEGIN:VEVENT
DTSTART;TZID=UTC:20260213T180000
DTEND;TZID=UTC:20260213T180000
DTSTAMP:20260421T160020
CREATED:20260126T145111Z
LAST-MODIFIED:20260126T145111Z
UID:33844-1771005600-1771005600@bruaylabuissiere.fr
SUMMARY:Club lecture
DESCRIPTION:
URL:https://bruaylabuissiere.fr/event/club-lecture-22/
LOCATION:Médiathèque Marcel Wacheux\, 82 rue du Périgord\, Bruay-La-Buissière\, 62700
CATEGORIES:Arts & Culture,Lecture
ATTACH;FMTTYPE=image/jpeg:https://bruaylabuissiere.fr/wp-content/uploads/2026/01/2025-mediatheque-LECTURE.jpg
END:VEVENT
BEGIN:VEVENT
DTSTART;TZID=UTC:20260214T143000
DTEND;TZID=UTC:20260214T143000
DTSTAMP:20260421T160020
CREATED:20260122T093510Z
LAST-MODIFIED:20260122T093510Z
UID:33704-1771079400-1771079400@bruaylabuissiere.fr
SUMMARY:Bas les masques saison 2
DESCRIPTION:
URL:https://bruaylabuissiere.fr/event/bas-les-masques-saison-2/
LOCATION:Médiathèque Marcel Wacheux\, 82 rue du Périgord\, Bruay-La-Buissière\, 62700
CATEGORIES:Arts & Culture,Atelier
ATTACH;FMTTYPE=image/jpeg:https://bruaylabuissiere.fr/wp-content/uploads/2026/01/2025-mediatheque-BAS-LES-MASQUES.jpg
END:VEVENT
BEGIN:VEVENT
DTSTART;TZID=UTC:20260221T140000
DTEND;TZID=UTC:20260221T140000
DTSTAMP:20260421T160020
CREATED:20260113T132804Z
LAST-MODIFIED:20260113T132804Z
UID:33635-1771682400-1771682400@bruaylabuissiere.fr
SUMMARY:Thé dansant
DESCRIPTION:
URL:https://bruaylabuissiere.fr/event/the-dansant-25/
LOCATION:Salle du Temps Libre\, rue des états-unis\, Bruay-la-buissière\, 62700
CATEGORIES:Asso
ATTACH;FMTTYPE=image/png:https://bruaylabuissiere.fr/wp-content/uploads/2026/01/21-02-2026-The-dansant-Musciens-en-Fete.png
ORGANIZER;CN="Les musiciens en f%C3%AAte":MAILTO:orchestra.yskras@gmail.fr
END:VEVENT
BEGIN:VEVENT
DTSTART;TZID=UTC:20260225T150000
DTEND;TZID=UTC:20260225T150000
DTSTAMP:20260421T160020
CREATED:20260126T141820Z
LAST-MODIFIED:20260126T142642Z
UID:33803-1772031600-1772031600@bruaylabuissiere.fr
SUMMARY:Spectacle de contes
DESCRIPTION:
URL:https://bruaylabuissiere.fr/event/spectacle-de-contes-5/
LOCATION:Médiathèque Marcel Wacheux\, 82 rue du Périgord\, Bruay-La-Buissière\, 62700
CATEGORIES:Arts & Culture,Enfance
ATTACH;FMTTYPE=image/jpeg:https://bruaylabuissiere.fr/wp-content/uploads/2026/01/2025-mediatheque-Lheure-du-conte-et-spectacles.jpg
END:VEVENT
BEGIN:VEVENT
DTSTART;TZID=UTC:20260227T200000
DTEND;TZID=UTC:20260227T200000
DTSTAMP:20260421T160020
CREATED:20251118T132943Z
LAST-MODIFIED:20251118T132943Z
UID:33399-1772222400-1772222400@bruaylabuissiere.fr
SUMMARY:Charlie Winston
DESCRIPTION:
URL:https://bruaylabuissiere.fr/event/charlie-winston/
LOCATION:Espace Culturel Grossemy\, Cours Kennedy\, Bruay-La-Buissière\, 62700
CATEGORIES:Arts & Culture,Chanson du monde,Concert,Concert rock,Spectacles & Concerts
ATTACH;FMTTYPE=image/jpeg:https://bruaylabuissiere.fr/wp-content/uploads/2025/11/WINSTON.jpg
END:VEVENT
BEGIN:VEVENT
DTSTART;TZID=UTC:20260228T100000
DTEND;TZID=UTC:20260228T104500
DTSTAMP:20260421T160020
CREATED:20260126T133709Z
LAST-MODIFIED:20260126T133709Z
UID:33766-1772272800-1772275500@bruaylabuissiere.fr
SUMMARY:Atelier snoezelen
DESCRIPTION:
URL:https://bruaylabuissiere.fr/event/atelier-snoezelen/
LOCATION:Médiathèque Marcel Wacheux\, 82 rue du Périgord\, Bruay-La-Buissière\, 62700
CATEGORIES:Arts & Culture
ATTACH;FMTTYPE=image/jpeg:https://bruaylabuissiere.fr/wp-content/uploads/2026/01/2025-mediatheque-SNOEZELEN.jpg
END:VEVENT
BEGIN:VEVENT
DTSTART;TZID=UTC:20260228T143000
DTEND;TZID=UTC:20260228T143000
DTSTAMP:20260421T160020
CREATED:20260122T092832Z
LAST-MODIFIED:20260122T092832Z
UID:33695-1772289000-1772289000@bruaylabuissiere.fr
SUMMARY:T'as le look coco
DESCRIPTION:
URL:https://bruaylabuissiere.fr/event/tas-le-look-coco/
LOCATION:Médiathèque Marcel Wacheux\, 82 rue du Périgord\, Bruay-La-Buissière\, 62700
CATEGORIES:Arts & Culture,Atelier
ATTACH;FMTTYPE=image/jpeg:https://bruaylabuissiere.fr/wp-content/uploads/2026/01/2025-mediatheque-Tas-le-look-coco-1.jpg
END:VEVENT
END:VCALENDAR